Workbook
Name _: "$#REF!.$A$2"
Name aqw: 'A033 - bezetting nov23'!#REF!
Name asd: 'A352 - bezetting jun24'!#REF!
Name asw: 'bezetting X089'!#REF!
Name asw: 'X012 85 89 herfstvakantie 2023'!#REF!
Name asw: 'X012 85 89 kerstvak 2023-2024'!#REF!
Name asw: 'X012 85 89 meivakantie 2024'!#REF!
Name asw: 'X012 85 89 voorjaarsvak 2024'!#REF!
Name asx: #REF!
Name asx: #REF!
Name asx: #REF!
Name bnm: 'X012 85 89 herfstvakantie 2023'!$CK$4:$CL$73
Name bustypes: "$#REF!.$C$58:$E$66"
Name capac: "$#REF!.$#REF!$#REF!:$#REF!$#REF!"
Name concessienaam: OFFSET(#REF!,,,COUNTA(#REF!),1)
Name concessienaam: OFFSET(#REF!,,,COUNTA(#REF!),1)
Name concessienaam: OFFSET(#REF!,,,COUNTA(#REF!),1)
Name concessienaam: OFFSET(#REF!,,,COUNTA(#REF!),1)
Name concessies: OFFSET(#REF!,,,COUNTA(#REF!),2)
Name concessies: OFFSET(#REF!,,,COUNTA(#REF!),2)
Name concessies: OFFSET(#REF!,,,COUNTA(#REF!),2)
Name concessies: OFFSET(#REF!,,,COUNTA(#REF!),2)
Name connr: #REF!
Name connr: #REF!
Name connr: #REF!
Name connr: #REF!
Name cvb: 'X012 85 89 kerstvak 2023-2024'!$BN$6:$BO$55
Name Draaitabelgegevens: OFFSET(#REF!,,,COUNTA(#REF!)+1,26)
Name Draaitabelgegevens: OFFSET(#REF!,,,COUNTA(#REF!)+1,26)
Name Draaitabelgegevens: OFFSET(#REF!,,,COUNTA(#REF!)+1,26)
Name Draaitabelgegevens: OFFSET(#REF!,,,COUNTA(#REF!)+1,26)
Name minvert1: OFFSET(#REF!,,,COUNTA(#REF!),2)
Name minvert1: OFFSET(#REF!,,,COUNTA(#REF!),2)
Name minvert1: OFFSET(#REF!,,,COUNTA(#REF!),2)
Name minvert1: OFFSET(#REF!,,,COUNTA(#REF!),2)
Name minvert2: OFFSET(#REF!,,,COUNTA(#REF!),2)
Name minvert2: OFFSET(#REF!,,,COUNTA(#REF!),2)
Name minvert2: OFFSET(#REF!,,,COUNTA(#REF!),2)
Name minvert2: OFFSET(#REF!,,,COUNTA(#REF!),2)
Name minvert3: OFFSET(#REF!,,,COUNTA(#REF!),2)
Name minvert3: OFFSET(#REF!,,,COUNTA(#REF!),2)
Name minvert3: OFFSET(#REF!,,,COUNTA(#REF!),2)
Name minvert3: OFFSET(#REF!,,,COUNTA(#REF!),2)
Name minvertrek: OFFSET(#REF!,,,COUNTA(#REF!),2)
Name minvertrek: OFFSET(#REF!,,,COUNTA(#REF!),2)
Name minvertrek: OFFSET(#REF!,,,COUNTA(#REF!),2)
Name minvertrek: OFFSET(#REF!,,,COUNTA(#REF!),2)
Name mko: 'X012 85 89 herfstvakantie 2023'!$CP$118:$CQ$165
Name qas: #REF!
Name qas: #REF!
Name qas: 'X005 - bezetting'!$CS$5:$CU$315
Name qas: 'X015 - bezetting'!$CS$5:$CU$379
Name qas: #REF!
Name qas: #REF!
Name QAZ: 'A009 - bezetting'!#REF!
Name qaz: #REF!
Name qaz: 'A014 A011 A331 - in uitstap'!$A$17:$A$18
Name qaz: #REF!
Name qaz: #REF!
Name qaz: #REF!

Sheet overzicht wensen
B2: Overzicht voorgestelde wijzigingen dr 2025 SAN | G2: =SUM(Tabel1[gevolgen dru]) -> -11430 | AD2: overall effekt op gewogen dru ®
B3: lijn | C3: omschrijving voorstel | D3: concreet | E3: opmerkingen | F3: advies/voorstel | G3: gevolgen dru
B4: A005 A062 | C4: Beter spreiden op Johan de Wittlaan? | E4: Beide lijnen rijden af en toe achter elkaar aan op de JdWlaan. Let op: kan niet altijd voorkomen worden. Spreiden op de JdW kan immers ertoe leiden dat lijn 5 in Ahm Zd weer te dicht op lijn 1 rijdt. | F4: Wordt uitgewerkt. | G4: 0
B5: A008 | C5: Eindpunt verleggen van Parking Pres. Kennedysingel naar halte Gasthuislaan. | E5: zie bijlagen met plattegrond, in-uitstappers en bezettingscijfers | F5: Advies Breng: doen, de huidige eindhalte heeft geen meerwaarde. De halte Velperbroek vervalt hierdoor ook voor lijn 8 maar de lijnen 26 en 27 blijven deze halte bedienen. | G5: 0
B6: A009 | C6: Is doorrijden naar IPC nog wel noodzakelijk, zit vrijwel nooit iemand in. | D6: Uit chauffeursoverleg. | E6: zie bijlagen met in-uitstappers en bezettingscijfers | F6: Advies Breng: niet doen, inkorten tot Koningsweg betekent dat je 4-5 haltes niet aandoet die op dagbasis ca. 35-40 instappers genereren. Tegelijkertijd introduceert de halterrreistaxi een "soortement" dr tussen het AIC en Arnhem CS | G6: 0
B7: A009 A010 | C7: Kennen beide halte Schelmseweg, zijn echter 2 verschillende haltes | D7: Halte lijn 9 ligt op de kruising Bakenbergseweg x Schelmseweg. Halte lijn 10 ligt op de Amsterdamseweg bij de Jacob Marislaan. | F7: We hernoemen de halte Schelmseweg van lijn 10 (en 105) naar Heijenoordseweg (naar de voorliggende zijstraat). | G7: 0
B8: A010 E105 | C8: Route verleggen naar Amsterdamseweg | D8: Agv verkeersveiligheidsmaatregelen in Heijenoord. Voorstel is om lijn 10 te beperken tot MV schooldagen als spitsversterking van lijn 105. Zie de bijlagen voor de ritten die we willen behouden. | E8: Afhankelijk van feitelijke start werkzaamheden. zie bijlagen met in-uitstappers en bezettingscijfers en frequentie-overzicht 105. In de schoolvakanties rijdt lijn 105 slechts 1x per uur, ook in de spits en ook op zaterdag. Overwegen om hier lijn 10 te laten verdichten danwel lijn 105 spitsverdichtingen te geven. | F8: Planning reconstructie is nog niet "hard". Als de definitieve ingangsdatum vroeg in 2025 ligt (was Q2 2025) gaan we per dec24 uit de wijk. Inmiddels gesprek gehad met zorginstellingen nabij halte Het Dorp. Zij begrijpen dat lijn 10 handhaven op de huidige route onhaalbaar is, hebben twijfels over de buurtbus en vragen of het haalbaar is om lijn 10 via de Amsterdamseweg en een keerlus bij het Dorp te laten rijden. | G8: -2000
B9: A014 X003 A331 | C9: Betere spreiding in dr tijden langs Oosterhout | F9: Wordt uitgewerkt. | G9: 0
B10: A014 X003 X005 | C10: Extra halte Nyma tussen huidige gelijknamige halte en de Ferry Portierstraat. | D10: Voorstel via gem Nijmegen, is reeds eerder akkoord op gegeven. | E10: zie bijlage voor tekening van het voorstel | F10: Advies Breng: akkoord, zodra halte gerealiseerd is wordt deze opgenomen in de routes van de betreffende lijnen. | G10: 0
B11: A014 | C11: Herroutering in Arnhem nabij Gelderse Poort? | D11: Betreft het gemeentelijk voorstel van vorig jaar. Met verzoek van de gemeente Arnhem om dit nogmaals te beoordelen. | E11: zie bijlage voor tekening van het voorstel | F11: Advies Breng: nu niet doen. De haltes Stikkerstraat en Gelderse Poort (huidig) zijn drukke haltes. Mede door het AZC. De omgeving van het OHRA gebouw wordt uitstekend bediend met HOV 331 via de halte Randweg. Als er nadrukkelijk behoefte is aan strekken kan dit overwogen worden. | G11: 0
B12: A021 | C12: Medio 2025 weer koppelen aan A001 ri Arnhem, de Laar met trolleyinzet? | D12: In de rijtijd van lijn A021 zit heel veel extra tijd om de vertragingen tgv. de werkzaamheden op te kunnen vangen. | E12: let op: besparing is op jaarbasis | G12: -3500
B13: A033 A300 | C13: Beter spreiden in Huissen? Met ev. spitsverdichtingen op lijn 33 laten vervallen. | E13: Is, bij geoptimaliseerde spreiding, de verdichting van lijn 33 tussen Huissen en Arnhem nog noodzakelijk? Ofwel: kunnen we de vak-dr van A033 permanent rijden op MV. Zie ook de bezettingscijfers van A033 en A300 in de bijlagen. In de bezettingscijfers van lijn 300 is te zien waar de extra reizigers van de vervallen ritten van lijn 33 bij komen. Waarnodig wordt uiteraard versterkt op; lijn 300 | F13: Advies Breng: doen. Het laten vervallen van de spitsverdichtingen op lijn 33 tussen Ahm-Hsn kan maar leidt wel tot vrij volle bussen op lijn 300. Als er bussen struktureel overlopen wordt er versterkt op de betreffende rit tussen Huissen en Arnhem. Zie bezettingscijfers A033 en A300. In de cijfers van A300 is in de gele balken aangegeven waar en wanneer de extra reizigers erbij komen. | G13: -650
B14: A035 | C14: Realisatie eindpunt Zetten. | D14: Het streven is om lijn 35 uit de kern te halen en op en neer te laten rijden naar eindpunt Zetten, Lingebrug. Dat vergt een eindpunt / keerpunt voor lijn 35. | E14: Betreft een gemeentelijke taak iov / ovv de provincie Gelderland. zie bijlage voor tekening van het voorstel | F14: Wordt ws. niet in 2024 gerealiseerd en heeft derhalve géén dr-consequenties voor dr 2025. | G14: 0
B15: A056 | C15: extra halte op de Metamorfosealleen | D15: ingaande augustus kan deze halte worden toegevoegd aan de route van lijn 5. | F15: Advies Breng: doen, is al eerder besproken en geaccordeerd maar wordt nu feitelijk gerealiseerd. | G15: 0
B16: A056 | C16: In Heteren wordt al langere tijd gesproken over een eindpuntroute met een keermogelijkheid bij de halte Beemdhof. | D16: Betreft een gemeentelijk voorstel. | E16: zie bijlagen met plattegrond | F16: Wordt ws. niet in 2024 gerealiseerd en heeft derhalve géén dr-consequenties voor dr 2025. | G16: 0
B17: A060 | C17: Strekken van de route in Babberich en Herwen | D17: Al langer bestaand provinciaal infraplan, wordt dit jaar ws. gerealiseerd | E17: zie bijlagen met plattegrond, in-uitstappers en bezettingscijfers | F17: Zodra infra is aangepast worden de nieuwe routes opgenomen in de dienstregeling. | G17: -500
B18: A061 | C18: Extra halte nabij Fresh&Fastpark. | D18: Verzoek van gem. Duiven Westervoort. | E18: Gaat om een extra halte nabij de kruising Rivierweg x Nieuwgraaf bij de bestaande KFC. Zie bijlagen met plattegrond. | F18: Advies Breng: akkoord mits adequate oversteekvoorziening kan worden gerealiseerd. Het voorstel betreft een halte aan een zeer druk kruispunt. | G18: 0
B19: A062 | C19: Verzoek gem Duiven-Westervoort om te bekijken of lijn 62 dichter bij de nieuw te bouwen woningen in Duiven Zuid kan worden gebracht | E19: zie bijlagen met in-uitstappers en bezettingscijfers en plattegrond. | F19: Advies Breng: niet doen. Maak van halte Eilandplein een HUB fiets-OV en richt deze goed in met oa. meer en betere fietsenstallingen. | G19: 0
B20: A300 | C20: Promotie van de P&R ritten door de gemeente Nijmegen. | E20: Betreft gemeentelijke toezegging om het gebruik van P&R Nmg Nrd te stimuleren met communicatie aktiviteiten. Geen dr-consequenties. | G20: 0
B21: A331 | C21: Halte Lent, Citadel College is vervallen. | E21: Na overleg tussen de gemeente Nijmegen, de provincie Gelderland en Breng is besloten om deze halte te schrappen onder verwijzing naar de nieuwe halte Hof van Holland. | F21: De wijziging is reeds doorgevoerd. | G21: 0
B22: A331 | C22: Halte Elst, Poli Elst opwaarderen cf. richtlijnen zodat lijn 331 hier normaal kan halteren. | E22: Betreft een gemeentelijke taak iov / ovv de provincie Gelderland. | F22: Voorstel heeft geen dr-consequenties. | G22: 0
B23: A352 | C23: Beperken tot trajekt WgnBus - AhmCS, dus niet meer doorrijden naar Velperplein. | E23: Wel nog toetsen of het kan qua accucapaciteit cq. bijlaadsnelheid. We rijden pas vanaf 12 mei dus moeten even wachten op adequate verbruikscijfers en laaddata. | F23: Is een effectieve manier om veel dru te besparen omdat er natuurlijk al heel veel bussen tussen CS en Centrum rijden. | G23: -6500
B24: A352 | C24: Haltereduktie lijn 352 en verbeterde doorstroming langs Heelsum en Renkum. | D24: Waarschijnlijk niet voor dr 2025 maar het oude plan wel weer bespreken nu de afdeling Verkeer van de gemeente Renkum weer op sterkte is (en zonder inhuur). | F24: Overleg met Renkum cq. Johan Ebbenhorst wordt opgestart. | G24: 0
B25: A352 | C25: Verzoek om door te rijden naar de WUR | D25: Ovv. provincie ingaande nwe dr 2025. | F25: Technisch niet haalbaar zonder aanvullend stukje bovenleiding. | G25: 0
B26: A352 | C26: Wens voor een verbinding Utrechtsestraat - Station Oosterbeek. | D26: Verzoek via de gemeente Renkum. | F26: Advies Breng: niet doen: geen enkele reiziger reist lokaal naar een halte aan de Utrechtsestraat om de laatste 500 mtr over te stappen op een pendelbus naar het Station. Voor zover relevant, de buurtbussen 589 en 590 bieden deze verbinding al, via het Gemeentehuis | G26: 0
B27: A352 | C27: Goede overstap tussen 303 en 352 borgen. | D27: Wordt zo goed mogelijk vormgegeven. Maar verschillende tussentijdse wijzigingen in Veluwe Zuid en niet in SAN verhinderen optimale afstemming in 2024. | E27: Voor dr 2025 is afstemming natuurlijk wel weer mogelijk gegeven de gelijke ingangsdatum voor dr 2025. | F27: Wordt uitgewerkt. | G27: 0
B28: A500 | C28: Buurtbus Heijenoord en ev. Klarendal | D28: Waarbij de buurtbus de route gaat rijden die lijn 10 noodgedwongen moet verlaten. | E28: De wijkraad heeft inmiddels eerste stappen gezet in het benaderen van vrijwilligers. | G28: 0
B29: diverse lijnen | C29: Rijtijdmetingen | D29: De rijtijd in met name Nijmegen loopt sterk op door notoire knelpunten; Singels, Waalbrug, Radboud, A73, markt etc. | E29: Zie ook mobiliteit.nl waarin overheden en de vervoersector waarschuwen voor dichtslibben van Nederland. | F29: De rijtijdtoename zit voor een belangrijk deel in Nijmegen. Suggestie om ev. compenserende maatregelen dan ook in Nijmegen door te voeren. | G29: 3750
B30: Niteliners | C30: Mn. verzoeken uit Rheden en Wageningen voor herstel van "hun" niteliners. | E30: zie bijlagen voor bezettingscijfers van de niteliners pré-corona. | F30: Nog niet doen gegeven de budgettaire beperkingen. | G30: 0
B31: X002 | C31: Gewijzigde route van Lindenholt naar CS en verder. | D31: Met als achterliggende gedachte: snelle verbinding tussen P&R Nmg West, centrum en station. | E31: zie bijlagen voor routekaartje van het voorstel | F31: Op termijn wellicht zinvol. Breng advies: koppel dit aan een gewijzigde route van HOV331 naar Heyendaal. Dan kan de stadslijn Weezenhof/Aldenhof de bediening van de haltes langs de Graafseweg weer op zich nemen. Verder van belang: de West Entree van Nijmegen CS. Die kan vergaande consequenties hebben voor de lijnvoering vanuit de westkant van Nijmegen. | G31: 0
B32: X002 X005 X008 | C32: op zaterdagochtend enkele ritten schrappen zodat alle stadslijnen rond 10:00u beginnen met de verdichting van 2x naar 4x pu. | F32: Advies Breng: doen. Maakt de dienstregeling eenduidiger terwijl er toch 2x pu bussen blijven rijden op de zaterdagochtend tot 10:00u | G32: -750
B33: X002 X008 X012 X015 X099 X331 | C33: Ontwikkeling Winkelsteeeg (+4600 woningen) en verwachte gevolgen voor betrokken buslijnen. | D33: Niet voor dr 2025 maar wel nu meenemen in planontwikkeling. | E33: Betreft het gebied ten zuidwesten van Station Goffert | F33: We zijn betrokken bij het overleg over dit dossier. | G33: 0
B34: X003 | C34: Eindpunt lijn 3 in Oosterhout verbeteren; van blokje om naar een echt keerpunt. | E34: Aktie voor de gemeente Nijmegen. | F34: Zodra het keerpunt wordt gerealiseerd past Breng de route cq. de dienstregeling van lijn 3 in Oosterhout aan. | G34: 0
B35: X004 | C35: Aansluiten op de bus of toch de trein? | F35: Keuze nog te maken. | G35: 0
B36: X005 | C36: Eindpunt verleggen van Tiberiuslaan naar Ewijk Zuid | D36: Niet voor dr 2025, wel aankondigen om voornemen alvast in te laten werken | F36: We zijn betrokken bij het overleg over dit dossier. | G36: 0
B37: X008 | C37: Gemeente Berg en Dal neemt inframaatregelen op de Oude Kleefsebaan (wegversmallingen). Als die de doorstroming hinderen heeft dit waarschijnlijk consequenties voor de dienstregeling van lijn 8 (route, frequentie, bedieningsperiode). | F37: Ev. consequenties voor lijn 8 worden nog niet zichtbaar in dr 2025 (ingaande dec 2024). | G37: 0
B38: X009 | C38: Halte Kasteelseweg laten vervallen, ligt niet veilig en is slechts een paal in de grond (uit chauffeursoverleg). | D38: aantal instappers is verwaarloosbaar | E38: zie bijlagen met in-uitstappers | F38: Advies Breng: doen, deze halte kent gemiddeld minder dan 1 instapper per werkdag. In het weekend wordt de halte niet gebruikt. | G38: 0
B39: X009 | C39: Route via Heumen (uit chauffeursoverleg). | D39: Uit chauffeursoverleg. | F39: In principe een goed voorstel maar doorstroming op de A73 is nog wel een essentieel punt. Vluchtstrookgebruik is een mogelijke optie. Heumen heeft een motie aangenomen voor het inrichten van een P&R aan de rand van het dorp. Ook van belang: overleg met de buurtbus 561 ivm mogelijke concurrentie op de weg. Nog veel aspekten dus. Daarmee geen voorstel voor dr 2025. | G39: 0
B40: X012 | C40: In de schoolvakanties niet laten rijden. Nu is dat alleen nog de zomervakantie. | D40: Suggestie vanuit het rayon. | E40: zie bijlagen met reizigerskilometers per week van lijn X012 alsmede de bezettingscijfers van de lijnen X012, X085 en X089 die aantonen dat er meer dan voldoende capaciteit is in deze beide lijnen om het wegvallen van lijn X012 (in de schoolvakanties) te compenseren. tussen Radboud en CS rijden zoveel bussen dat er hier altijd voldoende capaciteit is in de vakanties. | F40: Advies Breng: doen, Druten houdt met lijn 89 (2x pu) en lijn 85 (2x pu) nog steeds een prima verbinding met Nijmegen. | G40: -1000
B41: X012 X085 X089 | C41: Realisatie HOV Knoop Druten | D41: Opwaardering van het huidige busstation. | E41: Breng is betrokken bij dit projekt. | G41: 0
B42: X076 | C42: Bedieningsperiode beperken tot de wintermaanden nov, dec, jan en feb. Daarbij uitsluitend de ochtendrit rijden en de middagrit volledig laten vervallen | E42: zie bijlagen voor bezettingscijfers per maand | F42: Advies Breng: doen, de reizigersaantallen in de zomermaanden zijn zeer beperkt. Blijkbaar zijn er alternatieven in de reguliere lijnen en/of de fiets. Hetzelfde geldt voor de middagritten. | G42: -250
B43: X076 X080 | C43: Haltes Industrieterrein, Biesterveld, Molen en Eversberg (allen beide richtingen) laten vervallen (uit chauffeursoverleg). | D43: Liggen allemaal onveilig op een 80 km/h weg met onoverzichtelijke bochten en zijn slechts palen in de grond. | E43: zie bijlagen met in-uitstappers | F43: Advies Breng: doen, deze haltes kennen gemiddeld slechts 0-1 instapper per dag. De halte Kekerdom, Eversberg doet het een fractie beter met 2-4 instappers per dag. Deze halte wellicht handhaven. | G43: 0
B44: X080 | C44: Routes Ooij en Erlecom aanpassen agv. afwaardering wegen rondom Erlecom? | E44: Overleg Provincie, Breng (infra), gem. Berg en Dal afwachten. | F44: zonder definitief besluit geen dru consequenties | G44: 0
B45: X080 | C45: Strekken Beek Ubbergen nav. plannen gem Nijmegen met GOW30 | D45: oud initiatief maar met nieuwe aanleiding | F45: Ws. nog niet voor dr 2025 maar zo snel mogelijk, irt plannen gem. Nijmegen voor busbaan vanaf Ubbergen ri Nijmegen. | G45: 0
B46: X085 | C46: Versnelling cq. verzoek om aantal haltes langs de v. Heemstraweg te reduceren. Ook iom. gem. Beuningen. | D46: Verzoek van gem Druten-Wijchen. | E46: zie bijlagen met in-uitstappers | F46: Ws. nog niet voor dr 2025 maar wel dit jaar in overleg over haltereduktie. | G46: 0
B47: X089 | C47: Lokale ochtendspitsritten (ritnr 10 en 14) en inkorten van P&R Nijmegen West tot Dr. de Blécourtstraat. | D47: Verzoek vanuit het rayon. | E47: zie bijlagen met bezettingscijfers | F47: Advies Breng: doen, na de Blécourtstraat kennen deze ritten geen passagiers. | G47: -30
B48: X562 | C48: Verzoek om bubu X562 via station Mook Molenhoek te laten rijden. | E48: BBV Rijk van Nijmegen heeft het verzoek naast zich neergelegd. | F48: BBV RvN / Breng, niet doen ● de omloop is te kort om deze routeverlenging te kunnen invullen ● vanuit Groesbeek rijdt lijn 564 naar het station, vanuit Malden lijn 569. De BBV onderschrijft deze argumenten tegen de routewijziging van lijn 562 | G48: 0
B49: X564 | C49: Verzoek om halte Jachtslot Mookerhei toe te voegen. | E49: BBV Rijk van Nijmegen kan hier niet mee instemmen. | F49: BBV RvN / Breng, niet doen ● de omloop is te kort om deze routeverlenging van ca. 2 min. te kunnen invullen ● de infra op het terrein van het Jachtslot is te krap. Een toegangsweg met éénrichtingsverkeer in 2 richtingen benutten is al lastig. Bovendien is de weg bij tegenliggers simpelweg te krap. | G49: 0

Sheet A008 - voorstel routewijziging

Sheet A008 - bezetting
A1: categorisering bezetting | B1: 0 | C1: 8 | D1: 25 | E1: 65
B2: =C1-0.00001 -> 7.99999 | C2: =D1-0.00001 -> 24.99999 | D2: =E1-0.00001 -> 64.99999 | E2: 999
A5: bezettingstelling lijn 8 - van ARNHEM CS - VELP - werkdagen | bron: chipkaart gegevens november 2023 | 80 percentiel waarde
A6: ritnummer | B6: 1 | C6: 3 | D6: 5 | E6: 7 | F6: 9 | G6: 11 | H6: 13 | I6: 15 | J6: 17 | K6: 19 | L6: 21 | M6: 23 | N6: 25 | O6: 27 | P6: 29 | Q6: 31 | R6: 33 | S6: 35 | T6: 37 | U6: 39 | V6: 41 | W6: 43 | X6: 45 | Y6: 47
A7: vertrektijd beginhalte | B7: 0.28472222 | C7: 0.30555556 | D7: 0.32638889 | E7: 0.34722222 | F7: 0.36805556 | G7: 0.38888889 | H7: 0.40972222 | I7: 0.43055556 | J7: 0.45138889 | K7: 0.47222222 | L7: 0.49305556 | M7: 0.51388889 | N7: 0.53472222 | O7: 0.55555556 | P7: 0.57638889 | Q7: 0.59722222 | R7: 0.61805556 | S7: 0.63888889 | T7: 0.65972222 | U7: 0.68055556 | V7: 0.70138889 | W7: 0.72222222 | X7: 0.74305556 | Y7: 0.76388889
A9: Arnhem, Centraal Station | B9: 12 | C9: 17 | D9: 32 | E9: 31 | F9: 24 | G9: 22 | H9: 19 | I9: 7 | J9: 14 | K9: 14 | L9: 13 | M9: 7 | N9: 10 | O9: 7 | P9: 8 | Q9: 8 | R9: 6 | S9: 9 | T9: 7 | U9: 7 | V9: 4 | W9: 4 | X9: 5 | Y9: 6
A10: Arnhem, Willemsplein | B10: 13 | C10: 18 | D10: 39 | E10: 38 | F10: 28 | G10: 27 | H10: 22 | I10: 11 | J10: 14 | K10: 17 | L10: 16 | M10: 10 | N10: 10 | O10: 9 | P10: 11 | Q10: 10 | R10: 9 | S10: 9 | T10: 11 | U10: 9 | V10: 7 | W10: 6 | X10: 6 | Y10: 6
A11: Arnhem, Bothaplein | B11: 13 | C11: 18 | D11: 38 | E11: 36 | F11: 28 | G11: 27 | H11: 22 | I11: 11 | J11: 14 | K11: 17 | L11: 16 | M11: 10 | N11: 10 | O11: 9 | P11: 11 | Q11: 11 | R11: 10 | S11: 9 | T11: 11 | U11: 9 | V11: 7 | W11: 6 | X11: 6 | Y11: 6
A12: Arnhem, Sonsbeek | B12: 13 | C12: 18 | D12: 37 | E12: 33 | F12: 27 | G12: 27 | H12: 19 | I12: 9 | J12: 13 | K12: 15 | L12: 15 | M12: 10 | N12: 10 | O12: 9 | P12: 12 | Q12: 11 | R12: 11 | S12: 9 | T12: 11 | U12: 10 | V12: 7 | W12: 6 | X12: 6 | Y12: 6
A13: Arnhem, Ziekenhuis Rijnstate | B13: 1 | C13: 4 | D13: 27 | E13: 27 | F13: 26 | G13: 26 | H13: 18 | I13: 10 | J13: 13 | K13: 15 | L13: 13 | M13: 8 | N13: 7 | O13: 9.5 | P13: 11 | Q13: 9 | R13: 11 | S13: 9 | T13: 10 | U13: 9 | V13: 7 | W13: 6 | X13: 6 | Y13: 6
A14: Arnhem, Beethovenlaan | B14: 1 | C14: 4.6 | D14: 26 | E14: 27 | F14: 25 | G14: 26 | H14: 18 | I14: 8 | J14: 11.7 | K14: 14 | L14: 13 | M14: 7 | N14: 6 | O14: 9.4 | P14: 9 | Q14: 7 | R14: 8 | S14: 8 | T14: 10 | U14: 8 | V14: 7 | W14: 6 | X14: 5 | Y14: 6
A15: Arnhem, Chopinstraat | B15: 1 | C15: 5 | D15: 26 | E15: 27 | F15: 25 | G15: 26 | H15: 18 | I15: 8 | J15: 10.7 | K15: 15 | L15: 11 | M15: 9 | N15: 6 | O15: 8 | P15: 9 | Q15: 7 | R15: 8 | S15: 8 | T15: 8.3 | U15: 8 | V15: 7 | W15: 5 | X15: 5 | Y15: 5
A16: Arnhem, Openluchtmuseum Oost | B16: 1 | C16: 4 | D16: 25 | E16: 27 | F16: 25 | G16: 21 | H16: 18 | I16: 7 | J16: 10.7 | K16: 13.6 | L16: 8 | M16: 9 | N16: 6 | O16: 8 | P16: 7 | Q16: 6 | R16: 7 | S16: 7 | T16: 7 | U16: 6 | V16: 4 | W16: 5 | X16: 5 | Y16: 4
A17: Arnhem, Alteveer | B17: 1 | C17: 4 | D17: 25 | E17: 27 | F17: 25 | G17: 20 | H17: 18 | I17: 7 | J17: 10.6 | K17: 13.6 | L17: 9 | M17: 8 | N17: 6 | O17: 7.9 | P17: 6 | Q17: 6 | R17: 7 | S17: 7 | T17: 7 | U17: 6 | V17: 4 | W17: 5 | X17: 5 | Y17: 4
A18: Arnhem, Moscowa/Schelmseweg | B18: 1 | C18: 4 | D18: 24 | E18: 27 | F18: 25 | G18: 19 | H18: 18 | I18: 7 | J18: 9 | K18: 13.6 | L18: 8 | M18: 8 | N18: 6 | O18: 7.2 | P18: 7 | Q18: 6 | R18: 7 | S18: 7 | T18: 7 | U18: 6 | V18: 4 | W18: 5 | X18: 5 | Y18: 4
... A40: Velp, Parking Pres. Kennedylaan | B40: 0 | C40: 0 | D40: 0 | E40: 0 | F40: 0 | G40: 0 | H40: 0 | I40: 0 | J40: 0 | K40: 0 | L40: 0 | M40: 0 | N40: 0 | O40: 0 | P40: 0 | Q40: 0 | R40: 0 | S40: 0 | T40: 0 | U40: 0 | V40: 0 | W40: 0 | X40: 0 | Y40: 0
A41: MaxBezetting | B41: =MAX(B9:B40) -> 13 | C41: =MAX(C9:C40) -> 18 | D41: =MAX(D9:D40) -> 39 | E41: =MAX(E9:E40) -> 38 | F41: =MAX(F9:F40) -> 28 | G41: =MAX(G9:G40) -> 27 | H41: =MAX(H9:H40) -> 22 | I41: =MAX(I9:I40) -> 11 | ... Y41: =MAX(Y9:Y40) -> 6
A42: uurblok | B42: =HOUR(B7) -> 6 | C42: =HOUR(C7) -> 7 | D42: =HOUR(D7) -> 7 | E42: =HOUR(E7) -> 8 | F42: =HOUR(F7) -> 8 | G42: =HOUR(G7) -> 9 | H42: =HOUR(H7) -> 9 | I42: =HOUR(I7) -> 10 | ... Y42: =HOUR(Y7) -> 18
A45: bezettingstelling lijn 8 - van VELP naar ARNHEM CS - werkdagen | bron: chipkaart gegevens november 2023 | 80 percentiel waarde
A46: ritnummer | B46: 2 | C46: 4 | D46: 6 | E46: 8 | F46: 10 | G46: 12 | H46: 14 | I46: 16 | J46: 18 | K46: 20 | L46: 22 | M46: 24 | N46: 26 | O46: 28 | P46: 30 | Q46: 32 | R46: 34 | S46: 36 | T46: 38 | U46: 40 | V46: 42 | W46: 44 | X46: 46 | Y46: 48 | Z46: 50
A47: vertrektijd beginhalte | B47: 0.30069444 | C47: 0.325 | D47: 0.34583333 | E47: 0.36666667 | F47: 0.38541667 | G47: 0.40625 | H47: 0.42708333 | I47: 0.44791667 | J47: 0.46875 | K47: 0.48958333 | L47: 0.51041667 | M47: 0.53125 | N47: 0.55208333 | O47: 0.57291667 | P47: 0.59375 | Q47: 0.61458333 | R47: 0.63541667 | S47: 0.65694444 | T47: 0.67777778 | U47: 0.69861111 | V47: 0.71944444 | W47: 0.73888889 | X47: 0.75972222 | Y47: 0.78055556 | Z47: 0.82222222
A49: Velp, Parking Pres. Kennedylaan | B49: 0 | C49: 0 | D49: 1 | E49: 1 | F49: 1 | G49: 0 | H49: 0 | I49: 1 | J49: 0 | K49: 0 | L49: 1 | M49: 0 | N49: 0 | O49: 0 | P49: 0 | Q49: 1 | R49: 0 | S49: 0 | T49: 0 | U49: 0 | V49: 0 | W49: 0 | X49: 0 | Y49: 0 | Z49: 0
A50: Velp, Velperbroek | B50: 1 | C50: 0 | D50: 3 | E50: 2 | F50: 1 | G50: 1 | H50: 2 | I50: 2 | J50: 1 | K50: 2 | L50: 3 | M50: 2 | N50: 1 | O50: 2 | P50: 1 | Q50: 1 | R50: 0 | S50: 0 | T50: 0 | U50: 1 | V50: 0 | W50: 0 | X50: 0 | Y50: 0 | Z50: 0
A51: Velp, Kerkstraat | B51: 1 | C51: 0 | D51: 3 | E51: 2 | F51: 2 | G51: 2 | H51: 2 | I51: 2 | J51: 2 | K51: 2 | L51: 3 | M51: 2 | N51: 1 | O51: 3 | P51: 1 | Q51: 1 | R51: 0 | S51: 0 | T51: 0 | U51: 1 | V51: 1 | W51: 0 | X51: 0 | Y51: 0 | Z51: 0
A52: Velp, Den Heuvel | B52: 1 | C52: 0 | D52: 3 | E52: 3 | F52: 2 | G52: 2 | H52: 3 | I52: 3 | J52: 4 | K52: 3 | L52: 4 | M52: 3 | N52: 1 | O52: 3 | P52: 2 | Q52: 1 | R52: 1 | S52: 2 | T52: 1 | U52: 1 | V52: 1 | W52: 0 | X52: 0 | Y52: 0 | Z52: 1
A53: Velp, Hogeweg | B53: 1 | C53: 1 | D53: 4 | E53: 3 | F53: 2 | G53: 1 | H53: 3 | I53: 3 | J53: 3 | K53: 3 | L53: 4 | M53: 3 | N53: 1 | O53: 3 | P53: 2 | Q53: 2 | R53: 1 | S53: 2 | T53: 1 | U53: 1 | V53: 1 | W53: 0 | X53: 0 | Y53: 0 | Z53: 1
A54: Velp, Heemskerklaan | B54: 1 | C54: 1 | D54: 4 | E54: 3 | F54: 2 | G54: 1 | H54: 3 | I54: 3 | J54: 3 | K54: 3 | L54: 4 | M54: 3 | N54: 1 | O54: 3 | P54: 2 | Q54: 2 | R54: 1 | S54: 2 | T54: 1 | U54: 1 | V54: 1 | W54: 0 | X54: 0 | Y54: 0 | Z54: 1
A55: Velp, Beekhuizenseweg | B55: 2 | C55: 1 | D55: 4 | E55: 4 | F55: 3 | G55: 2 | H55: 3 | I55: 3 | J55: 4 | K55: 4 | L55: 5 | M55: 4 | N55: 2 | O55: 3 | P55: 2 | Q55: 2 | R55: 1 | S55: 3 | T55: 1 | U55: 1 | V55: 1 | W55: 0 | X55: 1 | Y55: 0 | Z55: 1
A56: Velp, Biesdelselaan | B56: 2 | C56: 1 | D56: 4 | E56: 4 | F56: 3 | G56: 4 | H56: 3.9 | I56: 3 | J56: 4 | K56: 4 | L56: 5 | M56: 5 | N56: 3 | O56: 5 | P56: 3 | Q56: 3 | R56: 3 | S56: 3 | T56: 1 | U56: 1 | V56: 2 | W56: 0 | X56: 1 | Y56: 0 | Z56: 1
A57: Rozendaal, Rhedens Lyceum | B57: 2 | C57: 1 | D57: 3 | E57: 4 | F57: 3 | G57: 4 | H57: 3 | I57: 3 | J57: 4 | K57: 4 | L57: 5 | M57: 7 | N57: 3 | O57: 5 | P57: 3 | Q57: 3 | R57: 3 | S57: 3 | T57: 2 | U57: 1 | V57: 2 | W57: 1 | X57: 1 | Y57: 0 | Z57: 1
A58: Velp, Rozendaalselaan | B58: 2 | C58: 1 | D58: 3 | E58: 4 | F58: 3 | G58: 4 | H58: 3 | I58: 3 | J58: 4 | K58: 4 | L58: 6 | M58: 8 | N58: 3 | O58: 5 | P58: 4 | Q58: 3 | R58: 3 | S58: 3 | T58: 2 | U58: 1 | V58: 2 | W58: 1 | X58: 1 | Y58: 1 | Z58: 1
... A81: Arnhem, Centraal Station | B81: 0 | C81: 1 | D81: 0 | E81: 0 | F81: 1 | G81: 0 | H81: 0 | I81: 0 | J81: 0 | K81: 0 | L81: 0 | M81: 0 | N81: 0 | O81: 1 | P81: 0 | Q81: 0 | R81: 0 | S81: 0 | T81: 0 | U81: 0 | V81: 0 | W81: 0 | X81: 0 | Y81: 0 | Z81: 0
A82: MaxBezetting | B82: =MAX(B49:B81) -> 9 | C82: =MAX(C49:C81) -> 12 | D82: =MAX(D49:D81) -> 9 | E82: =MAX(E49:E81) -> 10 | F82: =MAX(F49:F81) -> 11 | G82: =MAX(G49:G81) -> 12 | H82: =MAX(H49:H81) -> 14.1 | I82: =MAX(I49:I81) -> 14 | ... Z82: =MAX(Z49:Z81) -> 3
A83: uurblok | B83: =HOUR(B47) -> 7 | C83: =HOUR(C47) -> 7 | D83: =HOUR(D47) -> 8 | E83: =HOUR(E47) -> 8 | F83: =HOUR(F47) -> 9 | G83: =HOUR(G47) -> 9 | H83: =HOUR(H47) -> 10 | I83: =HOUR(I47) -> 10 | ... Z83: =HOUR(Z47) -> 19
A88: bezettingstelling lijn 8 - van ARNHEM CS - VELP - zaterdag | bron: chipkaart gegevens november 2023 | 80 percentiel waarde
A89: ritnummer | B89: 4001 | C89: 4003 | D89: 4005 | E89: 4007 | F89: 4009 | G89: 4011 | H89: 4013 | I89: 4015 | J89: 4017 | K89: 4019 | L89: 4021 | M89: 4023 | N89: 4025 | O89: 4027 | P89: 4029 | Q89: 4031
A90: vertrektijd beginhalte | B90: 0.32638889 | C90: 0.36805556 | D90: 0.40972222 | E90: 0.45138889 | F90: 0.49305556 | G90: 0.53472222 | H90: 0.57638889 | I90: 0.61805556 | J90: 0.65972222 | K90: 0.70138889 | L90: 0.74305556 | M90: 0.78472222 | N90: 0.82638889 | O90: 0.86805556 | P90: 0.90972222 | Q90: 0.95138889
A92: Arnhem, Centraal Station | B92: 2.8 | C92: 3.4 | D92: 4.6 | E92: 4.2 | F92: 8.2 | G92: 5.8 | H92: 13.2 | I92: 8.2 | J92: 6.4 | K92: 3.6 | L92: 7.2 | M92: 8 | N92: 2 | O92: 4.8 | P92: 4.4 | Q92: 7.2
A93: Arnhem, Willemsplein | B93: 3.4 | C93: 4.6 | D93: 6.2 | E93: 5 | F93: 9.6 | G93: 8.4 | H93: 18 | I93: 10.8 | J93: 8.8 | K93: 7.2 | L93: 11.4 | M93: 8 | N93: 2.8 | O93: 6 | P93: 8.2 | Q93: 7.2
A94: Arnhem, Bothaplein | B94: 3.4 | C94: 5 | D94: 6.2 | E94: 5 | F94: 9.6 | G94: 7.8 | H94: 18 | I94: 10.8 | J94: 8.8 | K94: 7.2 | L94: 11.4 | M94: 8 | N94: 2.8 | O94: 6 | P94: 8.2 | Q94: 7.2
A95: Arnhem, Sonsbeek | B95: 3.8 | C95: 4.2 | D95: 7.8 | E95: 5 | F95: 9.6 | G95: 7.8 | H95: 18 | I95: 10.8 | J95: 8.8 | K95: 6.8 | L95: 10.6 | M95: 8 | N95: 3.4 | O95: 6 | P95: 8.2 | Q95: 7.2
A96: Arnhem, Ziekenhuis Rijnstate | B96: 2.4 | C96: 2.8 | D96: 7.8 | E96: 5 | F96: 8.8 | G96: 8.2 | H96: 16.4 | I96: 11 | J96: 7.8 | K96: 7.6 | L96: 10.6 | M96: 9 | N96: 3.8 | O96: 6 | P96: 9.2 | Q96: 7.2
A97: Arnhem, Beethovenlaan | B97: 2.4 | C97: 2.8 | D97: 5.8 | E97: 4.2 | F97: 5 | G97: 7.4 | H97: 12.7 | I97: 9 | J97: 7 | K97: 6.6 | L97: 9.4 | M97: 8.4 | N97: 3.4 | O97: 6 | P97: 9.2 | Q97: 6
A98: Arnhem, Chopinstraat | B98: 1.4 | C98: 2.8 | D98: 5.8 | E98: 4.2 | F98: 5 | G98: 7 | H98: 12.1 | I98: 9 | J98: 5.8 | K98: 6.6 | L98: 9.4 | M98: 8.3 | N98: 3.4 | O98: 6 | P98: 9.2 | Q98: 6
A99: Arnhem, Openluchtmuseum Oost | B99: 1 | C99: 1.4 | D99: 4.8 | E99: 2.4 | F99: 4 | G99: 6.2 | H99: 5.7 | I99: 8 | J99: 5.2 | K99: 6.6 | L99: 9.9 | M99: 6 | N99: 2 | O99: 5.6 | P99: 8 | Q99: 6
A100: Arnhem, Alteveer | B100: 1 | C100: 1.4 | D100: 4.8 | E100: 2.4 | F100: 4 | G100: 6.2 | H100: 5.7 | I100: 8 | J100: 4.4 | K100: 6 | L100: 9.9 | M100: 6 | N100: 2.4 | O100: 5.6 | P100: 8 | Q100: 6
A101: Arnhem, Moscowa/Schelmseweg | B101: 1 | C101: 1.4 | D101: 4.2 | E101: 2 | F101: 4 | G101: 5.2 | H101: 4.4 | I101: 7.6 | J101: 5 | K101: 6 | L101: 9.3 | M101: 6 | N101: 2.4 | O101: 5.6 | P101: 7.4 | Q101: 6
... A123: Velp, Parking Pres. Kennedylaan | B123: 0 | C123: 0 | D123: 0 | E123: 0.8 | F123: 0 | G123: 0.4 | H123: 1.4 | I123: 0.4 | J123: 0 | K123: 0 | L123: 0 | M123: 0.4 | N123: 0 | O123: 0 | P123: 0 | Q123: 0
A124: MaxBezetting | B124: =MAX(B92:B123) -> 3.8 | C124: =MAX(C92:C123) -> 5 | D124: =MAX(D92:D123) -> 7.8 | E124: =MAX(E92:E123) -> 5 | F124: =MAX(F92:F123) -> 9.6 | G124: =MAX(G92:G123) -> 8.4 | H124: =MAX(H92:H123) -> 18 | I124: =MAX(I92:I123) -> 11 | ... R124: =MAX(R92:R123) -> 0
A125: uurblok | B125: =HOUR(B90) -> 7 | C125: =HOUR(C90) -> 8 | D125: =HOUR(D90) -> 9 | E125: =HOUR(E90) -> 10 | F125: =HOUR(F90) -> 11 | G125: =HOUR(G90) -> 12 | H125: =HOUR(H90) -> 13 | I125: =HOUR(I90) -> 14 | ... R125: =HOUR(R90) -> 0
A129: bezettingstelling lijn 8 - van GEITENKAMP naar ARNHEM CS - zaterdag | bron: chipkaart gegevens november 2023 | 80 percentiel waarde
A130: ritnummer | B130: 4002 | C130: 4004 | D130: 4006 | E130: 4008 | F130: 4010 | G130: 4012 | H130: 4014 | I130: 4016 | J130: 4018 | K130: 4020 | L130: 4022 | M130: 4024 | N130: 4026 | O130: 4028 | P130: 4030
A131: vertrektijd beginhalte | B131: 0.34236111 | C131: 0.38402778 | D131: 0.42777778 | E131: 0.46944444 | F131: 0.51111111 | G131: 0.55277778 | H131: 0.59444444 | I131: 0.63611111 | J131: 0.67777778 | K131: 0.71944444 | L131: 0.75833333 | M131: 0.8 | N131: 0.84166667 | O131: 0.88333333 | P131: 0.925
A133: Velp, Parking Pres. Kennedylaan | B133: 0.4 | C133: 0 | D133: 0 | E133: 0.4 | F133: 0 | G133: 0 | H133: 0.4 | I133: 0 | J133: 0.4 | K133: 0 | L133: 0 | M133: 0.4 | N133: 0 | O133: 0 | P133: 0
A134: Velp, Velperbroek | B134: 0.4 | C134: 0.4 | D134: 1.4 | E134: 1.8 | F134: 1.8 | G134: 0.4 | H134: 1 | I134: 1 | J134: 1 | K134: 0.4 | L134: 1.2 | M134: 0.4 | N134: 0 | O134: 0.4 | P134: 0
A135: Velp, Kerkstraat | B135: 0.4 | C135: 0.4 | D135: 2 | E135: 1.8 | F135: 3.4 | G135: 0.8 | H135: 2.4 | I135: 1 | J135: 1 | K135: 0.8 | L135: 1.2 | M135: 0.8 | N135: 0 | O135: 0.4 | P135: 0
A136: Velp, Den Heuvel | B136: 0.4 | C136: 0.4 | D136: 2 | E136: 1.8 | F136: 4.2 | G136: 2 | H136: 3 | I136: 2.4 | J136: 1 | K136: 0.8 | L136: 1.2 | M136: 2.4 | N136: 0 | O136: 0.4 | P136: 0.8
A137: Velp, Hogeweg | B137: 0 | C137: 0.4 | D137: 2 | E137: 2.4 | F137: 4.2 | G137: 2 | H137: 3 | I137: 2.4 | J137: 1 | K137: 0.8 | L137: 1.2 | M137: 2.4 | N137: 0 | O137: 0.4 | P137: 0.8
A138: Velp, Heemskerklaan | B138: 0 | C138: 0.4 | D138: 2 | E138: 2.4 | F138: 4.2 | G138: 2 | H138: 3 | I138: 2.4 | J138: 1 | K138: 0.8 | L138: 1.2 | M138: 2.4 | N138: 0 | O138: 0.4 | P138: 0.8
A139: Velp, Beekhuizenseweg | B139: 0 | C139: 1.8 | D139: 2 | E139: 2.4 | F139: 4.8 | G139: 2 | H139: 3 | I139: 3 | J139: 1 | K139: 1.8 | L139: 1.2 | M139: 2.4 | N139: 0 | O139: 0.4 | P139: 0.8
A140: Velp, Biesdelselaan | B140: 0.4 | C140: 1.8 | D140: 2 | E140: 2.4 | F140: 5.2 | G140: 2 | H140: 3 | I140: 3 | J140: 1 | K140: 1.8 | L140: 1.2 | M140: 2.4 | N140: 1.4 | O140: 0.4 | P140: 0.8
A141: Rozendaal, Rhedens Lyceum | B141: 0.4 | C141: 1.8 | D141: 2 | E141: 2.4 | F141: 5.2 | G141: 2 | H141: 3 | I141: 3 | J141: 1 | K141: 1.8 | L141: 1.2 | M141: 2.4 | N141: 1.4 | O141: 0.4 | P141: 0.8
A142: Velp, Rozendaalselaan | B142: 0.4 | C142: 1.8 | D142: 2 | E142: 2.4 | F142: 4.4 | G142: 2 | H142: 3 | I142: 3 | J142: 2.4 | K142: 1.8 | L142: 1.2 | M142: 2.4 | N142: 1.4 | O142: 0.4 | P142: 0.8
... A165: Arnhem, Centraal Station | B165: 0 | C165: 0 | D165: 0.4 | E165: 2 | F165: 0 | G165: 0 | H165: 0.4 | I165: 0.4 | J165: 0 | K165: 0.4 | L165: 0 | M165: 0 | N165: 0.4 | O165: 0 | P165: 2.4
A166: MaxBezetting | B166: =MAX(B133:B165) -> 7.2 | C166: =MAX(C133:C165) -> 8.4 | D166: =MAX(D133:D165) -> 8 | E166: =MAX(E133:E165) -> 8.4 | F166: =MAX(F133:F165) -> 10.4 | G166: =MAX(G133:G165) -> 9.2 | H166: =MAX(H133:H165) -> 5 | I166: =MAX(I133:I165) -> 11.4 | ... P166: =MAX(P133:P165) -> 6.8
A167: uurblok | B167: =HOUR(B131) -> 8 | C167: =HOUR(C131) -> 9 | D167: =HOUR(D131) -> 10 | E167: =HOUR(E131) -> 11 | F167: =HOUR(F131) -> 12 | G167: =HOUR(G131) -> 13 | H167: =HOUR(H131) -> 14 | I167: =HOUR(I131) -> 15 | ... P167: =HOUR(P131) -> 22

Sheet A008 - in uitstap per halte
B2: Lijn A008 - ri.1 - feb 2024 | F2: Lijn A008 - ri.2 - feb 2024 | J2: Lijn A008 - ri.1 - feb 2024 | N2: Lijn A008 - ri.2 - feb 2024
B3: werkdag-gemiddelde | C3: CI | D3: CO | F3: werkdag-gemiddelde | G3: CI | H3: CO | J3: zaterdag-gemiddelde | K3: CI | L3: CO | N3: zaterdag-gemiddelde | O3: CI | P3: CO
B4: Total | C4: =SUM(C5:C28) -> 318.7 | D4: =SUM(D5:D28) -> 274 | F4: Total | G4: =SUM(G5:G28) -> 187.8 | H4: =SUM(H5:H28) -> 31.8 | J4: Total | K4: =SUM(K5:K28) -> 118.7 | L4: =SUM(L5:L28) -> 100.3 | N4: Total | O4: =SUM(O5:O28) -> 74.1 | P4: =SUM(P5:P28) -> 10.4
B5: Arnhem, Centraal Station | C5: 199.5 | D5: 0 | F5: Velp, Parking Pres. Kennedylaan | G5: 4.8 | H5: 0 | J5: Arnhem, Centraal Station | K5: 67 | L5: 0 | N5: Velp, Parking Pres. Kennedylaan | O5: 1.3 | P5: 0
B6: Arnhem, Willemsplein | C6: 56 | D6: 1 | F6: Velp, Velperbroek | G6: 11.5 | H6: 0 | J6: Arnhem, Willemsplein | K6: 29.5 | L6: 1.3 | N6: Velp, Velperbroek | O6: 6.3 | P6: 0
B7: Arnhem, Bothaplein | C7: 2.6 | D7: 1.3 | F7: Velp, Kerkstraat | G7: 4.7 | H7: 0.1 | J7: Arnhem, Bothaplein | K7: 1.3 | L7: 0.3 | N7: Velp, Kerkstraat | O7: 3.5 | P7: 0
B8: Arnhem, Sonsbeek | C8: 5.9 | D8: 12.1 | F8: Velp, Den Heuvel | G8: 7 | H8: 1.7 | J8: Arnhem, Sonsbeek | K8: 3 | L8: 3.8 | N8: Velp, Den Heuvel | O8: 5 | P8: 1
B9: Arnhem, Ziekenhuis Rijnstate | C9: 18.3 | D9: 68 | F9: Velp, Hogeweg | G9: 1.7 | H9: 0.6 | J9: Arnhem, Ziekenhuis Rijnstate | K9: 4.3 | L9: 5.3 | N9: Velp, Hogeweg | O9: 0.8 | P9: 0.5
B10: Arnhem, Beethovenlaan | C10: 4.2 | D10: 21.3 | F10: Velp, Heemskerklaan | G10: 0.1 | H10: 0.2 | J10: Arnhem, Beethovenlaan | K10: 1.5 | L10: 16.3 | N10: Velp, Heemskerklaan | O10: 0 | P10: 0
B11: Arnhem, Chopinstraat | C11: 3.6 | D11: 4.7 | F11: Velp, Beekhuizenseweg | G11: 6.2 | H11: 0.9 | J11: Arnhem, Chopinstraat | K11: 0.3 | L11: 2.9 | N11: Velp, Beekhuizenseweg | O11: 2.3 | P11: 0
B12: Arnhem, Openluchtmuseum Oost | C12: 1.8 | D12: 21.4 | F12: Velp, Biesdelselaan | G12: 12.6 | H12: 1.4 | J12: Arnhem, Openluchtmuseum Oost | K12: 2.8 | L12: 18.8 | N12: Velp, Biesdelselaan | O12: 1.8 | P12: 0.3
B13: Arnhem, Alteveer | C13: 1.3 | D13: 4.4 | F13: Rozendaal, Rhedens Lyceum | G13: 2.2 | H13: 1.1 | J13: Arnhem, Alteveer | K13: 0.5 | L13: 1.3 | N13: Rozendaal, Rhedens Lyceum | O13: 0.3 | P13: 0
B14: Arnhem, Moscowa/Schelmseweg | C14: 2.2 | D14: 6.5 | F14: Velp, Rozendaalselaan | G14: 3.3 | H14: 0.7 | J14: Arnhem, Moscowa/Schelmseweg | K14: 0.8 | L14: 3.5 | N14: Velp, Rozendaalselaan | O14: 1 | P14: 0.8
B15: Arnhem, CIOS | C15: 2.1 | D15: 77 | F15: Velp, Bergweg | G15: 3.8 | H15: 0.6 | J15: Arnhem, CIOS | K15: 0.3 | L15: 6.4 | N15: Velp, Bergweg | O15: 1.8 | P15: 0
B16: Arnhem, Monnikensteeg | C16: 1 | D16: 4.9 | F16: Rozendaal, Hertog van Gelrestraat | G16: 2.1 | H16: 1.1 | J16: Arnhem, Monnikensteeg | K16: 0.3 | L16: 2.9 | N16: Rozendaal, Hertog van Gelrestraat | O16: 1.5 | P16: 0.5
... B36: Velp, Parking Pres. Kennedylaan | C36: 0 | D36: 1.8 | F36: Arnhem, Willemsplein | G36: 1.7 | H36: 74.7 | J36: Velp, Parking Pres. Kennedylaan | K36: 0 | L36: 1.3 | N36: Arnhem, Willemsplein | O36: 1.8 | P36: 40.2
F37: Arnhem, Centraal Station | G37: 0 | H37: 155 | N37: Arnhem, Centraal Station | O37: 0 | P37: 36.2

Sheet A009 - bezetting
B1: categorisering bezetting | C1: 0 | D1: 8 | E1: 25 | F1: 65
C2: 7.99999 | D2: 24.99999 | E2: 64.99999 | F2: 999
B5: bezettingstelling lijn 9 - van ARNHEM CS - SCHAARSBERGEN - werkdagen | bron: chipkaart gegevens november 2023 | 80 percentiel waarde
B6: ritnummer | C6: 1 | D6: 3 | E6: 5 | F6: 7 | G6: 9 | H6: 11 | I6: 13 | J6: 15 | K6: 17 | L6: 19 | M6: 21 | N6: 23 | O6: 25 | P6: 27 | Q6: 29 | R6: 31 | S6: 33 | T6: 35 | U6: 37 | V6: 39 | W6: 41 | X6: 43 | Y6: 45 | Z6: 47 | AA6: 49 | AB6: 51 | AC6: 53 | AD6: 55 | AE6: 57 | AF6: 59 | AG6: 61
B7: vertrektijd beginhalte | C7: 0.28472222 | D7: 0.30555556 | E7: 0.32638889 | F7: 0.34722222 | G7: 0.36805556 | H7: 0.38888889 | I7: 0.40972222 | J7: 0.43055556 | K7: 0.45138889 | L7: 0.47222222 | M7: 0.49305556 | N7: 0.51388889 | O7: 0.53472222 | P7: 0.55555556 | Q7: 0.57638889 | R7: 0.59722222 | S7: 0.61805556 | T7: 0.63888889 | U7: 0.65972222 | V7: 0.68055556 | W7: 0.70138889 | X7: 0.72222222 | Y7: 0.74305556 | Z7: 0.76388889 | AA7: 0.78472222 | AB7: 0.80555556 | AC7: 0.82638889 | AD7: 0.86805556 | AE7: 0.90972222 | AF7: 0.95138889 | AG7: 0.99305556
B9: Arnhem, Centraal Station | C9: 5 | D9: 8.8 | E9: 9.8 | F9: 12 | G9: 12 | H9: 6.8 | I9: 5 | J9: 3.8 | K9: 7.4 | L9: 5 | M9: 6.8 | N9: 5 | O9: 5 | P9: 4.8 | Q9: 7 | R9: 8.8 | S9: 11.8 | T9: 8.8 | U9: 8.8 | V9: 10.8 | W9: 12 | X9: 10.8 | Y9: 7 | Z9: 7.8 | AA9: 5.6 | AB9: 4.6 | AC9: 3.8 | AD9: 7 | AE9: 5.8 | AF9: 4 | AG9: 4
B10: Arnhem, Willemsplein | C10: 8.8 | D10: 11 | E10: 14 | F10: 16.8 | G10: 17.8 | H10: 9.8 | I10: 7.8 | J10: 4.8 | K10: 8 | L10: 6.8 | M10: 9.8 | N10: 8 | O10: 8 | P10: 14.2 | Q10: 8 | R10: 11 | S10: 13.8 | T10: 12.6 | U10: 12 | V10: 12.8 | W10: 11.8 | X10: 13.8 | Y10: 12 | Z10: 10 | AA10: 6.8 | AB10: 5.8 | AC10: 5.8 | AD10: 7 | AE10: 7 | AF10: 5.8 | AG10: 7.8
B11: Arnhem, Sonsbeekweg | C11: 8.8 | D11: 10.8 | E11: 14 | F11: 16.8 | G11: 19.4 | H11: 9.8 | I11: 7.8 | J11: 5 | K11: 8 | L11: 6.8 | M11: 9.8 | N11: 8 | O11: 8 | P11: 14.6 | Q11: 8 | R11: 11.8 | S11: 14 | T11: 12.6 | U11: 12 | V11: 12.8 | W11: 11.8 | X11: 13.8 | Y11: 11.8 | Z11: 10.8 | AA11: 6 | AB11: 6 | AC11: 5.8 | AD11: 8 | AE11: 7 | AF11: 5.8 | AG11: 7
B12: Arnhem, Burgemeestersplein | C12: 8 | D12: 10.8 | E12: 14 | F12: 17 | G12: 18.6 | H12: 10.6 | I12: 7.8 | J12: 4.8 | K12: 8 | L12: 6.8 | M12: 9.8 | N12: 8 | O12: 8.7 | P12: 12.8 | Q12: 8 | R12: 11.6 | S12: 12.8 | T12: 12.6 | U12: 12 | V12: 12 | W12: 11.8 | X12: 13.8 | Y12: 11 | Z12: 10.8 | AA12: 6 | AB12: 6 | AC12: 5 | AD12: 7.8 | AE12: 7 | AF12: 5.8 | AG12: 7
B13: Arnhem, Burg. Weertsstraat | C13: 8 | D13: 10 | E13: 13.8 | F13: 16 | G13: 17.6 | H13: 9.7 | I13: 7.8 | J13: 5 | K13: 7 | L13: 6 | M13: 9.8 | N13: 7.8 | O13: 8 | P13: 11.7 | Q13: 8 | R13: 11.8 | S13: 13 | T13: 10.8 | U13: 11.7 | V13: 11.8 | W13: 11.6 | X13: 11.8 | Y13: 9.8 | Z13: 8.8 | AA13: 5 | AB13: 5.1 | AC13: 4.8 | AD13: 5.8 | AE13: 7 | AF13: 5.8 | AG13: 6.8
B14: Arnhem, Izaak Evertslaan | C14: 8 | D14: 9.8 | E14: 11 | F14: 15.9 | G14: 16.8 | H14: 8.8 | I14: 7 | J14: 4.8 | K14: 7 | L14: 5.8 | M14: 8 | N14: 7 | O14: 7 | P14: 9.6 | Q14: 7 | R14: 11.6 | S14: 11 | T14: 10.6 | U14: 10.9 | V14: 11.4 | W14: 10.8 | X14: 11.5 | Y14: 9 | Z14: 9 | AA14: 5 | AB14: 5 | AC14: 4 | AD14: 4.8 | AE14: 6 | AF14: 4.8 | AG14: 6.6
B15: Arnhem, van Ruisdaelstraat | C15: 8 | D15: 9 | E15: 9.8 | F15: 15.4 | G15: 15 | H15: 8.8 | I15: 7 | J15: 4 | K15: 6.8 | L15: 5.8 | M15: 8 | N15: 7 | O15: 6.8 | P15: 9.4 | Q15: 7 | R15: 11.5 | S15: 11 | T15: 10.6 | U15: 10.5 | V15: 10 | W15: 10.8 | X15: 10.5 | Y15: 6.9 | Z15: 8.8 | AA15: 5 | AB15: 5 | AC15: 3.8 | AD15: 4.8 | AE15: 5.7 | AF15: 4.8 | AG15: 6.6
B16: Arnhem, Jacob Marislaan | C16: 8 | D16: 9 | E16: 9 | F16: 13.5 | G16: 13.6 | H16: 8 | I16: 5.8 | J16: 3.8 | K16: 5.9 | L16: 4 | M16: 7.6 | N16: 7 | O16: 6 | P16: 9.4 | Q16: 6 | R16: 9 | S16: 11 | T16: 9.9 | U16: 10 | V16: 9.8 | W16: 9 | X16: 10.9 | Y16: 5.9 | Z16: 8.8 | AA16: 4.8 | AB16: 5 | AC16: 3 | AD16: 4 | AE16: 4.6 | AF16: 4.8 | AG16: 4
B17: Arnhem, Mesdaglaan | C17: 7.8 | D17: 9 | E17: 8.8 | F17: 12.8 | G17: 13.6 | H17: 7.8 | I17: 5 | J17: 3 | K17: 5 | L17: 4 | M17: 5.8 | N17: 5.8 | O17: 6 | P17: 9.2 | Q17: 5 | R17: 7.6 | S17: 9 | T17: 8 | U17: 9.7 | V17: 7.6 | W17: 7.8 | X17: 9.8 | Y17: 4.4 | Z17: 6 | AA17: 3.8 | AB17: 4.9 | AC17: 3 | AD17: 3.8 | AE17: 4.5 | AF17: 3.8 | AG17: 3.8
B18: Arnhem, Schelmseweg | C18: 7 | D18: 9 | E18: 8.8 | F18: 12.4 | G18: 12.8 | H18: 7 | I18: 5 | J18: 3 | K18: 5 | L18: 4 | M18: 5 | N18: 5.8 | O18: 5 | P18: 4.8 | Q18: 5 | R18: 5.3 | S18: 6.9 | T18: 6.8 | U18: 6.6 | V18: 6.6 | W18: 8 | X18: 7.8 | Y18: 4 | Z18: 5 | AA18: 3 | AB18: 4 | AC18: 2.4 | AD18: 3 | AE18: 4.4 | AF18: 3.8 | AG18: 2.9
... B27: Schaarsbergen, Koningsweg | C27: 4 | D27: 4 | E27: 5 | F27: 5.8 | G27: 5.8 | H27: 4 | I27: 2 | J27: 1.2 | K27: 2 | L27: 1 | M27: 1.1 | N27: 2 | O27: 1.8 | P27: 1.8 | Q27: 1 | R27: 1.1 | S27: 2.8 | T27: 2.1 | U27: 1 | V27: 2 | W27: 2.4 | X27: 2 | Y27: 2 | Z27: 0 | AA27: 0 | AB27: 0 | AC27: 0 | AD27: 0 | AE27: 0 | AF27: 0 | AG27: 0
B28: Schaarsbergen, Kaderschool Luchtmacht | C28: 4 | D28: 4 | E28: 4 | F28: 5.3 | G28: 1.8 | H28: 3 | I28: 2 | J28: 1 | K28: 1 | L28: 1 | M28: 1 | N28: 2 | O28: 1.8 | P28: 1 | Q28: 1 | R28: 1 | S28: 2.8 | T28: 1 | U28: 0.2 | V28: 1.8 | W28: 2 | X28: 2 | Y28: 1.8
B29: Schaarsbergen, Viersprong | C29: 3 | D29: 2.8 | E29: 3.8 | F29: 4.6 | G29: 1.8 | H29: 2 | I29: 1.8 | J29: 1 | K29: 1 | L29: 1 | M29: 1 | N29: 1 | O29: 1 | P29: 1 | Q29: 1 | R29: 0.9 | S29: 1 | T29: 1 | U29: 0.1 | V29: 1 | W29: 1.9 | X29: 1.8 | Y29: 1
B30: Schaarsbergen, C. van Maasdijklaan | C30: 2.1 | D30: 1 | E30: 1 | F30: 2.1 | G30: 1 | H30: 0 | I30: 0 | J30: 0 | K30: 0.1 | L30: 0 | M30: 0.1 | N30: 0.8 | O30: 0 | P30: 0 | Q30: 1 | R30: 0 | S30: 1 | T30: 1 | U30: 0.1 | V30: 1 | W30: 1.9 | X30: 1.8 | Y30: 1
B31: Schaarsbergen, I.P.C. | C31: 0 | D31: 0 | E31: 0 | F31: 0 | G31: 1 | H31: 0 | I31: 0 | J31: 0 | K31: 0 | L31: 0 | M31: 0 | N31: 0 | O31: 0 | P31: 0 | Q31: 0 | R31: 0 | S31: 0 | T31: 0 | U31: 0 | V31: 0 | W31: 0 | X31: 0 | Y31: 0
B32: MaxBezetting | C32: =MAX(C9:C31) -> 8.8 | D32: =MAX(D9:D31) -> 11 | E32: =MAX(E9:E31) -> 14 | F32: =MAX(F9:F31) -> 17 | G32: =MAX(G9:G31) -> 19.4 | H32: =MAX(H9:H31) -> 10.6 | I32: =MAX(I9:I31) -> 7.8 | J32: =MAX(J9:J31) -> 5 | ... AG32: =MAX(AG9:AG31) -> 7.8
B33: uurblok | C33: =HOUR(C7) -> 6 | D33: =HOUR(D7) -> 7 | E33: =HOUR(E7) -> 7 | F33: =HOUR(F7) -> 8 | G33: =HOUR(G7) -> 8 | H33: =HOUR(H7) -> 9 | I33: =HOUR(I7) -> 9 | J33: =HOUR(J7) -> 10 | ... AG33: =HOUR(AG7) -> 23
B36: bezettingstelling lijn 9 - van SCHAARSBERGEN naar ARNHEM CS - werkdagen | bron: chipkaart gegevens november 2023 | 80 percentiel waarde
B37: ritnummer | C37: 2 | D37: 4 | E37: 6 | F37: 8 | G37: 10 | H37: 12 | I37: 14 | J37: 16 | K37: 18 | L37: 20 | M37: 22 | N37: 24 | O37: 26 | P37: 28 | Q37: 30 | R37: 32 | S37: 34 | T37: 36 | U37: 38 | V37: 40 | W37: 42 | X37: 44 | Y37: 46 | Z37: 48 | AA37: 50 | AB37: 52 | AC37: 54 | AD37: 56 | AE37: 58 | AF37: 60 | AG37: 62 | AH37: 64 | AI37: 66
B38: vertrektijd beginhalte | C38: 0.26180556 | D38: 0.28263889 | E38: 0.30347222 | F38: 0.32430556 | G38: 0.34513889 | H38: 0.36597222 | I38: 0.38680556 | J38: 0.40763889 | K38: 0.42847222 | L38: 0.44930556 | M38: 0.47013889 | N38: 0.49097222 | O38: 0.51180556 | P38: 0.53263889 | Q38: 0.55347222 | R38: 0.57430556 | S38: 0.59583333 | T38: 0.61666667 | U38: 0.6375 | V38: 0.65833333 | W38: 0.67916667 | X38: 0.7 | Y38: 0.72083333 | Z38: 0.74166667 | AA38: 0.75833333 | AB38: 0.77777778 | AC38: 0.79861111 | AD38: 0.81944444 | AE38: 0.84027778 | AF38: 0.88194444 | AG38: 0.92361111 | AH38: 0.96527778 | AI38: 1.0069444
B40: Schaarsbergen, I.P.C. | C40: 0 | D40: 0 | E40: 0 | F40: 0 | G40: 0 | H40: 0 | I40: 0 | J40: 0 | K40: 0 | L40: 0 | M40: 0 | N40: 1 | O40: 0 | P40: 0 | Q40: 0 | R40: 0 | S40: 0 | T40: 0 | U40: 0 | V40: 2.8 | W40: 1 | X40: 1 | Y40: 1 | Z40: 0 | AA40: 0
B41: Deelen, Hoenderloseweg | C41: 0 | D41: 0 | E41: 0 | F41: 0 | G41: 0 | H41: 0 | I41: 0 | J41: 1 | K41: 0.8 | L41: 1 | M41: 1.8 | N41: 1 | O41: 2 | P41: 1.8 | Q41: 1.8 | R41: 1 | S41: 1 | T41: 2 | U41: 1 | V41: 3 | W41: 1 | X41: 1.8 | Y41: 1 | Z41: 0 | AA41: 0
B42: Schaarsbergen, C. van Maasdijklaan | C42: 0 | D42: 0 | E42: 0 | F42: 0 | G42: 0 | H42: 0 | I42: 1 | J42: 1 | K42: 1 | L42: 1 | M42: 2 | N42: 1.8 | O42: 3 | P42: 2 | Q42: 1.8 | R42: 1 | S42: 1 | T42: 2 | U42: 3 | V42: 6 | W42: 4.6 | X42: 2 | Y42: 1.8 | Z42: 0 | AA42: 0
B43: Schaarsbergen, Viersprong | C43: 0 | D43: 0 | E43: 0 | F43: 0 | G43: 1 | H43: 0.8 | I43: 1 | J43: 1.8 | K43: 1.8 | L43: 1 | M43: 3 | N43: 1.8 | O43: 3.8 | P43: 2 | Q43: 2 | R43: 1 | S43: 2 | T43: 2.7 | U43: 3 | V43: 6 | W43: 4.8 | X43: 3.8 | Y43: 2 | Z43: 1 | AA43: 0
B44: Schaarsbergen, Kaderschool Luchtmacht | C44: 0 | D44: 1 | E44: 1 | F44: 0 | G44: 1 | H44: 2 | I44: 1.8 | J44: 2 | K44: 1.8 | L44: 1 | M44: 3 | N44: 1.8 | O44: 3.8 | P44: 2 | Q44: 2 | R44: 1 | S44: 2 | T44: 3 | U44: 3 | V44: 6 | W44: 5 | X44: 5 | Y44: 5 | Z44: 3 | AA44: 0.8
B45: Schaarsbergen, Koningsweg | C45: 0 | D45: 1.8 | E45: 1.8 | F45: 2 | G45: 2 | H45: 2 | I45: 2 | J45: 2 | K45: 4 | L45: 2.8 | M45: 4 | N45: 2.8 | O45: 3 | P45: 3.8 | Q45: 2 | R45: 2 | S45: 2 | T45: 3 | U45: 4.8 | V45: 6.8 | W45: 7.8 | X45: 7.8 | Y45: 5.8 | Z45: 4 | AA45: 1.8 | AB45: 0.8 | AC45: 1 | AD45: 2 | AE45: 1 | AF45: 1.8 | AG45: 2 | AH45: 1 | AI45: 0
B46: Schaarsbergen, Museum 40-45 | C46: 0 | D46: 2 | E46: 1.8 | F46: 2 | G46: 2 | H46: 2.8 | I46: 2 | J46: 2.8 | K46: 4.8 | L46: 3 | M46: 5 | N46: 4.8 | O46: 5 | P46: 4 | Q46: 2.8 | R46: 3 | S46: 3.8 | T46: 4.8 | U46: 5.8 | V46: 9.6 | W46: 8 | X46: 9.8 | Y46: 7.8 | Z46: 4 | AA46: 2 | AB46: 1 | AC46: 1 | AD46: 2.8 | AE46: 1 | AF46: 1.8 | AG46: 2 | AH46: 1 | AI46: 0
B47: Schaarsbergen, Pannekoekhuis | C47: 0 | D47: 2 | E47: 2 | F47: 3 | G47: 2.8 | H47: 3 | I47: 2 | J47: 3.8 | K47: 4.8 | L47: 3 | M47: 5 | N47: 5 | O47: 6 | P47: 4.8 | Q47: 3.8 | R47: 4 | S47: 4 | T47: 5 | U47: 5.8 | V47: 9.6 | W47: 9 | X47: 9.8 | Y47: 7.8 | Z47: 4 | AA47: 3 | AB47: 1.8 | AC47: 1 | AD47: 3 | AE47: 1.8 | AF47: 2 | AG47: 2 | AH47: 1 | AI47: 0
B48: Schaarsbergen, Dennenheide | C48: 0 | D48: 2 | E48: 2 | F48: 3 | G48: 2.8 | H48: 3 | I48: 2 | J48: 3.8 | K48: 4.8 | L48: 3 | M48: 5 | N48: 5 | O48: 6 | P48: 4.8 | Q48: 3.8 | R48: 4 | S48: 4 | T48: 5 | U48: 5.8 | V48: 9.6 | W48: 9 | X48: 9.8 | Y48: 7.8 | Z48: 4 | AA48: 3 | AB48: 1.8 | AC48: 1 | AD48: 3 | AE48: 1.8 | AF48: 2 | AG48: 2 | AH48: 1 | AI48: 0
B49: Schaarsbergen, Casa Nova | C49: 0 | D49: 2.8 | E49: 2 | F49: 3 | G49: 3 | H49: 3 | I49: 2 | J49: 3.8 | K49: 4.8 | L49: 3 | M49: 5 | N49: 5.8 | O49: 6 | P49: 4.8 | Q49: 3.8 | R49: 4 | S49: 4 | T49: 5.8 | U49: 5.8 | V49: 10.4 | W49: 9 | X49: 9.8 | Y49: 7.8 | Z49: 4 | AA49: 3 | AB49: 1.8 | AC49: 1 | AD49: 3 | AE49: 1.8 | AF49: 2 | AG49: 2 | AH49: 1 | AI49: 0
B50: Schaarsbergen, Kemperbergerweg | C50: 0 | D50: 2.8 | E50: 2 | F50: 4 | G50: 3 | H50: 3 | I50: 4 | J50: 4 | K50: 6 | L50: 3 | M50: 5 | N50: 6 | O50: 7 | P50: 4.8 | Q50: 4 | R50: 4.8 | S50: 4 | T50: 5.8 | U50: 6 | V50: 9.6 | W50: 9 | X50: 9.8 | Y50: 7.8 | Z50: 4 | AA50: 3 | AB50: 1.8 | AC50: 1 | AD50: 3 | AE50: 1.8 | AF50: 2 | AG50: 2 | AH50: 1 | AI50: 0
B51: Schaarsbergen, Menthenbergseweg | C51: 0 | D51: 2.8 | E51: 2.8 | F51: 4 | G51: 4 | H51: 3 | I51: 4 | J51: 4.8 | K51: 6 | L51: 3 | M51: 5 | N51: 7 | O51: 7 | P51: 5 | Q51: 4 | R51: 5 | S51: 4.8 | T51: 5.8 | U51: 6.8 | V51: 11 | W51: 9 | X51: 10.8 | Y51: 8 | Z51: 4 | AA51: 3 | AB51: 3 | AC51: 1 | AD51: 3 | AE51: 1.8 | AF51: 2 | AG51: 2 | AH51: 1 | AI51: 0
B52: Schaarsbergen, Warnsborn | C52: 0 | D52: 2.8 | E52: 2.8 | F52: 4 | G52: 4 | H52: 3.8 | I52: 4 | J52: 5 | K52: 6 | L52: 3.8 | M52: 5 | N52: 7.8 | O52: 7 | P52: 5 | Q52: 5.8 | R52: 5.8 | S52: 6 | T52: 9 | U52: 6.8 | V52: 11 | W52: 9.8 | X52: 10.8 | Y52: 8 | Z52: 4 | AA52: 3 | AB52: 3 | AC52: 1 | AD52: 3 | AE52: 1.8 | AF52: 2 | AG52: 2 | AH52: 1 | AI52: 0
B53: Schaarsbergen, Lijnbaan | C53: 0 | D53: 2.8 | E53: 4 | F53: 5 | G53: 4 | H53: 4 | I53: 4 | J53: 5.8 | K53: 7 | L53: 4 | M53: 5.8 | N53: 7.8 | O53: 7.8 | P53: 6 | Q53: 6 | R53: 6.6 | S53: 7 | T53: 9 | U53: 7 | V53: 12.6 | W53: 9.8 | X53: 10.8 | Y53: 8 | Z53: 4 | AA53: 3.8 | AB53: 3 | AC53: 1 | AD53: 3 | AE53: 2 | AF53: 3 | AG53: 2 | AH53: 1.8 | AI53: 0
B54: Arnhem, Schelmseweg | C54: 0 | D54: 3 | E54: 4 | F54: 8 | G54: 8 | H54: 5.8 | I54: 4.8 | J54: 7.8 | K54: 7 | L54: 4 | M54: 5.8 | N54: 8 | O54: 8.6 | P54: 6.8 | Q54: 6 | R54: 6.8 | S54: 7.8 | T54: 10 | U54: 8 | V54: 12.8 | W54: 11 | X54: 12 | Y54: 11.8 | Z54: 4.8 | AA54: 4 | AB54: 3 | AC54: 1 | AD54: 4 | AE54: 3 | AF54: 3 | AG54: 2.8 | AH54: 3 | AI54: 0
B55: Arnhem, Mesdaglaan | C55: 0 | D55: 3.8 | E55: 4.8 | F55: 8 | G55: 9 | H55: 6 | I55: 6.7 | J55: 7.8 | K55: 7 | L55: 5 | M55: 6 | N55: 8 | O55: 8.8 | P55: 7 | Q55: 7 | R55: 8 | S55: 8 | T55: 10.7 | U55: 8.8 | V55: 13.8 | W55: 13 | X55: 14.8 | Y55: 12 | Z55: 5.6 | AA55: 4 | AB55: 3 | AC55: 1.8 | AD55: 4 | AE55: 3 | AF55: 3.8 | AG55: 3 | AH55: 3 | AI55: 1
B56: Arnhem, Jacob Marislaan | C56: 0 | D56: 3.8 | E56: 5 | F56: 8.8 | G56: 9 | H56: 6.8 | I56: 8 | J56: 8.8 | K56: 7.8 | L56: 5.8 | M56: 7 | N56: 9.7 | O56: 9 | P56: 8.8 | Q56: 7 | R56: 9 | S56: 9 | T56: 13.8 | U56: 9.8 | V56: 13.8 | W56: 13 | X56: 15 | Y56: 12 | Z56: 6.8 | AA56: 5 | AB56: 3.8 | AC56: 2 | AD56: 5 | AE56: 4 | AF56: 4.8 | AG56: 3 | AH56: 3 | AI56: 1
... B63: Arnhem, Centraal Station | C63: 0 | D63: 0 | E63: 0 | F63: 0 | G63: 0 | H63: 0 | I63: 0 | J63: 0 | K63: 0 | L63: 0 | M63: 0 | N63: 0 | O63: 0.8 | P63: 0 | Q63: 0 | R63: 0 | S63: 0 | T63: 0 | U63: 0 | V63: 0 | W63: 1 | X63: 1 | Y63: 0 | Z63: 0 | AA63: 0 | AB63: 0 | AC63: 0 | AD63: 0 | AE63: 0 | AF63: 0 | AG63: 0 | AH63: 0.8 | AI63: 0
B64: MaxBezetting | C64: =MAX(C40:C63) -> 1 | D64: =MAX(D40:D63) -> 3.8 | E64: =MAX(E40:E63) -> 6.8 | F64: =MAX(F40:F63) -> 10.8 | G64: =MAX(G40:G63) -> 12.6 | H64: =MAX(H40:H63) -> 8.8 | I64: =MAX(I40:I63) -> 9.8 | J64: =MAX(J40:J63) -> 9.7 | ... AI64: =MAX(AI40:AI63) -> 1
B65: uurblok | C65: =HOUR(C38) -> 6 | D65: =HOUR(D38) -> 6 | E65: =HOUR(E38) -> 7 | F65: =HOUR(F38) -> 7 | G65: =HOUR(G38) -> 8 | H65: =HOUR(H38) -> 8 | I65: =HOUR(I38) -> 9 | J65: =HOUR(J38) -> 9 | ... AH65: =HOUR(AH38) -> 23 | AI65: 24
B69: bezettingstelling lijn 9 - van ARNHEM CS - SCHAARSBERGEN - zaterdag | bron: chipkaart gegevens november 2023 | 80 percentiel waarde
B70: ritnummer | C70: 4001 | D70: 4003 | E70: 4005 | F70: 4007 | G70: 4009 | H70: 4011 | I70: 4013 | J70: 4015 | K70: 4017 | L70: 4019 | M70: 4021 | N70: 4023 | O70: 4025 | P70: 4027 | Q70: 4029 | R70: 4031 | S70: 4033 | T70: 4035 | U70: 4037 | V70: 4039 | W70: 4041 | X70: 4043 | Y70: 4045 | Z70: 4047 | AA70: 4049 | AB70: 4051 | AC70: 4053 | AD70: 4055
B71: vertrektijd beginhalte | C71: 0.34722222 | D71: 0.36805556 | E71: 0.38888889 | F71: 0.40972222 | G71: 0.43055556 | H71: 0.45138889 | I71: 0.47222222 | J71: 0.49305556 | K71: 0.51388889 | L71: 0.53472222 | M71: 0.55555556 | N71: 0.57638889 | O71: 0.59722222 | P71: 0.61805556 | Q71: 0.63888889 | R71: 0.65972222 | S71: 0.68055556 | T71: 0.70138889 | U71: 0.72222222 | V71: 0.74305556 | W71: 0.76388889 | X71: 0.78472222 | Y71: 0.80555556 | Z71: 0.82638889 | AA71: 0.86805556 | AB71: 0.90972222 | AC71: 0.95138889 | AD71: 0.99305556
B73: Arnhem, Centraal Station | C73: 2.4 | D73: 2 | E73: 4 | F73: 1.8 | G73: 4.2 | H73: 2.8 | I73: 4.6 | J73: 3 | K73: 7.2 | L73: 7.2 | M73: 1.8 | N73: 3.8 | O73: 6.2 | P73: 3.2 | Q73: 8.4 | R73: 6 | S73: 13 | T73: 11.2 | U73: 6.6 | V73: 7.6 | W73: 5 | X73: 4.2 | Y73: 4.4 | Z73: 4.4 | AA73: 11 | AB73: 7.8 | AC73: 2.4 | AD73: 10.8
B74: Arnhem, Willemsplein | C74: 4.8 | D74: 3.4 | E74: 6.4 | F74: 3 | G74: 6.6 | H74: 5.6 | I74: 7 | J74: 8.4 | K74: 7.2 | L74: 5.8 | M74: 7.4 | N74: 9 | O74: 9.4 | P74: 7.8 | Q74: 8.4 | R74: 8 | S74: 13 | T74: 11.2 | U74: 9 | V74: 8.6 | W74: 6.2 | X74: 4.8 | Y74: 4.4 | Z74: 4.4 | AA74: 11 | AB74: 7.8 | AC74: 4.8 | AD74: 13.2
B75: Arnhem, Sonsbeekweg | C75: 4.8 | D75: 3.4 | E75: 6.4 | F75: 3.4 | G75: 8.6 | H75: 5.6 | I75: 7 | J75: 8.4 | K75: 7.2 | L75: 6.2 | M75: 7.8 | N75: 9.4 | O75: 9.4 | P75: 7.8 | Q75: 8.4 | R75: 10.8 | S75: 13 | T75: 11.2 | U75: 9 | V75: 8.6 | W75: 6.2 | X75: 4.8 | Y75: 4.4 | Z75: 4.4 | AA75: 11 | AB75: 7.8 | AC75: 4.8 | AD75: 13.2
B76: Arnhem, Burgemeestersplein | C76: 3.8 | D76: 3.4 | E76: 6.4 | F76: 3.4 | G76: 7.6 | H76: 5.6 | I76: 7 | J76: 8.8 | K76: 6.8 | L76: 6.2 | M76: 8.2 | N76: 9 | O76: 9.4 | P76: 7.2 | Q76: 8.4 | R76: 9.9 | S76: 13 | T76: 11.2 | U76: 9 | V76: 8.2 | W76: 6.1 | X76: 4.8 | Y76: 3.8 | Z76: 4.4 | AA76: 11 | AB76: 8.6 | AC76: 4.8 | AD76: 13.2
B77: Arnhem, Burg. Weertsstraat | C77: 3.4 | D77: 3.4 | E77: 6.4 | F77: 2.8 | G77: 7 | H77: 5.4 | I77: 6.4 | J77: 8.2 | K77: 7 | L77: 4.6 | M77: 8.2 | N77: 10.1 | O77: 9.3 | P77: 6.5 | Q77: 9.2 | R77: 10.2 | S77: 13.3 | T77: 9.2 | U77: 7.4 | V77: 7.3 | W77: 5.6 | X77: 4.8 | Y77: 3.8 | Z77: 4.4 | AA77: 9.4 | AB77: 7.4 | AC77: 4.8 | AD77: 12.6
B78: Arnhem, Izaak Evertslaan | C78: 3.4 | D78: 3.4 | E78: 6 | F78: 2.8 | G78: 6.2 | H78: 5.4 | I78: 5.2 | J78: 8.2 | K78: 7 | L78: 4.6 | M78: 8.2 | N78: 9.4 | O78: 9.2 | P78: 5.9 | Q78: 8.4 | R78: 9.5 | S78: 9.7 | T78: 6 | U78: 7 | V78: 7 | W78: 4.6 | X78: 4 | Y78: 3.8 | Z78: 4.4 | AA78: 9.3 | AB78: 7 | AC78: 3 | AD78: 11.7
B79: Arnhem, van Ruisdaelstraat | C79: 3.4 | D79: 3.4 | E79: 5.4 | F79: 2.8 | G79: 6.2 | H79: 5.4 | I79: 5.2 | J79: 8.2 | K79: 7 | L79: 4.2 | M79: 8.1 | N79: 8.8 | O79: 8.8 | P79: 5.4 | Q79: 8.4 | R79: 9.5 | S79: 8.3 | T79: 5.4 | U79: 6.4 | V79: 5.7 | W79: 3.8 | X79: 3.4 | Y79: 3.8 | Z79: 4.4 | AA79: 9.3 | AB79: 7 | AC79: 3 | AD79: 11.3
B80: Arnhem, Jacob Marislaan | C80: 3.4 | D80: 3.4 | E80: 5.4 | F80: 2.8 | G80: 6.2 | H80: 5 | I80: 4.8 | J80: 7.6 | K80: 7 | L80: 3 | M80: 8.1 | N80: 7.1 | O80: 7.9 | P80: 5 | Q80: 7.8 | R80: 9.5 | S80: 8.3 | T80: 5 | U80: 5.8 | V80: 5.6 | W80: 3.2 | X80: 2.8 | Y80: 3.4 | Z80: 3.8 | AA80: 7.9 | AB80: 7 | AC80: 3 | AD80: 10.6
B81: Arnhem, Mesdaglaan | C81: 3.4 | D81: 3.4 | E81: 5.4 | F81: 2.8 | G81: 4.6 | H81: 3.8 | I81: 4.8 | J81: 6.6 | K81: 6.6 | L81: 2.6 | M81: 5.3 | N81: 6.4 | O81: 6.4 | P81: 4.2 | Q81: 7.2 | R81: 7.6 | S81: 7.2 | T81: 4.2 | U81: 5 | V81: 4.1 | W81: 3.2 | X81: 1.4 | Y81: 2.2 | Z81: 3.2 | AA81: 7.1 | AB81: 6.4 | AC81: 3 | AD81: 8.8
B82: Arnhem, Schelmseweg | C82: 3.4 | D82: 3.4 | E82: 5.4 | F82: 2 | G82: 4.6 | H82: 3 | I82: 4.2 | J82: 5.4 | K82: 6 | L82: 2.6 | M82: 4.7 | N82: 5.8 | O82: 5.4 | P82: 2.8 | Q82: 6 | R82: 7 | S82: 7.2 | T82: 3.4 | U82: 3.8 | V82: 4 | W82: 1.8 | X82: 1 | Y82: 2.2 | Z82: 3.2 | AA82: 5.9 | AB82: 6.4 | AC82: 3 | AD82: 8.3
... B91: Schaarsbergen, Koningsweg | C91: 0 | D91: 0 | E91: 0 | F91: 0 | G91: 0 | H91: 0 | I91: 0 | J91: 0.4 | K91: 0 | L91: 0 | M91: 0.4 | N91: 0.4 | O91: 1.2 | P91: 0 | Q91: 2.2 | R91: 1.6 | S91: 0 | T91: 0.4 | U91: 1.4 | V91: 0 | W91: 0 | X91: 0 | Y91: 0 | Z91: 0 | AA91: 1 | AB91: 0.8 | AC91: 0 | AD91: 0
B92: MaxBezetting | C92: =MAX(C73:C91) -> 4.8 | D92: =MAX(D73:D91) -> 3.4 | E92: =MAX(E73:E91) -> 6.4 | F92: =MAX(F73:F91) -> 3.4 | G92: =MAX(G73:G91) -> 8.6 | H92: =MAX(H73:H91) -> 5.6 | I92: =MAX(I73:I91) -> 7 | J92: =MAX(J73:J91) -> 8.8 | ... AD92: =MAX(AD73:AD91) -> 13.2
B93: uurblok | C93: =HOUR(C71) -> 8 | D93: =HOUR(D71) -> 8 | E93: =HOUR(E71) -> 9 | F93: =HOUR(F71) -> 9 | G93: =HOUR(G71) -> 10 | H93: =HOUR(H71) -> 10 | I93: =HOUR(I71) -> 11 | J93: =HOUR(J71) -> 11 | ... AD93: =HOUR(AD71) -> 23
B96: bezettingstelling lijn 9 - van SCHAARSBERGEN naar ARNHEM CS - zaterdag | bron: chipkaart gegevens november 2023 | 80 percentiel waarde
B97: ritnummer | C97: 4002 | D97: 4004 | E97: 4006 | F97: 4008 | G97: 4010 | H97: 4012 | I97: 4014 | J97: 4016 | K97: 4018 | L97: 4020 | M97: 4022 | N97: 4024 | O97: 4026 | P97: 4028 | Q97: 4030 | R97: 4032 | S97: 4034 | T97: 4036 | U97: 4038 | V97: 4040 | W97: 4042 | X97: 4044 | Y97: 4046 | Z97: 4048 | AA97: 4050 | AB97: 4052 | AC97: 4054 | AD97: 4056 | AE97: 4058
B98: vertrektijd beginhalte | C98: 0.34166667 | D98: 0.36180556 | E98: 0.38263889 | F98: 0.40347222 | G98: 0.42430556 | H98: 0.44513889 | I98: 0.46597222 | J98: 0.48680556 | K98: 0.50763889 | L98: 0.52847222 | M98: 0.54930556 | N98: 0.57013889 | O98: 0.59097222 | P98: 0.61180556 | Q98: 0.63263889 | R98: 0.65347222 | S98: 0.67430556 | T98: 0.69513889 | U98: 0.71597222 | V98: 0.73680556 | W98: 0.75763889 | X98: 0.77847222 | Y98: 0.79930556 | Z98: 0.82013889 | AA98: 0.84097222 | AB98: 0.88263889 | AC98: 0.92430556 | AD98: 0.96597222 | AE98: 1.0076389
B100: Schaarsbergen, Koningsweg | C100: 1 | D100: 0 | E100: 0 | F100: 0.4 | G100: 0 | H100: 2.2 | I100: 4 | J100: 2 | K100: 4.4 | L100: 1.8 | M100: 5.8 | N100: 5.4 | O100: 3.2 | P100: 1.8 | Q100: 1.2 | R100: 3.6 | S100: 2 | T100: 1.4 | U100: 1.4 | V100: 2.4 | W100: 7.2 | X100: 4 | Y100: 2.8 | Z100: 5.4 | AA100: 1.4 | AB100: 3.8 | AC100: 1.6 | AD100: 0.4 | AE100: 0.4
B101: Schaarsbergen, Museum 40-45 | C101: 1 | D101: 0.8 | E101: 0.4 | F101: 0.4 | G101: 0 | H101: 2.2 | I101: 4 | J101: 2 | K101: 4.4 | L101: 2.2 | M101: 7 | N101: 5.4 | O101: 4.2 | P101: 3.8 | Q101: 1.6 | R101: 5.4 | S101: 2.8 | T101: 3 | U101: 1.4 | V101: 2.4 | W101: 7.2 | X101: 4 | Y101: 3.4 | Z101: 5.4 | AA101: 1.4 | AB101: 3.8 | AC101: 1.6 | AD101: 0.4 | AE101: 0.4
B102: Schaarsbergen, Pannekoekhuis | C102: 1.4 | D102: 0.8 | E102: 0.4 | F102: 0.4 | G102: 0 | H102: 2.2 | I102: 4 | J102: 2 | K102: 4.4 | L102: 2.2 | M102: 7 | N102: 6 | O102: 4.8 | P102: 5.8 | Q102: 2.8 | R102: 5.4 | S102: 3.8 | T102: 3 | U102: 1.8 | V102: 2.4 | W102: 7.2 | X102: 4.4 | Y102: 3.4 | Z102: 5.4 | AA102: 3.2 | AB102: 3.8 | AC102: 1.6 | AD102: 0.4 | AE102: 0.4
B103: Schaarsbergen, Dennenheide | C103: 1.4 | D103: 0.8 | E103: 0.4 | F103: 0.4 | G103: 0 | H103: 2.2 | I103: 4 | J103: 2 | K103: 4.4 | L103: 2.2 | M103: 7 | N103: 6 | O103: 4.8 | P103: 5.8 | Q103: 2.8 | R103: 5.4 | S103: 3.8 | T103: 3 | U103: 1.8 | V103: 2.4 | W103: 7.2 | X103: 4.4 | Y103: 4.4 | Z103: 5.4 | AA103: 3.2 | AB103: 3.8 | AC103: 1.6 | AD103: 0.4 | AE103: 0.4
B104: Schaarsbergen, Casa Nova | C104: 1.4 | D104: 0.8 | E104: 1 | F104: 0.4 | G104: 1.4 | H104: 2.2 | I104: 5.2 | J104: 2 | K104: 4.4 | L104: 2.2 | M104: 7 | N104: 6 | O104: 4.8 | P104: 5.8 | Q104: 2.8 | R104: 5.4 | S104: 3.8 | T104: 3 | U104: 2.6 | V104: 2.4 | W104: 7.2 | X104: 4.4 | Y104: 5 | Z104: 5.4 | AA104: 3.6 | AB104: 3.8 | AC104: 1.6 | AD104: 0.4 | AE104: 0.4
B105: Schaarsbergen, Kemperbergerweg | C105: 1.8 | D105: 0.8 | E105: 1 | F105: 0.4 | G105: 1.4 | H105: 2.2 | I105: 5.2 | J105: 2.4 | K105: 4.4 | L105: 2.2 | M105: 7 | N105: 6 | O105: 6.4 | P105: 6.2 | Q105: 2.8 | R105: 5.4 | S105: 3.8 | T105: 3.8 | U105: 2.6 | V105: 3.4 | W105: 7.2 | X105: 5 | Y105: 5 | Z105: 5.4 | AA105: 3.6 | AB105: 3.8 | AC105: 1.6 | AD105: 0.4 | AE105: 0.4
B106: Schaarsbergen, Menthenbergseweg | C106: 1.8 | D106: 0.8 | E106: 2 | F106: 0.4 | G106: 1.4 | H106: 2.2 | I106: 5.6 | J106: 3.4 | K106: 4.4 | L106: 2.2 | M106: 7.4 | N106: 6.6 | O106: 6.4 | P106: 6.2 | Q106: 2.8 | R106: 5.4 | S106: 3.8 | T106: 3.8 | U106: 4 | V106: 3.4 | W106: 7.8 | X106: 5 | Y106: 5 | Z106: 6 | AA106: 4 | AB106: 4.4 | AC106: 2.2 | AD106: 0.4 | AE106: 0.4
B107: Schaarsbergen, Warnsborn | C107: 1.8 | D107: 0.8 | E107: 2 | F107: 2 | G107: 1.4 | H107: 3 | I107: 5.6 | J107: 3.4 | K107: 4.4 | L107: 2.2 | M107: 7.4 | N107: 7 | O107: 6.8 | P107: 7.6 | Q107: 5.4 | R107: 6.4 | S107: 4.4 | T107: 3.8 | U107: 4.6 | V107: 3.4 | W107: 7.8 | X107: 5 | Y107: 5 | Z107: 6 | AA107: 4 | AB107: 4.4 | AC107: 2.2 | AD107: 0.8 | AE107: 0.4
B108: Schaarsbergen, Lijnbaan | C108: 3 | D108: 2 | E108: 2.4 | F108: 3 | G108: 2 | H108: 4.8 | I108: 6.4 | J108: 3.4 | K108: 4.4 | L108: 2.8 | M108: 7.4 | N108: 7.6 | O108: 7.8 | P108: 7.6 | Q108: 6.4 | R108: 6.4 | S108: 4.4 | T108: 4.2 | U108: 7.8 | V108: 3.4 | W108: 7.8 | X108: 5 | Y108: 6 | Z108: 6.4 | AA108: 4 | AB108: 4.4 | AC108: 2.2 | AD108: 0.8 | AE108: 0.4
B109: Arnhem, Schelmseweg | C109: 3 | D109: 3.4 | E109: 2.8 | F109: 4 | G109: 2.8 | H109: 6.4 | I109: 5.6 | J109: 4.8 | K109: 6.2 | L109: 5.2 | M109: 9.2 | N109: 9 | O109: 8.4 | P109: 8.2 | Q109: 8.4 | R109: 6.4 | S109: 4.8 | T109: 6.4 | U109: 7.8 | V109: 4.2 | W109: 7.8 | X109: 6.4 | Y109: 5.8 | Z109: 6.8 | AA109: 5.2 | AB109: 6.8 | AC109: 3 | AD109: 0.8 | AE109: 0.4
... B118: Arnhem, Centraal Station | C118: 0 | D118: 1.4 | E118: 0 | F118: 0 | G118: 0 | H118: 0.4 | I118: 0 | J118: 0 | K118: 0 | L118: 0.8 | M118: 0 | N118: 0 | O118: 1.2 | P118: 0 | Q118: 2.2 | R118: 0 | S118: 0 | T118: 0.4 | U118: 0.4 | V118: 0 | W118: 0 | X118: 0 | Y118: 0 | Z118: 0 | AA118: 0 | AB118: 0 | AC118: 0 | AD118: 0 | AE118: 0
B119: MaxBezetting | C119: =MAX(C100:C118) -> 3 | D119: =MAX(D100:D118) -> 5.4 | E119: =MAX(E100:E118) -> 4 | F119: =MAX(F100:F118) -> 7.4 | G119: =MAX(G100:G118) -> 4.6 | H119: =MAX(H100:H118) -> 8.6 | I119: =MAX(I100:I118) -> 8.7 | J119: =MAX(J100:J118) -> 7 | ... AE119: =MAX(AE100:AE118) -> 2.4
B120: uurblok | C120: =HOUR(C98) -> 8 | D120: =HOUR(D98) -> 8 | E120: =HOUR(E98) -> 9 | F120: =HOUR(F98) -> 9 | G120: =HOUR(G98) -> 10 | H120: =HOUR(H98) -> 10 | I120: =HOUR(I98) -> 11 | J120: =HOUR(J98) -> 11 | ... AD120: =HOUR(AD98) -> 23 | AE120: 24
B124: bezettingstelling lijn 9 - van ARNHEM CS - SCHAARSBERGEN - zondag | bron: chipkaart gegevens november 2023 | 80 percentiel waarde
B125: ritnummer | C125: 7001 | D125: 7003 | E125: 7005 | F125: 7007 | G125: 7009 | H125: 7011 | I125: 7013 | J125: 7015 | K125: 7017 | L125: 7019 | M125: 7021 | N125: 7023 | O125: 7025 | P125: 7027 | Q125: 7029 | R125: 7031 | S125: 7033 | T125: 7035 | U125: 7037 | V125: 7039 | W125: 7041 | X125: 7043 | Y125: 7045 | Z125: 7047 | AA125: 7049 | AB125: 7051
B126: vertrektijd beginhalte | C126: 0.38888889 | D126: 0.40972222 | E126: 0.43055556 | F126: 0.45138889 | G126: 0.47222222 | H126: 0.49305556 | I126: 0.51388889 | J126: 0.53472222 | K126: 0.55555556 | L126: 0.57638889 | M126: 0.59722222 | N126: 0.61805556 | O126: 0.63888889 | P126: 0.65972222 | Q126: 0.68055556 | R126: 0.70138889 | S126: 0.72291667 | T126: 0.74305556 | U126: 0.76388889 | V126: 0.78472222 | W126: 0.80555556 | X126: 0.82638889 | Y126: 0.86805556 | Z126: 0.90972222 | AA126: 0.95138889 | AB126: 0.99305556
B128: Arnhem, Centraal Station | C128: 0.4 | D128: 2.2 | E128: 4.4 | F128: 1.8 | G128: 2 | H128: 3.2 | I128: 8.8 | J128: 2.2 | K128: 4.4 | L128: 3.4 | M128: 6.4 | N128: 5.4 | O128: 4.4 | P128: 9.4 | Q128: 3 | R128: 3.4 | S128: 3 | T128: 3.4 | U128: 6.8 | V128: 7.6 | W128: 1.8 | X128: 3.8 | Y128: 4.8 | Z128: 3.6 | AA128: 3.6 | AB128: 0.8
B129: Arnhem, Willemsplein | C129: 4 | D129: 4.8 | E129: 6 | F129: 2.8 | G129: 5.4 | H129: 7.2 | I129: 10 | J129: 3.4 | K129: 5 | L129: 3.4 | M129: 10 | N129: 6.4 | O129: 9.4 | P129: 9.8 | Q129: 5.2 | R129: 6 | S129: 3 | T129: 5.8 | U129: 9.8 | V129: 7.6 | W129: 1.8 | X129: 4.4 | Y129: 6.6 | Z129: 4.2 | AA129: 6 | AB129: 3
B130: Arnhem, Sonsbeekweg | C130: 4 | D130: 6 | E130: 6 | F130: 3.4 | G130: 5.4 | H130: 7.2 | I130: 10 | J130: 3.4 | K130: 5 | L130: 3.4 | M130: 10 | N130: 6.4 | O130: 9.4 | P130: 9.8 | Q130: 7 | R130: 6 | S130: 3 | T130: 5.8 | U130: 9.8 | V130: 7.6 | W130: 1.8 | X130: 4.4 | Y130: 6.6 | Z130: 4.2 | AA130: 6 | AB130: 3
B131: Arnhem, Burgemeestersplein | C131: 4 | D131: 6 | E131: 6 | F131: 3.4 | G131: 5.4 | H131: 7.2 | I131: 9.4 | J131: 3.4 | K131: 5.4 | L131: 3.4 | M131: 8.8 | N131: 6.4 | O131: 9 | P131: 9.8 | Q131: 7 | R131: 5.4 | S131: 3 | T131: 5.7 | U131: 9.6 | V131: 8.2 | W131: 1.8 | X131: 4.4 | Y131: 6.6 | Z131: 4.2 | AA131: 5.4 | AB131: 3
B132: Arnhem, Burg. Weertsstraat | C132: 4 | D132: 5.4 | E132: 7.9 | F132: 2.7 | G132: 4.4 | H132: 6.4 | I132: 9.4 | J132: 4 | K132: 6.2 | L132: 3 | M132: 8.4 | N132: 5.8 | O132: 7.4 | P132: 8.1 | Q132: 6 | R132: 4.9 | S132: 3 | T132: 5.5 | U132: 9.2 | V132: 4 | W132: 1.8 | X132: 5.3 | Y132: 6.8 | Z132: 3.6 | AA132: 5.3 | AB132: 3
B133: Arnhem, Izaak Evertslaan | C133: 3.6 | D133: 5.4 | E133: 7.9 | F133: 2.7 | G133: 4.4 | H133: 6.4 | I133: 9.4 | J133: 3.9 | K133: 7.4 | L133: 3 | M133: 8 | N133: 3.6 | O133: 7.2 | P133: 8.1 | Q133: 4.4 | R133: 4.8 | S133: 3 | T133: 5.5 | U133: 8.7 | V133: 2.8 | W133: 1.8 | X133: 5.3 | Y133: 5.8 | Z133: 3.2 | AA133: 5.3 | AB133: 3
B134: Arnhem, van Ruisdaelstraat | C134: 3.6 | D134: 5.4 | E134: 7.9 | F134: 2.7 | G134: 4.4 | H134: 4.8 | I134: 9.4 | J134: 3.9 | K134: 7.4 | L134: 3 | M134: 8 | N134: 3.6 | O134: 7.2 | P134: 7.3 | Q134: 4 | R134: 4.8 | S134: 2.4 | T134: 4.7 | U134: 8.7 | V134: 2.4 | W134: 1.8 | X134: 5.3 | Y134: 5.8 | Z134: 3.2 | AA134: 5.3 | AB134: 3
B135: Arnhem, Jacob Marislaan | C135: 3.6 | D135: 5.4 | E135: 7.8 | F135: 2.6 | G135: 4.4 | H135: 4.4 | I135: 9.4 | J135: 3.9 | K135: 6.6 | L135: 3 | M135: 8 | N135: 2.8 | O135: 7.2 | P135: 6.4 | Q135: 4 | R135: 2.7 | S135: 2 | T135: 4.7 | U135: 8.6 | V135: 2.4 | W135: 1.8 | X135: 4.8 | Y135: 5.1 | Z135: 3.2 | AA135: 5.1 | AB135: 2
B136: Arnhem, Mesdaglaan | C136: 3.5 | D136: 5.4 | E136: 7.8 | F136: 2.6 | G136: 4.4 | H136: 4.4 | I136: 9.4 | J136: 3.9 | K136: 6.2 | L136: 2 | M136: 6.8 | N136: 2.8 | O136: 4.8 | P136: 6.2 | Q136: 3 | R136: 2.3 | S136: 1.4 | T136: 3.6 | U136: 8.4 | V136: 1.4 | W136: 1.8 | X136: 3.8 | Y136: 4.7 | Z136: 2.8 | AA136: 4 | AB136: 2
B137: Arnhem, Schelmseweg | C137: 3.4 | D137: 5.4 | E137: 5.6 | F137: 2.5 | G137: 4.1 | H137: 3.4 | I137: 7.6 | J137: 3.9 | K137: 4.4 | L137: 2 | M137: 6.2 | N137: 2.8 | O137: 4.4 | P137: 5.3 | Q137: 2.4 | R137: 2.3 | S137: 1.4 | T137: 2.6 | U137: 6.5 | V137: 1.4 | W137: 1.8 | X137: 3 | Y137: 4.6 | Z137: 2.4 | AA137: 4 | AB137: 1.4
... B146: Schaarsbergen, Koningsweg | C146: 0 | D146: 0.4 | E146: 0.8 | F146: 0 | G146: 0 | H146: 0.4 | I146: 0 | J146: 0 | K146: 0 | L146: 0 | M146: 1.2 | N146: 0 | O146: 0.8 | P146: 0.4 | Q146: 0 | R146: 0.4 | S146: 0 | T146: 0 | U146: 2 | V146: 0 | W146: 0 | X146: 0 | Y146: 1.4 | Z146: 0 | AA146: 0 | AB146: 0
B147: MaxBezetting | C147: =MAX(C128:C146) -> 4 | D147: =MAX(D128:D146) -> 6 | E147: =MAX(E128:E146) -> 7.9 | F147: =MAX(F128:F146) -> 3.4 | G147: =MAX(G128:G146) -> 5.4 | H147: =MAX(H128:H146) -> 7.2 | I147: =MAX(I128:I146) -> 10 | J147: =MAX(J128:J146) -> 4 | ... AB147: =MAX(AB128:AB146) -> 3
B148: uurblok | C148: =HOUR(C126) -> 9 | D148: =HOUR(D126) -> 9 | E148: =HOUR(E126) -> 10 | F148: =HOUR(F126) -> 10 | G148: =HOUR(G126) -> 11 | H148: =HOUR(H126) -> 11 | I148: =HOUR(I126) -> 12 | J148: =HOUR(J126) -> 12 | ... AB148: =HOUR(AB126) -> 23
B151: bezettingstelling lijn 9 - van SCHAARSBERGEN naar ARNHEM CS - zondag | bron: chipkaart gegevens november 2023 | 80 percentiel waarde
B152: ritnummer | C152: 7002 | D152: 7004 | E152: 7006 | F152: 7008 | G152: 7010 | H152: 7012 | I152: 7014 | J152: 7016 | K152: 7018 | L152: 7020 | M152: 7022 | N152: 7024 | O152: 7026 | P152: 7028 | Q152: 7030 | R152: 7032 | S152: 7034 | T152: 7036 | U152: 7038 | V152: 7040 | W152: 7042 | X152: 7044 | Y152: 7046 | Z152: 7048 | AA152: 7050 | AB152: 7052 | AC152: 7054
B153: vertrektijd beginhalte | C153: 0.38194444 | D153: 0.40277778 | E153: 0.42361111 | F153: 0.44444444 | G153: 0.46527778 | H153: 0.48611111 | I153: 0.50694444 | J153: 0.52777778 | K153: 0.54861111 | L153: 0.56944444 | M153: 0.59027778 | N153: 0.61111111 | O153: 0.63194444 | P153: 0.65277778 | Q153: 0.67361111 | R153: 0.69444444 | S153: 0.71527778 | T153: 0.73680556 | U153: 0.75694444 | V153: 0.77777778 | W153: 0.79861111 | X153: 0.81944444 | Y153: 0.84027778 | Z153: 0.88194444 | AA153: 0.92361111 | AB153: 0.96527778 | AC153: 1.0069444
B155: Schaarsbergen, Koningsweg | C155: 0 | D155: 0 | E155: 1.2 | F155: 0 | G155: 0.4 | H155: 1.4 | I155: 2 | J155: 0.4 | K155: 0 | L155: 0.4 | M155: 0.4 | N155: 2.8 | O155: 1.6 | P155: 2.8 | Q155: 4.4 | R155: 5 | S155: 2.4 | T155: 0.4 | U155: 4.8 | V155: 0.8 | W155: 2.4 | X155: 0.4 | Y155: 3.6 | Z155: 1.4 | AA155: 0.8 | AB155: 0.4 | AC155: 0
B156: Schaarsbergen, Museum 40-45 | C156: 0 | D156: 0 | E156: 1.2 | F156: 0 | G156: 1.4 | H156: 1.4 | I156: 2.4 | J156: 0.4 | K156: 0.4 | L156: 1 | M156: 0.4 | N156: 2.8 | O156: 3 | P156: 2.8 | Q156: 4.4 | R156: 5.4 | S156: 2.4 | T156: 0.4 | U156: 4.8 | V156: 1.4 | W156: 2.4 | X156: 0.4 | Y156: 3.6 | Z156: 1.8 | AA156: 0.8 | AB156: 0.4 | AC156: 0
B157: Schaarsbergen, Pannekoekhuis | C157: 0 | D157: 0.8 | E157: 1.2 | F157: 0.8 | G157: 1.4 | H157: 1.4 | I157: 2.4 | J157: 1 | K157: 1.8 | L157: 1.4 | M157: 0.4 | N157: 2.8 | O157: 3 | P157: 2.8 | Q157: 4.4 | R157: 5.4 | S157: 2.4 | T157: 1 | U157: 4.8 | V157: 1.4 | W157: 2.8 | X157: 1.8 | Y157: 5.6 | Z157: 2.4 | AA157: 0.8 | AB157: 0.4 | AC157: 0
B158: Schaarsbergen, Dennenheide | C158: 0 | D158: 0.8 | E158: 1.2 | F158: 0.8 | G158: 1.4 | H158: 1.4 | I158: 2.4 | J158: 1 | K158: 1.8 | L158: 1.4 | M158: 0.4 | N158: 2.8 | O158: 3 | P158: 2.8 | Q158: 4.4 | R158: 5.4 | S158: 2.4 | T158: 1 | U158: 4.8 | V158: 1.4 | W158: 2.8 | X158: 1.8 | Y158: 5.6 | Z158: 2.4 | AA158: 0.8 | AB158: 0.4 | AC158: 0
...

Sheet A009 - in uitstap per halte
B2: Lijn A009 - ri.1 - nov 2023 | F2: Lijn A009 - ri.2 - nov 2023 | J2: Lijn A009 - ri.1 - nov 2023 | N2: Lijn A009 - ri.2 - nov 2023 | R2: Lijn A009 - ri.1 - nov 2023 | V2: Lijn A009 - ri.2 - nov 2023
B3: werkdag-gemiddelde | C3: CI | D3: CO | F3: werkdag-gemiddelde | G3: CI | H3: CO | J3: zaterdag-gemiddelde | K3: CI | L3: CO | N3: zaterdag-gemiddelde | O3: CI | P3: CO | R3: zondag-gemiddelde | S3: CI | T3: CO | V3: zondag-gemiddelde | W3: CI | X3: CO
B4: Total | C4: =SUM(C5:C28) -> 254.7 | D4: =SUM(D5:D28) -> 250.1 | F4: Total | G4: =SUM(G5:G28) -> 235.1 | H4: =SUM(H5:H28) -> 231.1 | J4: Total | K4: =SUM(K5:K28) -> 185.4 | L4: =SUM(L5:L28) -> 180.6 | N4: Total | O4: =SUM(O5:O28) -> 185.1 | P4: =SUM(P5:P28) -> 181.1 | R4: Total | S4: =SUM(S5:S28) -> 124.4 | T4: =SUM(T5:T28) -> 118.8 | V4: Total | W4: =SUM(W5:W28) -> 126.6 | X4: =SUM(X5:X28) -> 123.6
B5: Arnhem, Centraal Station | C5: 156 | D5: 0 | F5: Schaarsbergen, I.P.C. | G5: 6.6 | H5: 0 | J5: Arnhem, Centraal Station | K5: 109.3 | L5: 0 | N5: Schaarsbergen, Koningsweg | O5: 43.8 | P5: 0 | R5: Arnhem, Centraal Station | S5: 69.8 | T5: 0 | V5: Schaarsbergen, Koningsweg | W5: 25.3 | X5: 0
B6: Arnhem, Willemsplein | C6: 75.5 | D6: 2 | F6: Deelen, Hoenderloseweg | G6: 7 | H6: 0.5 | J6: Arnhem, Willemsplein | K6: 53.3 | L6: 2.5 | N6: Schaarsbergen, Museum 40-45 | O6: 8.5 | P6: 0 | R6: Arnhem, Willemsplein | S6: 41.3 | T6: 0.8 | V6: Schaarsbergen, Museum 40-45 | W6: 3.8 | X6: 0
B7: Arnhem, Sonsbeekweg | C7: 4.7 | D7: 1.7 | F7: Schaarsbergen, C. van Maasdijklaan | G7: 11.5 | H7: 0.2 | J7: Arnhem, Sonsbeekweg | K7: 4.5 | L7: 0.3 | N7: Schaarsbergen, Pannekoekhuis | O7: 6 | P7: 0.3 | R7: Arnhem, Sonsbeekweg | S7: 3.8 | T7: 0.5 | V7: Schaarsbergen, Pannekoekhuis | W7: 6 | X7: 0
B8: Arnhem, Burgemeestersplein | C8: 3.1 | D8: 7.5 | F8: Schaarsbergen, Viersprong | G8: 6.2 | H8: 0 | J8: Arnhem, Burgemeestersplein | K8: 3 | L8: 4.3 | N8: Schaarsbergen, Dennenheide | O8: 1.3 | P8: 0 | R8: Arnhem, Burgemeestersplein | S8: 0.8 | T8: 2.2 | V8: Schaarsbergen, Dennenheide | W8: 0 | X8: 0
B9: Arnhem, Burg. Weertsstraat | C9: 9.3 | D9: 24.1 | F9: Schaarsbergen, Kaderschool Luchtmacht | G9: 8.4 | H9: 0.1 | J9: Arnhem, Burg. Weertsstraat | K9: 7.5 | L9: 23.3 | N9: Schaarsbergen, Casa Nova | O9: 3.3 | P9: 0.3 | R9: Arnhem, Burg. Weertsstraat | S9: 5.8 | T9: 13.2 | V9: Schaarsbergen, Casa Nova | W9: 2 | X9: 0
B10: Arnhem, Izaak Evertslaan | C10: 1.9 | D10: 18.5 | F10: Schaarsbergen, Koningsweg | G10: 24.7 | H10: 0.4 | J10: Arnhem, Izaak Evertslaan | K10: 2.3 | L10: 15.5 | N10: Schaarsbergen, Kemperbergerweg | O10: 4.8 | P10: 0 | R10: Arnhem, Izaak Evertslaan | S10: 1 | T10: 7.4 | V10: Schaarsbergen, Kemperbergerweg | W10: 2.3 | X10: 0
B11: Arnhem, van Ruisdaelstraat | C11: 0.6 | D11: 13 | F11: Schaarsbergen, Museum 40-45 | G11: 14.3 | H11: 0 | J11: Arnhem, van Ruisdaelstraat | K11: 0.5 | L11: 7.7 | N11: Schaarsbergen, Menthenbergseweg | O11: 6.5 | P11: 0 | R11: Arnhem, van Ruisdaelstraat | S11: 0.3 | T11: 2.8 | V11: Schaarsbergen, Menthenbergseweg | W11: 7.5 | X11: 0.3
B12: Arnhem, Jacob Marislaan | C12: 0.8 | D12: 18.3 | F12: Schaarsbergen, Pannekoekhuis | G12: 6.7 | H12: 0.4 | J12: Arnhem, Jacob Marislaan | K12: 1.3 | L12: 8.7 | N12: Schaarsbergen, Warnsborn | O12: 7.5 | P12: 0 | R12: Arnhem, Jacob Marislaan | S12: 0 | T12: 8.1 | V12: Schaarsbergen, Warnsborn | W12: 7.5 | X12: 0
B13: Arnhem, Mesdaglaan | C13: 0.3 | D13: 22.2 | F13: Schaarsbergen, Dennenheide | G13: 0.3 | H13: 0 | J13: Arnhem, Mesdaglaan | K13: 0.3 | L13: 22.4 | N13: Schaarsbergen, Lijnbaan | O13: 12.8 | P13: 0 | R13: Arnhem, Mesdaglaan | S13: 0 | T13: 10.1 | V13: Schaarsbergen, Lijnbaan | W13: 12.8 | X13: 0
B14: Arnhem, Schelmseweg | C14: 0.6 | D14: 17.4 | F14: Schaarsbergen, Casa Nova | G14: 3.5 | H14: 0 | J14: Arnhem, Schelmseweg | K14: 0.8 | L14: 13.5 | N14: Arnhem, Schelmseweg | O14: 21.3 | P14: 0.9 | R14: Arnhem, Schelmseweg | S14: 0.3 | T14: 11.4 | V14: Arnhem, Schelmseweg | W14: 15 | X14: 0
B15: Schaarsbergen, Lijnbaan | C15: 0.2 | D15: 12.7 | F15: Schaarsbergen, Kemperbergerweg | G15: 7.2 | H15: 0.2 | J15: Schaarsbergen, Lijnbaan | K15: 0.5 | L15: 13 | N15: Arnhem, Mesdaglaan | O15: 12.8 | P15: 0.5 | R15: Schaarsbergen, Lijnbaan | S15: 0.8 | T15: 14.9 | V15: Arnhem, Mesdaglaan | W15: 7 | X15: 0
B16: Schaarsbergen, Warnsborn | C16: 0.2 | D16: 8.3 | F16: Schaarsbergen, Menthenbergseweg | G16: 7.8 | H16: 0.1 | J16: Schaarsbergen, Warnsborn | K16: 0.5 | L16: 10.6 | N16: Arnhem, Jacob Marislaan | O16: 8 | P16: 0.5 | R16: Schaarsbergen, Warnsborn | S16: 0 | T16: 6.1 | V16: Arnhem, Jacob Marislaan | W16: 13.5 | X16: 0.5
... B23: Schaarsbergen, Koningsweg | C23: 0.5 | D23: 21.9 | F23: Arnhem, Izaak Evertslaan | G23: 14 | H23: 1.9 | J23: Schaarsbergen, Koningsweg | K23: 0 | L23: 32 | N23: Arnhem, Centraal Station | O23: 0 | P23: 56.9 | R23: Schaarsbergen, Koningsweg | S23: 0 | T23: 17.8 | V23: Arnhem, Centraal Station | W23: 0 | X23: 50.3
B24: Schaarsbergen, Kaderschool Luchtmacht | C24: 0 | D24: 7.5 | F24: Arnhem, Burg. Weertsstraat | G24: 23.9 | H24: 6.4
B25: Schaarsbergen, Viersprong | C25: 0.1 | D25: 6.1 | F25: Arnhem, Burgemeestersplein | G25: 3.5 | H25: 8.9
B26: Schaarsbergen, C. van Maasdijklaan | C26: 0.1 | D26: 10.4 | F26: Arnhem, Sonsbeekweg | G26: 0.7 | H26: 7.5
B27: Schaarsbergen, I.P.C. | C27: 0 | D27: 9.1 | F27: Arnhem, Willemsplein | G27: 3 | H27: 112.6
F28: Arnhem, Centraal Station | G28: 0 | H28: 90.2

Sheet A010 - bezetting
A1: categorisering bezetting | B1: 0 | C1: 8 | D1: 25 | E1: 65
B2: =C1-0.00001 -> 7.99999 | C2: =D1-0.00001 -> 24.99999 | D2: =E1-0.00001 -> 64.99999 | E2: 999
A5: bezettingstelling lijn 10 - van ARNHEM CS - Papendal - werkdagen | bron: chipkaart gegevens november 2023 | 80 percentiel waarde
A6: ritnummer | B6: 1 | C6: 3 | D6: 5 | E6: 9 | F6: 13 | G6: 17 | H6: 21 | I6: 23 | J6: 25 | K6: 27 | L6: 29 | M6: 31 | N6: 33 | O6: 35 | P6: 37 | Q6: 39 | R6: 41 | S6: 43 | T6: 45 | U6: 47 | V6: 49 | W6: 51 | X6: 53 | Y6: 55 | Z6: 57 | AA6: 59 | AB6: 61 | AE6: groen omcirkeld, de ritten die we willen behouden als spitsverdichting op lijn 105
A7: vertrektijd beginhalte | B7: 0.28055556 | C7: 0.30138889 | D7: 0.32222222 | E7: 0.34305556 | F7: 0.36388889 | G7: 0.38472222 | H7: 0.40555556 | I7: 0.42638889 | J7: 0.44722222 | K7: 0.46805556 | L7: 0.48888889 | M7: 0.50555556 | N7: 0.52638889 | O7: 0.54722222 | P7: 0.56805556 | Q7: 0.58888889 | R7: 0.60972222 | S7: 0.62847222 | T7: 0.64930556 | U7: 0.67013889 | V7: 0.69097222 | W7: 0.71180556 | X7: 0.73263889 | Y7: 0.75347222 | Z7: 0.79513889 | AA7: 0.83680556 | AB7: 0.87847222
A9: Arnhem, Centraal Station | B9: 2 | C9: 2.8 | D9: 7.8 | E9: 21.8 | F9: 16.8 | G9: 12 | H9: 9.8 | I9: 8.8 | J9: 11.8 | K9: 9 | L9: 13.2 | M9: 8 | N9: 8.8 | O9: 14.6 | P9: 10 | Q9: 11.8 | R9: 8.8 | S9: 8 | T9: 11.8 | U9: 8.4 | V9: 10.8 | W9: 6.8 | X9: 5 | Y9: 6 | Z9: 4 | AA9: 3 | AB9: 5 | AD9: Op momenten dat lijn 10 niet rijdt is lijn 105 beschikbaar als alternatief, waarbij moet worden aangetekend dat lijn 105 niet het Papendalterrein oprijdt maar halteert aan de doorgaande weg voor Papendal.
A10: Arnhem, Willemsplein | B10: 3.8 | C10: 3.8 | D10: 10.8 | E10: 28.4 | F10: 25.8 | G10: 16 | H10: 12 | I10: 12.8 | J10: 12.8 | K10: 13 | L10: 15.6 | M10: 12 | N10: 12 | O10: 15 | P10: 11.8 | Q10: 13 | R10: 10 | S10: 9.8 | T10: 11.8 | U10: 12.4 | V10: 13.4 | W10: 7.8 | X10: 8.8 | Y10: 6 | Z10: 6.8 | AA10: 3 | AB10: 5
A11: Arnhem, Centraal Stat.(Sonsbeek) | B11: 4.8 | C11: 4 | D11: 17.8 | E11: 41.8 | F11: 36.6 | G11: 26.8 | H11: 22.6 | I11: 19.8 | J11: 18.8 | K11: 22 | L11: 17.6 | M11: 15.8 | N11: 17 | O11: 16 | P11: 13 | Q11: 15 | R11: 11 | S11: 12 | T11: 13.8 | U11: 13.1 | V11: 13.4 | W11: 9.8 | X11: 9.4 | Y11: 6 | Z11: 6.8 | AA11: 4 | AB11: 5
A12: Arnhem, Burg. Weertsstraat | B12: 4.8 | C12: 4 | D12: 17 | E12: 39 | F12: 35.8 | G12: 26.6 | H12: 21.8 | I12: 19 | J12: 18.8 | K12: 20.4 | L12: 16 | M12: 15 | N12: 15.8 | O12: 15.6 | P12: 12 | Q12: 12 | R12: 10 | S12: 11 | T12: 11 | U12: 10.2 | V12: 10.6 | W12: 7.6 | X12: 6 | Y12: 5.8 | Z12: 6.9 | AA12: 2.8 | AB12: 4
A13: Arnhem, Brouwerijweg | B13: 4 | C13: 4 | D13: 17 | E13: 37.8 | F13: 34 | G13: 26.4 | H13: 21.6 | I13: 18 | J13: 17.8 | K13: 18 | L13: 15.8 | M13: 14.8 | N13: 15.6 | O13: 15.6 | P13: 12 | Q13: 11.8 | R13: 9.8 | S13: 10.6 | T13: 10.8 | U13: 10 | V13: 10.4 | W13: 7.6 | X13: 5.9 | Y13: 5 | Z13: 6.9 | AA13: 2 | AB13: 3.8
A14: Arnhem, van Wageningenstraat | B14: 4 | C14: 4 | D14: 16.8 | E14: 31 | F14: 25.8 | G14: 18 | H14: 12.9 | I14: 12 | J14: 9.5 | K14: 9.7 | L14: 10 | M14: 11 | N14: 14.6 | O14: 13.9 | P14: 9 | Q14: 10.8 | R14: 9.5 | S14: 8.9 | T14: 9.8 | U14: 9.8 | V14: 10.4 | W14: 7.3 | X14: 5.9 | Y14: 4.6 | Z14: 6.3 | AA14: 2 | AB14: 3.8
A15: Arnhem, Tormentilstraat | B15: 4 | C15: 4 | D15: 16.8 | E15: 31 | F15: 25.8 | G15: 18 | H15: 12.3 | I15: 12 | J15: 9 | K15: 9 | L15: 10 | M15: 10.8 | N15: 14.8 | O15: 13.9 | P15: 9 | Q15: 10.8 | R15: 8.7 | S15: 8.8 | T15: 9.8 | U15: 8.4 | V15: 10.4 | W15: 6.3 | X15: 5 | Y15: 4.5 | Z15: 5.6 | AA15: 2 | AB15: 2
A16: Arnhem, Gentiaanstraat | B16: 4 | C16: 4.8 | D16: 16 | E16: 31 | F16: 25.4 | G16: 18 | H16: 10.8 | I16: 10.9 | J16: 8.9 | K16: 8 | L16: 9.8 | M16: 9.6 | N16: 13.9 | O16: 13.4 | P16: 9 | Q16: 9.8 | R16: 8.7 | S16: 7.4 | T16: 7.9 | U16: 8 | V16: 8.8 | W16: 4 | X16: 4 | Y16: 3.9 | Z16: 3 | AA16: 1 | AB16: 1
A17: Arnhem, Callunastraat | B17: 4 | C17: 4 | D17: 15 | E17: 26.6 | F17: 24.6 | G17: 18 | H17: 10.4 | I17: 10.8 | J17: 8.9 | K17: 8 | L17: 10 | M17: 8.4 | N17: 13.1 | O17: 12.6 | P17: 7.4 | Q17: 8.8 | R17: 6.5 | S17: 6.9 | T17: 7.4 | U17: 8 | V17: 8.8 | W17: 4 | X17: 3.8 | Y17: 3.2 | Z17: 2.9 | AA17: 1 | AB17: 1
A18: Arnhem, Het Dorp | B18: 3.8 | C18: 4 | D18: 10.9 | E18: 20.5 | F18: 19.8 | G18: 15 | H18: 8.6 | I18: 10 | J18: 7 | K18: 7.3 | L18: 7.8 | M18: 6 | N18: 11 | O18: 12.4 | P18: 5.3 | Q18: 6.8 | R18: 5.3 | S18: 6.5 | T18: 7 | U18: 7 | V18: 7.8 | W18: 4 | X18: 3 | Y18: 3 | Z18: 0 | AA18: 0 | AB18: 0
A19: Arnhem, Schelmseweg | B19: 3.8 | C19: 4 | D19: 10 | E19: 20.5 | F19: 19.8 | G19: 15 | H19: 8.8 | I19: 8.9 | J19: 7 | K19: 6.8 | L19: 7.8 | M19: 6 | N19: 10.6 | O19: 10.6 | P19: 4.9 | Q19: 5 | R19: 4.8 | S19: 6 | T19: 5.8 | U19: 6 | V19: 6.8 | W19: 3 | X19: 3 | Y19: 3
A20: Arnhem, Klein Warnsborn | B20: 3.8 | C20: 4.8 | D20: 10 | E20: 20.5 | F20: 19.8 | G20: 15 | H20: 8.8 | I20: 9 | J20: 7 | K20: 6.8 | L20: 7.8 | M20: 6 | N20: 10.6 | O20: 10.6 | P20: 4.9 | Q20: 5 | R20: 5.1 | S20: 6 | T20: 5 | U20: 6 | V20: 6.8 | W20: 3 | X20: 3 | Y20: 2.8
A21: Arnhem, De Vijverberg | B21: 3.8 | C21: 4.8 | D21: 10 | E21: 20.5 | F21: 19.8 | G21: 14.8 | H21: 8.8 | I21: 9 | J21: 7 | K21: 6.8 | L21: 7.8 | M21: 6 | N21: 10.6 | O21: 10.6 | P21: 4.9 | Q21: 5 | R21: 5 | S21: 6 | T21: 5 | U21: 6 | V21: 6.8 | W21: 3 | X21: 3 | Y21: 2.8
A22: Arnhem, De Leeren Doedel | B22: 3.8 | C22: 4 | D22: 10 | E22: 20.5 | F22: 19.8 | G22: 14.8 | H22: 8.8 | I22: 9 | J22: 7 | K22: 6.8 | L22: 7.8 | M22: 6 | N22: 10.6 | O22: 10.6 | P22: 4.9 | Q22: 5.8 | R22: 5 | S22: 6 | T22: 4.9 | U22: 6 | V22: 6.8 | W22: 3 | X22: 3.8 | Y22: 2
A23: Arnhem, Maasbergseweg | B23: 3.8 | C23: 4 | D23: 7 | E23: 20.9 | F23: 19 | G23: 13 | H23: 7.8 | I23: 8 | J23: 6.8 | K23: 7.2 | L23: 5.8 | M23: 5.8 | N23: 10 | O23: 10.6 | P23: 4.8 | Q23: 5.8 | R23: 6.8 | S23: 7 | T23: 4.8 | U23: 6.8 | V23: 6.8 | W23: 4 | X23: 4 | Y23: 2
A24: Arnhem, v. d. Valk Hotel Arnhem | B24: 3 | C24: 4 | D24: 7 | E24: 17 | F24: 18 | G24: 10.4 | H24: 7 | I24: 7.8 | J24: 6.8 | K24: 5.9 | L24: 5.8 | M24: 5.8 | N24: 9.9 | O24: 9.6 | P24: 4.8 | Q24: 5.8 | R24: 6.8 | S24: 7 | T24: 4.2 | U24: 6 | V24: 6.8 | W24: 3.8 | X24: 4 | Y24: 2
A25: Arnhem, Sportcentrum Papendal | B25: 0 | C25: 1.8 | D25: 1 | E25: 1 | F25: 1 | G25: 2 | H25: 1.8 | I25: 1 | J25: 2 | K25: 1.8 | L25: 2.8 | M25: 2 | N25: 1.8 | O25: 1 | P25: 2 | Q25: 2 | R25: 4 | S25: 3 | T25: 1.8 | U25: 3.8 | V25: 6.6 | W25: 1.8 | X25: 3.6 | Y25: 0.8
A26: MaxBezetting | B26: =MAX(B9:B25) -> 4.8 | C26: =MAX(C9:C25) -> 4.8 | D26: =MAX(D9:D25) -> 17.8 | E26: =MAX(E9:E25) -> 41.8 | F26: =MAX(F9:F25) -> 36.6 | G26: =MAX(G9:G25) -> 26.8 | H26: =MAX(H9:H25) -> 22.6 | I26: =MAX(I9:I25) -> 19.8 | ... AB26: =MAX(AB9:AB25) -> 5
A27: uurblok | B27: =HOUR(B7) -> 6 | C27: =HOUR(C7) -> 7 | D27: =HOUR(D7) -> 7 | E27: =HOUR(E7) -> 8 | F27: =HOUR(F7) -> 8 | G27: =HOUR(G7) -> 9 | H27: =HOUR(H7) -> 9 | I27: =HOUR(I7) -> 10 | ... AB27: =HOUR(AB7) -> 21
A30: bezettingstelling lijn 10 - van ARNHEM Papendal - CS - werkdagen | bron: chipkaart gegevens november 2023 | 80 percentiel waarde
A31: ritnummer | B31: 2 | C31: 4 | D31: 8 | E31: 12 | F31: 16 | G31: 20 | H31: 22 | I31: 24 | J31: 26 | K31: 28 | L31: 30 | M31: 32 | N31: 34 | O31: 36 | P31: 38 | Q31: 40 | R31: 42 | S31: 44 | T31: 46 | U31: 48 | V31: 50 | W31: 52 | X31: 54 | Y31: 56 | Z31: 58 | AA31: 60 | AB31: 62
A32: vertrektijd beginhalte | B32: 0.29652778 | C32: 0.31736111 | D32: 0.34097222 | E32: 0.36180556 | F32: 0.38263889 | G32: 0.40069444 | H32: 0.42152778 | I32: 0.44236111 | J32: 0.46319444 | K32: 0.48402778 | L32: 0.50486111 | M32: 0.52152778 | N32: 0.54236111 | O32: 0.56319444 | P32: 0.58402778 | Q32: 0.60486111 | R32: 0.62569444 | S32: 0.64444444 | T32: 0.66527778 | U32: 0.68611111 | V32: 0.70694444 | W32: 0.72777778 | X32: 0.74861111 | Y32: 0.76944444 | Z32: 0.80625 | AA32: 0.84791667 | AB32: 0.88958333
A34: Arnhem, Sportcentrum Papendal | B34: 0 | C34: 2 | D34: 5.8 | E34: 1 | F34: 5 | G34: 3 | H34: 3 | I34: 3.8 | J34: 4 | K34: 11.8 | L34: 5.8 | M34: 5 | N34: 4 | O34: 4.8 | P34: 5.8 | Q34: 6.8 | R34: 14.8 | S34: 7 | T34: 16 | U34: 18 | V34: 11 | W34: 5 | X34: 8.8 | Y34: 3
A35: Arnhem, Van der Valk/Papendal | B35: 0 | C35: 2 | D35: 5.8 | E35: 1 | F35: 5 | G35: 3 | H35: 3.8 | I35: 4 | J35: 5 | K35: 12 | L35: 6.8 | M35: 6 | N35: 6 | O35: 6 | P35: 9 | Q35: 8 | R35: 15 | S35: 8.8 | T35: 18 | U35: 19.8 | V35: 13 | W35: 8 | X35: 8.8 | Y35: 3.8
A36: Arnhem, De Leeren Doedel | B36: 0 | C36: 1.8 | D36: 5.8 | E36: 1 | F36: 5 | G36: 3 | H36: 3.8 | I36: 4 | J36: 5 | K36: 12 | L36: 6 | M36: 6 | N36: 6 | O36: 6 | P36: 9 | Q36: 8 | R36: 15 | S36: 8.8 | T36: 18.8 | U36: 19.8 | V36: 13 | W36: 7.6 | X36: 8.8 | Y36: 3.8
A37: Arnhem, De Vijverberg | B37: 0 | C37: 1.8 | D37: 5.8 | E37: 1 | F37: 5 | G37: 3 | H37: 3.8 | I37: 4 | J37: 5 | K37: 12 | L37: 6 | M37: 6 | N37: 6 | O37: 6 | P37: 9 | Q37: 8 | R37: 15 | S37: 8.8 | T37: 18.8 | U37: 19.8 | V37: 13 | W37: 8 | X37: 8.8 | Y37: 3.8
A38: Arnhem, Klein Warnsborn | B38: 0 | C38: 1.8 | D38: 5.8 | E38: 1 | F38: 5 | G38: 3 | H38: 3.8 | I38: 4 | J38: 5 | K38: 12 | L38: 6.8 | M38: 6 | N38: 5.8 | O38: 5.8 | P38: 9 | Q38: 8 | R38: 14.8 | S38: 8.8 | T38: 18.8 | U38: 19.8 | V38: 13 | W38: 8 | X38: 8.8 | Y38: 3.8
A39: Arnhem, Schelmseweg | B39: 1.8 | C39: 2 | D39: 5.8 | E39: 1 | F39: 5.8 | G39: 4 | H39: 4 | I39: 4.8 | J39: 5.8 | K39: 12 | L39: 6.8 | M39: 6 | N39: 7 | O39: 6.8 | P39: 9.8 | Q39: 13.8 | R39: 15.8 | S39: 9 | T39: 19.8 | U39: 20.8 | V39: 13 | W39: 8 | X39: 9 | Y39: 4.8
A40: Arnhem, Het Dorp | B40: 1.8 | C40: 2 | D40: 5.8 | E40: 1.8 | F40: 6.8 | G40: 5 | H40: 5.8 | I40: 5 | J40: 6 | K40: 13.6 | L40: 9.6 | M40: 8 | N40: 8 | O40: 7 | P40: 10.8 | Q40: 23.6 | R40: 19 | S40: 10 | T40: 25.4 | U40: 21.8 | V40: 15.8 | W40: 9 | X40: 9 | Y40: 5 | Z40: 0 | AA40: 0 | AB40: 1
A41: Arnhem, Callunastraat | B41: 2 | C41: 3 | D41: 5.8 | E41: 2.8 | F41: 6.8 | G41: 5 | H41: 5.8 | I41: 5.8 | J41: 6 | K41: 13.6 | L41: 9.8 | M41: 9.8 | N41: 8 | O41: 7 | P41: 10.8 | Q41: 24.6 | R41: 20.6 | S41: 11.8 | T41: 32.4 | U41: 21.8 | V41: 16 | W41: 10 | X41: 9.8 | Y41: 5 | Z41: 0 | AA41: 0.8 | AB41: 1
A42: Arnhem, Gentiaanstraat | B42: 3 | C42: 4 | D42: 5.8 | E42: 2.8 | F42: 7 | G42: 6 | H42: 6.8 | I42: 6.8 | J42: 6.8 | K42: 14 | L42: 10 | M42: 10 | N42: 9.6 | O42: 8 | P42: 11.8 | Q42: 24.6 | R42: 20.5 | S42: 12 | T42: 32 | U42: 22.6 | V42: 16.8 | W42: 10 | X42: 10 | Y42: 5.8 | Z42: 0.8 | AA42: 1 | AB42: 1
A43: Arnhem, Tormentilstraat | B43: 3 | C43: 4 | D43: 6.8 | E43: 3 | F43: 8 | G43: 6.8 | H43: 7 | I43: 8.8 | J43: 8.8 | K43: 18 | L43: 11 | M43: 10.8 | N43: 13.8 | O43: 11 | P43: 14 | Q43: 31.2 | R43: 23.6 | S43: 13.8 | T43: 32.8 | U43: 23.6 | V43: 17 | W43: 10 | X43: 10 | Y43: 6 | Z43: 1 | AA43: 1 | AB43: 1
A44: Arnhem, van Wageningenstraat | B44: 3.8 | C44: 4 | D44: 7 | E44: 3 | F44: 8 | G44: 8 | H44: 7.8 | I44: 8.8 | J44: 9.6 | K44: 18 | L44: 12 | M44: 11.6 | N44: 15.6 | O44: 12.8 | P44: 14.8 | Q44: 31.8 | R44: 23.6 | S44: 13 | T44: 32 | U44: 22.8 | V44: 17.8 | W44: 10 | X44: 10 | Y44: 6 | Z44: 1 | AA44: 1 | AB44: 1.8
A45: Arnhem, Brouwerijweg | B45: 3.8 | C45: 4.8 | D45: 7.8 | E45: 3 | F45: 7.8 | G45: 8 | H45: 8 | I45: 9 | J45: 10.8 | K45: 17.6 | L45: 12 | M45: 12.6 | N45: 15.6 | O45: 13 | P45: 15.6 | Q45: 31.8 | R45: 23.4 | S45: 14 | T45: 31.8 | U45: 22.8 | V45: 17.8 | W45: 10.8 | X45: 10 | Y45: 6 | Z45: 2 | AA45: 1 | AB45: 1.8
A46: Arnhem, Burg. Weertsstraat | B46: 4 | C46: 5 | D46: 8.8 | E46: 3.8 | F46: 7.8 | G46: 8 | H46: 8 | I46: 9 | J46: 10.8 | K46: 17 | L46: 12 | M46: 12.8 | N46: 13.8 | O46: 14 | P46: 14.8 | Q46: 30.8 | R46: 20 | S46: 16 | T46: 32.3 | U46: 21.8 | V46: 17 | W46: 10.8 | X46: 10.8 | Y46: 7 | Z46: 2 | AA46: 2 | AB46: 2
A47: Arnhem, Centraal Stat.(Sonsbeek) | B47: 1 | C47: 3 | D47: 6 | E47: 2.8 | F47: 7 | G47: 6.8 | H47: 7.8 | I47: 6 | J47: 8 | K47: 14 | L47: 8.8 | M47: 8.6 | N47: 9.2 | O47: 9 | P47: 11.8 | Q47: 23.3 | R47: 11.8 | S47: 9 | T47: 19.8 | U47: 11.8 | V47: 10.8 | W47: 5.8 | X47: 6 | Y47: 5 | Z47: 2 | AA47: 2 | AB47: 1
A48: Arnhem, Willemsplein | B48: 0.2 | C48: 1 | D48: 3 | E48: 1 | F48: 1 | G48: 1.8 | H48: 2.8 | I48: 2 | J48: 4 | K48: 9 | L48: 5 | M48: 2.8 | N48: 5 | O48: 3.8 | P48: 4.8 | Q48: 9.8 | R48: 9.2 | S48: 4 | T48: 5.8 | U48: 8.8 | V48: 5.8 | W48: 2 | X48: 3.8 | Y48: 1 | Z48: 0.9 | AA48: 1 | AB48: 1
A49: Arnhem, Centraal Station | B49: 0 | C49: 0 | D49: 0.8 | E49: 0 | F49: 0 | G49: 0 | H49: 0 | I49: 0 | J49: 0 | K49: 0 | L49: 0 | M49: 0 | N49: 0 | O49: 0 | P49: 0 | Q49: 0 | R49: 0 | S49: 0 | T49: 0 | U49: 0 | V49: 0 | W49: 0 | X49: 0 | Y49: 0 | Z49: 0 | AA49: 0 | AB49: 0
A50: MaxBezetting | B50: =MAX(B34:B49) -> 4 | C50: =MAX(C34:C49) -> 5 | D50: =MAX(D34:D49) -> 8.8 | E50: =MAX(E34:E49) -> 3.8 | F50: =MAX(F34:F49) -> 8 | G50: =MAX(G34:G49) -> 8 | H50: =MAX(H34:H49) -> 8 | I50: =MAX(I34:I49) -> 9 | ... AB50: =MAX(AB34:AB49) -> 2
A51: uurblok | B51: =HOUR(B32) -> 7 | C51: =HOUR(C32) -> 7 | D51: =HOUR(D32) -> 8 | E51: =HOUR(E32) -> 8 | F51: =HOUR(F32) -> 9 | G51: =HOUR(G32) -> 9 | H51: =HOUR(H32) -> 10 | I51: =HOUR(I32) -> 10 | ... AB51: =HOUR(AB32) -> 21
A55: bezettingstelling lijn 10 - van ARNHEM CS - Het Dorp - zaterdag | bron: chipkaart gegevens november 2023 | 80 percentiel waarde
A56: ritnummer | B56: 4001 | C56: 4003 | D56: 4005 | E56: 4007 | F56: 4009 | G56: 4011 | H56: 4013 | I56: 4015 | J56: 4017 | K56: 4019 | L56: 4021 | M56: 4023 | N56: 4025
A57: vertrektijd beginhalte | B57: 0.38194444 | C57: 0.42361111 | D57: 0.46527778 | E57: 0.50694444 | F57: 0.54861111 | G57: 0.59027778 | H57: 0.63194444 | I57: 0.67361111 | J57: 0.71527778 | K57: 0.75694444 | L57: 0.79861111 | M57: 0.84027778 | N57: 0.88194444
A59: Arnhem, Centraal Station | B59: 1 | C59: 1.4 | D59: 1.2 | E59: 1.4 | F59: 3.8 | G59: 4.6 | H59: 6.4 | I59: 8.2 | J59: 6.4 | K59: 4 | L59: 1.8 | M59: 7.8 | N59: 4.6
A60: Arnhem, Willemsplein | B60: 1.4 | C60: 2.2 | D60: 2 | E60: 2.4 | F60: 3.8 | G60: 5.8 | H60: 6.4 | I60: 7.4 | J60: 8.5 | K60: 9.4 | L60: 1.8 | M60: 7.8 | N60: 4.6
A61: Arnhem, Centraal Stat.(Sonsbeek) | B61: 2 | C61: 2.2 | D61: 2 | E61: 3 | F61: 3.8 | G61: 6.8 | H61: 6 | I61: 8.8 | J61: 8.5 | K61: 11 | L61: 2.4 | M61: 7.8 | N61: 4.6
A62: Arnhem, Burg. Weertsstraat | B62: 2 | C62: 3.3 | D62: 1.2 | E62: 2 | F62: 2.8 | G62: 5.2 | H62: 4.4 | I62: 5.4 | J62: 4.3 | K62: 8 | L62: 1.4 | M62: 7 | N62: 4.6
A63: Arnhem, Brouwerijweg | B63: 2 | C63: 2.3 | D63: 1.2 | E63: 1.8 | F63: 2.4 | G63: 4.8 | H63: 4.6 | I63: 3.9 | J63: 3.6 | K63: 8 | L63: 1 | M63: 7 | N63: 4
A64: Arnhem, van Wageningenstraat | B64: 2 | C64: 2.2 | D64: 0.8 | E64: 1.8 | F64: 1 | G64: 4.8 | H64: 4.6 | I64: 3.8 | J64: 3.6 | K64: 7.2 | L64: 1 | M64: 7 | N64: 4
A65: Arnhem, Tormentilstraat | B65: 2 | C65: 2.2 | D65: 0.8 | E65: 1.4 | F65: 1 | G65: 4.8 | H65: 4 | I65: 3.8 | J65: 3.6 | K65: 6 | L65: 1 | M65: 7 | N65: 4
A66: Arnhem, Gentiaanstraat | B66: 2 | C66: 2 | D66: 0.4 | E66: 1.4 | F66: 1 | G66: 4.8 | H66: 1.8 | I66: 2.2 | J66: 2.7 | K66: 3.2 | L66: 0 | M66: 5.2 | N66: 1
A67: Arnhem, Callunastraat | B67: 1.4 | C67: 2 | D67: 0.4 | E67: 1 | F67: 0 | G67: 2 | H67: 1.2 | I67: 0.8 | J67: 2.5 | K67: 1.4 | L67: 0 | M67: 0.8 | N67: 1
A68: Arnhem, Het Dorp | B68: 0 | C68: 0 | D68: 0 | E68: 0 | F68: 0 | G68: 0.4 | H68: 0 | I68: 0 | J68: 1.9 | K68: 0 | L68: 0 | M68: 0 | N68: 0
A69: MaxBezetting | B69: =MAX(B59:B68) -> 2 | C69: =MAX(C59:C68) -> 3.3 | D69: =MAX(D59:D68) -> 2 | E69: =MAX(E59:E68) -> 3 | F69: =MAX(F59:F68) -> 3.8 | G69: =MAX(G59:G68) -> 6.8 | H69: =MAX(H59:H68) -> 6.4 | I69: =MAX(I59:I68) -> 8.8 | ... N69: =MAX(N59:N68) -> 4.6
A70: uurblok | B70: =HOUR(B57) -> 9 | C70: =HOUR(C57) -> 10 | D70: =HOUR(D57) -> 11 | E70: =HOUR(E57) -> 12 | F70: =HOUR(F57) -> 13 | G70: =HOUR(G57) -> 14 | H70: =HOUR(H57) -> 15 | I70: =HOUR(I57) -> 16 | ... N70: =HOUR(N57) -> 21
A73: bezettingstelling lijn 10 - van ARNHEM Het Dorp - CS - zaterdag | bron: chipkaart gegevens november 2023 | 80 percentiel waarde
A74: ritnummer | B74: 4002 | C74: 4004 | D74: 4006 | E74: 4008 | F74: 4010 | G74: 4012 | H74: 4014 | I74: 4016 | J74: 4018 | K74: 4020 | L74: 4022 | M74: 4024 | N74: 4026
A75: vertrektijd beginhalte | B75: 0.39305556 | C75: 0.43472222 | D75: 0.47638889 | E75: 0.51805556 | F75: 0.55972222 | G75: 0.60138889 | H75: 0.64305556 | I75: 0.68472222 | J75: 0.72638889 | K75: 0.76805556 | L75: 0.80972222 | M75: 0.85138889 | N75: 0.89305556
A77: Arnhem, Het Dorp | B77: 0 | C77: 0 | D77: 0.4 | E77: 2 | F77: 0 | G77: 0.4 | H77: 0 | I77: 1.2 | J77: 0.4 | K77: 0 | L77: 0.8 | M77: 1.4 | N77: 0.4
A78: Arnhem, Callunastraat | B78: 0.4 | C78: 0.4 | D78: 0.4 | E78: 5.6 | F78: 1 | G78: 0.4 | H78: 1.6 | I78: 1.8 | J78: 1 | K78: 1.2 | L78: 1.4 | M78: 2 | N78: 0.4
A79: Arnhem, Gentiaanstraat | B79: 1.8 | C79: 0.4 | D79: 1.8 | E79: 7.6 | F79: 2.4 | G79: 1 | H79: 2 | I79: 1.8 | J79: 2.2 | K79: 1.2 | L79: 1.4 | M79: 2 | N79: 0.4
A80: Arnhem, Tormentilstraat | B80: 2.8 | C80: 1 | D80: 3.6 | E80: 8.2 | F80: 2.8 | G80: 1 | H80: 2.8 | I80: 1.8 | J80: 2.2 | K80: 1.2 | L80: 2 | M80: 2 | N80: 0.4
A81: Arnhem, van Wageningenstraat | B81: 4.4 | C81: 1.4 | D81: 4 | E81: 8.6 | F81: 3.4 | G81: 1.4 | H81: 3.6 | I81: 3 | J81: 2.2 | K81: 1.4 | L81: 2.4 | M81: 2 | N81: 0.4
A82: Arnhem, Brouwerijweg | B82: 4.4 | C82: 3 | D82: 4 | E82: 8.6 | F82: 5.4 | G82: 1.4 | H82: 4.2 | I82: 4.2 | J82: 2.8 | K82: 1.4 | L82: 2.4 | M82: 2 | N82: 1
A83: Arnhem, Burg. Weertsstraat | B83: 4.4 | C83: 3 | D83: 4.4 | E83: 10.3 | F83: 5.4 | G83: 2.4 | H83: 4.8 | I83: 4.2 | J83: 3.4 | K83: 2 | L83: 3.4 | M83: 2 | N83: 1
A84: Arnhem, Centraal Stat.(Sonsbeek) | B84: 4 | C84: 3 | D84: 4 | E84: 10.3 | F84: 5 | G84: 2.4 | H84: 3.8 | I84: 2.4 | J84: 3.4 | K84: 2.4 | L84: 3.4 | M84: 2 | N84: 1
A85: Arnhem, Willemsplein | B85: 1 | C85: 0.2 | D85: 0.4 | E85: 1 | F85: 2.6 | G85: 1 | H85: 0.4 | I85: 2 | J85: 0.4 | K85: 0 | L85: 0.4 | M85: 0.8 | N85: 0.4
A86: Arnhem, Centraal Station | B86: 0 | C86: 0 | D86: 0 | E86: 0 | F86: 0 | G86: 0 | H86: 0 | I86: 0 | J86: 0 | K86: 0 | L86: 0 | M86: 0 | N86: 0
A87: MaxBezetting | B87: =MAX(B77:B86) -> 4.4 | C87: =MAX(C77:C86) -> 3 | D87: =MAX(D77:D86) -> 4.4 | E87: =MAX(E77:E86) -> 10.3 | F87: =MAX(F77:F86) -> 5.4 | G87: =MAX(G77:G86) -> 2.4 | H87: =MAX(H77:H86) -> 4.8 | I87: =MAX(I77:I86) -> 4.2 | ... N87: =MAX(N77:N86) -> 1
A88: uurblok | B88: =HOUR(B75) -> 9 | C88: =HOUR(C75) -> 10 | D88: =HOUR(D75) -> 11 | E88: =HOUR(E75) -> 12 | F88: =HOUR(F75) -> 13 | G88: =HOUR(G75) -> 14 | H88: =HOUR(H75) -> 15 | I88: =HOUR(I75) -> 16 | ... N88: =HOUR(N75) -> 21
A92: bezettingstelling lijn 10 - van ARNHEM CS - Het Dorp - zondag | bron: chipkaart gegevens november 2023 | 80 percentiel waarde
A93: ritnummer | B93: 7001 | C93: 7003 | D93: 7005 | E93: 7007 | F93: 7009 | G93: 7011 | H93: 7013 | I93: 7015 | J93: 7017 | K93: 7019 | L93: 7021 | M93: 7023
A94: vertrektijd beginhalte | B94: 0.41319444 | C94: 0.45486111 | D94: 0.49652778 | E94: 0.53819444 | F94: 0.57986111 | G94: 0.62152778 | H94: 0.66319444 | I94: 0.70486111 | J94: 0.74652778 | K94: 0.78819444 | L94: 0.82986111 | M94: 0.87152778
A96: Arnhem, Centraal Station | B96: 1.8 | C96: 1.4 | D96: 1.4 | E96: 2.4 | F96: 3.4 | G96: 3.8 | H96: 3.2 | I96: 8.4 | J96: 4.8 | K96: 1.4 | L96: 2.4 | M96: 1
A97: Arnhem, Willemsplein | B97: 5.4 | C97: 1.4 | D97: 2 | E97: 3 | F97: 4 | G97: 4.4 | H97: 7 | I97: 8.4 | J97: 6 | K97: 1.4 | L97: 2.4 | M97: 1.4
A98: Arnhem, Centraal Stat.(Sonsbeek) | B98: 5.4 | C98: 1.4 | D98: 2 | E98: 3 | F98: 5.4 | G98: 5.6 | H98: 7.4 | I98: 8 | J98: 6 | K98: 2 | L98: 2.4 | M98: 2
A99: Arnhem, Burg. Weertsstraat | B99: 5 | C99: 1.4 | D99: 1.3 | E99: 1 | F99: 4.4 | G99: 4.4 | H99: 6 | I99: 4.8 | J99: 5.4 | K99: 2 | L99: 3 | M99: 2
A100: Arnhem, Brouwerijweg | B100: 5 | C100: 1.4 | D100: 1.3 | E100: 1 | F100: 4.4 | G100: 4.4 | H100: 4.6 | I100: 4.4 | J100: 4.8 | K100: 2 | L100: 3 | M100: 2
A101: Arnhem, van Wageningenstraat | B101: 5 | C101: 0.4 | D101: 1.2 | E101: 1 | F101: 4 | G101: 4.4 | H101: 4.2 | I101: 4.4 | J101: 4 | K101: 1 | L101: 3 | M101: 2
A102: Arnhem, Tormentilstraat | B102: 5 | C102: 0.4 | D102: 1.2 | E102: 1 | F102: 3.4 | G102: 4.4 | H102: 4.2 | I102: 2.4 | J102: 2.8 | K102: 1 | L102: 2.4 | M102: 2
A103: Arnhem, Gentiaanstraat | B103: 2 | C103: 0.4 | D103: 0.5 | E103: 0.4 | F103: 2 | G103: 2.8 | H103: 3 | I103: 1.4 | J103: 2.8 | K103: 0.4 | L103: 0.4 | M103: 0.8
A104: Arnhem, Callunastraat | B104: 2 | C104: 0.4 | D104: 0.5 | E104: 0 | F104: 0.8 | G104: 0.8 | H104: 1.2 | I104: 1.4 | J104: 1 | K104: 0.4 | L104: 0.4 | M104: 0.4
A105: Arnhem, Het Dorp | B105: 0 | C105: 0 | D105: 0 | E105: 0 | F105: 0 | G105: 0 | H105: 0 | I105: 0 | J105: 0 | K105: 0 | L105: 0 | M105: 0.4
A106: MaxBezetting | B106: =MAX(B96:B105) -> 5.4 | C106: =MAX(C96:C105) -> 1.4 | D106: =MAX(D96:D105) -> 2 | E106: =MAX(E96:E105) -> 3 | F106: =MAX(F96:F105) -> 5.4 | G106: =MAX(G96:G105) -> 5.6 | H106: =MAX(H96:H105) -> 7.4 | I106: =MAX(I96:I105) -> 8.4 | ... M106: =MAX(M96:M105) -> 2
A107: uurblok | B107: =HOUR(B94) -> 9 | C107: =HOUR(C94) -> 10 | D107: =HOUR(D94) -> 11 | E107: =HOUR(E94) -> 12 | F107: =HOUR(F94) -> 13 | G107: =HOUR(G94) -> 14 | H107: =HOUR(H94) -> 15 | I107: =HOUR(I94) -> 16 | ... M107: =HOUR(M94) -> 20
A110: bezettingstelling lijn 10 - van ARNHEM Het Dorp - CS - zondag | bron: chipkaart gegevens november 2023 | 80 percentiel waarde
A111: ritnummer | B111: 7002 | C111: 7004 | D111: 7006 | E111: 7008 | F111: 7010 | G111: 7012 | H111: 7014 | I111: 7016 | J111: 7018 | K111: 7020 | L111: 7022 | M111: 7024
A112: vertrektijd beginhalte | B112: 0.28055556 | C112: 0.28055556 | D112: 0.28055556 | E112: 0.28055556 | F112: 0.28055556 | G112: 0.28055556 | H112: 0.28055556 | I112: 0.28055556 | J112: 0.28055556 | K112: 0.28055556 | L112: 0.28055556 | M112: 0.28055556
A114: Arnhem, Het Dorp | B114: 0 | C114: 0 | D114: 1.8 | E114: 1 | F114: 1.4 | G114: 0 | H114: 0.4 | I114: 0.4 | J114: 0 | K114: 0 | L114: 0 | M114: 0
A115: Arnhem, Callunastraat | B115: 0.8 | C115: 2.6 | D115: 2.2 | E115: 1 | F115: 2.4 | G115: 0.4 | H115: 1 | I115: 0.4 | J115: 0 | K115: 0 | L115: 0.4 | M115: 0.4
A116: Arnhem, Gentiaanstraat | B116: 1.4 | C116: 3.2 | D116: 4 | E116: 3 | F116: 2.4 | G116: 1.8 | H116: 3 | I116: 1 | J116: 0.4 | K116: 0 | L116: 0.4 | M116: 1.4
A117: Arnhem, Tormentilstraat | B117: 2 | C117: 3.2 | D117: 4 | E117: 3 | F117: 3 | G117: 2.2 | H117: 3.4 | I117: 2.4 | J117: 0.4 | K117: 0 | L117: 0.4 | M117: 1.4
A118: Arnhem, van Wageningenstraat | B118: 2 | C118: 4.6 | D118: 5.8 | E118: 3 | F118: 3 | G118: 2.2 | H118: 3.8 | I118: 2.4 | J118: 0.4 | K118: 0 | L118: 0.4 | M118: 2
A119: Arnhem, Brouwerijweg | B119: 2.4 | C119: 4.6 | D119: 5.4 | E119: 4 | F119: 3 | G119: 2.8 | H119: 3.8 | I119: 2.4 | J119: 0.4 | K119: 0 | L119: 0.4 | M119: 2
A120: Arnhem, Burg. Weertsstraat | B120: 2 | C120: 4.2 | D120: 5.4 | E120: 5.6 | F120: 3 | G120: 3.2 | H120: 3.8 | I120: 2.4 | J120: 0.4 | K120: 0.8 | L120: 0.4 | M120: 2.8
...

Sheet A010 - in uitstap per halte
B2: Lijn A010 - ri.1 - nov 2023 | F2: Lijn A010 - ri.2 - nov 2023 | J2: Lijn A010 - ri.1 - nov 2023 | N2: Lijn A010 - ri.2 - nov 2023 | R2: Lijn A010 - ri.1 - nov 2023 | V2: Lijn A010 - ri.2 - nov 2023
B3: werkdag-gemiddelde | C3: CI | D3: CO | F3: werkdag-gemiddelde | G3: CI | H3: CO | J3: zaterdag-gemiddelde | K3: CI | L3: CO | N3: zaterdag-gemiddelde | O3: CI | P3: CO | R3: zondag-gemiddelde | S3: CI | T3: CO | V3: zondag-gemiddelde | W3: CI | X3: CO
B4: Total | C4: =SUM(C5:C21) -> 344.7 | D4: =SUM(D5:D21) -> 312 | F4: Total | G4: =SUM(G5:G21) -> 270.8 | H4: =SUM(H5:H21) -> 267.8 | J4: Total | K4: =SUM(K5:K18) -> 49.7 | L4: =SUM(L5:L18) -> 48.2 | N4: Total | O4: =SUM(O5:O18) -> 35.8 | P4: =SUM(P5:P18) -> 35.7 | R4: Total | S4: =SUM(S15:S21) -> 0 | T4: =SUM(T15:T21) -> 0 | V4: Total | W4: =SUM(W15:W21) -> 0 | X4: =SUM(X15:X21) -> 0
B5: Arnhem, Centraal Station | C5: 172.7 | D5: 0 | F5: Arnhem, Sportcentrum Papendal | G5: 101.6 | H5: 0 | J5: Arnhem, Centraal Station | K5: 34.3 | L5: 0 | N5: Arnhem, Het Dorp | O5: 4 | P5: 0 | R5: Arnhem, Centraal Station | S5: 23.8 | T5: 0 | V5: Arnhem, Het Dorp | W5: 3.5 | X5: 0
B6: Arnhem, Willemsplein | C6: 68.8 | D6: 1.2 | F6: Arnhem, Van der Valk/Papendal | G6: 18.3 | H6: 0.3 | J6: Arnhem, Willemsplein | K6: 10.6 | L6: 0.8 | N6: Arnhem, Callunastraat | O6: 7 | P6: 0 | R6: Arnhem, Willemsplein | S6: 11.3 | T6: 1.3 | V6: Arnhem, Callunastraat | W6: 4.3 | X6: 0.5
B7: Arnhem, Centraal Stat.(Sonsbeek) | C7: 82.1 | D7: 4.3 | F7: Arnhem, De Leeren Doedel | G7: 1.1 | H7: 1.5 | J7: Arnhem, Centraal Stat.(Sonsbeek) | K7: 3 | L7: 0.5 | N7: Arnhem, Gentiaanstraat | O7: 5.8 | P7: 0 | R7: Arnhem, Centraal Stat.(Sonsbeek) | S7: 3.3 | T7: 0.5 | V7: Arnhem, Gentiaanstraat | W7: 5.8 | X7: 0
B8: Arnhem, Burg. Weertsstraat | C8: 7.5 | D8: 30.9 | F8: Arnhem, De Vijverberg | G8: 0.2 | H8: 0.2 | J8: Arnhem, Burg. Weertsstraat | K8: 1.3 | L8: 14.7 | N8: Arnhem, Tormentilstraat | O8: 4.8 | P8: 0 | R8: Arnhem, Burg. Weertsstraat | S8: 1.5 | T8: 9.8 | V8: Arnhem, Tormentilstraat | W8: 2.8 | X8: 0
B9: Arnhem, Brouwerijweg | C9: 0.5 | D9: 10 | F9: Arnhem, Klein Warnsborn | G9: 0.6 | H9: 1.2 | J9: Arnhem, Brouwerijweg | K9: 0.5 | L9: 4.1 | N9: Arnhem, van Wageningenstraat | O9: 4.3 | P9: 0.5 | R9: Arnhem, Brouwerijweg | S9: 0 | T9: 1.5 | V9: Arnhem, van Wageningenstraat | W9: 3.3 | X9: 0
B10: Arnhem, van Wageningenstraat | C10: 0.7 | D10: 62.1 | F10: Arnhem, Schelmseweg | G10: 15.7 | H10: 0.6 | J10: Arnhem, van Wageningenstraat | K10: 0 | L10: 3.1 | N10: Arnhem, Brouwerijweg | O10: 3.8 | P10: 0 | R10: Arnhem, van Wageningenstraat | S10: 0 | T10: 2.6 | V10: Arnhem, Brouwerijweg | W10: 1.5 | X10: 0.3
B11: Arnhem, Tormentilstraat | C11: 0.2 | D11: 6.3 | F11: Arnhem, Het Dorp | G11: 35.6 | H11: 0.4 | J11: Arnhem, Tormentilstraat | K11: 0 | L11: 2 | N11: Arnhem, Burg. Weertsstraat | O11: 5.3 | P11: 0.5 | R11: Arnhem, Tormentilstraat | S11: 0 | T11: 4 | V11: Arnhem, Burg. Weertsstraat | W11: 3.3 | X11: 0.8
B12: Arnhem, Gentiaanstraat | C12: 1.8 | D12: 16.4 | F12: Arnhem, Callunastraat | G12: 15.5 | H12: 0.2 | J12: Arnhem, Gentiaanstraat | K12: 0 | L12: 8 | N12: Arnhem, Centraal Stat.(Sonsbeek) | O12: 0.5 | P12: 3.3 | R12: Arnhem, Gentiaanstraat | S12: 0.3 | T12: 10.1 | V12: Arnhem, Centraal Stat.(Sonsbeek) | W12: 0.5 | X12: 5.8
B13: Arnhem, Callunastraat | C13: 0.2 | D13: 18 | F13: Arnhem, Gentiaanstraat | G13: 16.1 | H13: 0.6 | J13: Arnhem, Callunastraat | K13: 0 | L13: 7.9 | N13: Arnhem, Willemsplein | O13: 0.3 | P13: 24.6 | R13: Arnhem, Callunastraat | S13: 0 | T13: 4.3 | V13: Arnhem, Willemsplein | W13: 1.3 | X13: 14.8
B14: Arnhem, Het Dorp | C14: 0.5 | D14: 36 | F14: Arnhem, Tormentilstraat | G14: 26.8 | H14: 0.4 | J14: Arnhem, Het Dorp | K14: 0 | L14: 7.1 | N14: Arnhem, Centraal Station | O14: 0 | P14: 6.8 | R14: Arnhem, Het Dorp | S14: 0 | T14: 5.3 | V14: Arnhem, Centraal Station | W14: 0 | X14: 3.8
B15: Arnhem, Schelmseweg | C15: 0.2 | D15: 12.3 | F15: Arnhem, van Wageningenstraat | G15: 10.8 | H15: 0.8
B16: Arnhem, Klein Warnsborn | C16: 2.8 | D16: 0.9 | F16: Arnhem, Brouwerijweg | G16: 8.5 | H16: 2.7
B17: Arnhem, De Vijverberg | C17: 0 | D17: 0.3 | F17: Arnhem, Burg. Weertsstraat | G17: 15 | H17: 11
B18: Arnhem, De Leeren Doedel | C18: 0.3 | D18: 1.9 | F18: Arnhem, Centraal Stat.(Sonsbeek) | G18: 2.9 | H18: 89.5
B19: Arnhem, Maasbergseweg | C19: 6.2 | D19: 10.1 | F19: Arnhem, Willemsplein | G19: 2.1 | H19: 100.3
B20: Arnhem, v. d. Valk Hotel Arnhem | C20: 0.2 | D20: 11.8 | F20: Arnhem, Centraal Station | G20: 0 | H20: 58.1
B21: Arnhem, Sportcentrum Papendal | C21: 0 | D21: 89.5

Sheet A010 irt A105 - frequentie-ovz
B3: frequentie - overzicht E105 thv. Het Dorp cq. Heijenoord
B4: uurblok | C4: 5 | D4: 6 | E4: 7 | F4: 8 | G4: 9 | H4: 10 | I4: 11 | J4: 12 | K4: 13 | L4: 14 | M4: 15 | N4: 16 | O4: 17 | P4: 18 | Q4: 19 | R4: 20 | S4: 21 | T4: 22 | U4: 23 | V4: 24
B5: MV | C5: 1 | D5: 2 | E5: =+D5 -> 2 | F5: =+E5 -> 2 | G5: =+F5 -> 2 | H5: =+G5 -> 2 | I5: =+H5 -> 2 | J5: =+I5 -> 2 | K5: =+J5 -> 2 | L5: =+K5 -> 2 | ... O5: =+N5 -> 2 | P5: 1 | Q5: =+P5 -> 1 | R5: =+Q5 -> 1 | S5: =+R5 -> 1 | T5: =+S5 -> 1
B6: MVAK | C6: 1 | D6: =+Tabel2[[#This Row],[5]] -> 1 | E6: =+Tabel2[[#This Row],[6]] -> 1 | F6: =+Tabel2[[#This Row],[7]] -> 1 | G6: =+Tabel2[[#This Row],[8]] -> 1 | H6: =+Tabel2[[#This Row],[9]] -> 1 | I6: =+Tabel2[[#This Row],[10]] -> 1 | J6: =+Tabel2[[#This Row],[11]] -> 1 | K6: =+Tabel2[[#This Row],[12]] -> 1 | L6: =+Tabel2[[#This Row],[13]] -> 1 | M6: =+Tabel2[[#This Row],[14]] -> 1 | N6: =+Tabel2[[#This Row],[15]] -> 1 | O6: =+Tabel2[[#This Row],[16]] -> 1 | P6: =+Tabel2[[#This Row],[17]] -> 1 | Q6: =+Tabel2[[#This Row],[18]] -> 1 | R6: =+Tabel2[[#This Row],[19]] -> 1 | S6: =+Tabel2[[#This Row],[20]] -> 1 | T6: =+Tabel2[[#This Row],[21]] -> 1
B7: ZA | E7: 1 | F7: =+Tabel2[[#This Row],[7]] -> 1 | G7: 2 | H7: =+Tabel2[[#This Row],[9]] -> 2 | I7: =+Tabel2[[#This Row],[10]] -> 2 | J7: =+Tabel2[[#This Row],[11]] -> 2 | K7: =+Tabel2[[#This Row],[12]] -> 2 | L7: =+Tabel2[[#This Row],[13]] -> 2 | M7: =+Tabel2[[#This Row],[14]] -> 2 | N7: =+Tabel2[[#This Row],[15]] -> 2 | O7: 1 | P7: =+Tabel2[[#This Row],[17]] -> 1 | Q7: =+Tabel2[[#This Row],[18]] -> 1 | R7: =+Tabel2[[#This Row],[19]] -> 1 | S7: =+Tabel2[[#This Row],[20]] -> 1 | T7: =+Tabel2[[#This Row],[21]] -> 1
B8: ZAVAK | E8: 1 | F8: =+Tabel2[[#This Row],[7]] -> 1 | G8: =+Tabel2[[#This Row],[8]] -> 1 | H8: =+Tabel2[[#This Row],[9]] -> 1 | I8: =+Tabel2[[#This Row],[10]] -> 1 | J8: =+Tabel2[[#This Row],[11]] -> 1 | K8: =+Tabel2[[#This Row],[12]] -> 1 | L8: =+Tabel2[[#This Row],[13]] -> 1 | M8: =+Tabel2[[#This Row],[14]] -> 1 | N8: =+Tabel2[[#This Row],[15]] -> 1 | O8: 1 | P8: =+Tabel2[[#This Row],[17]] -> 1 | Q8: =+Tabel2[[#This Row],[18]] -> 1 | R8: =+Tabel2[[#This Row],[19]] -> 1 | S8: =+Tabel2[[#This Row],[20]] -> 1 | T8: =+Tabel2[[#This Row],[21]] -> 1
B9: ZO | G9: 1 | H9: =+Tabel2[[#This Row],[9]] -> 1 | I9: =+Tabel2[[#This Row],[10]] -> 1 | J9: =+Tabel2[[#This Row],[11]] -> 1 | K9: =+Tabel2[[#This Row],[12]] -> 1 | L9: =+Tabel2[[#This Row],[13]] -> 1 | M9: =+Tabel2[[#This Row],[14]] -> 1 | N9: =+Tabel2[[#This Row],[15]] -> 1 | O9: =+Tabel2[[#This Row],[16]] -> 1 | P9: =+Tabel2[[#This Row],[17]] -> 1 | Q9: =+Tabel2[[#This Row],[18]] -> 1 | R9: =+Tabel2[[#This Row],[19]] -> 1 | S9: =+Tabel2[[#This Row],[20]] -> 1 | T9: =+Tabel2[[#This Row],[21]] -> 1

Sheet A014 - tekening voorstel

Sheet A014 A011 A331 - in uitstap
B2: Lijn A011 - ri.1 - nov 2019 | F2: Lijn A011 - ri.2 - nov 2019 | J2: Lijn A011 - ri.1 - nov 2019 | N2: Lijn A011 - ri.2 - nov 2019
B3: werkdag-gemiddelde | C3: CI | D3: CO | F3: werkdag-gemiddelde | G3: CI | H3: CO | J3: zaterdag-gemiddelde | K3: CI | L3: CO | N3: zaterdag-gemiddelde | O3: CI | P3: CO
B4: Total | C4: =SUM(C5:C91) -> 1634.2 | D4: =SUM(D5:D91) -> 3050.5 | F4: Total | G4: =SUM(G5:G7) -> 13.6 | H4: =SUM(H5:H7) -> 22.7 | J4: Total | K4: =SUM(K5:K91) -> 730.2 | L4: =SUM(L5:L91) -> 1108.8 | N4: Total | O4: =SUM(O5:O7) -> 3 | P4: =SUM(P5:P7) -> 7.4
B5: Arnhem, Station Arnhem Zuid | C5: 136.7 | D5: 0.1 | F5: Arnhem, Overmaat | G5: 6.6 | H5: 6.8 | J5: Arnhem, Station Arnhem Zuid | K5: 22.8 | L5: 0 | N5: Arnhem, Overmaat | O5: 0.8 | P5: 3.4
B6: Arnhem, Hollandweg | C6: 12 | D6: 0.4 | F6: Arnhem, Randweg | G6: 6.5 | H6: 10 | J6: Arnhem, Hollandweg | K6: 2 | L6: 0 | N6: Arnhem, Randweg | O6: 2 | P6: 3.6
B7: Arnhem, Rotterdamsingel | C7: 19 | D7: 1.4 | F7: Arnhem, Batavierenweg | G7: 0.5 | H7: 5.9 | J7: Arnhem, Rotterdamsingel | K7: 3.4 | L7: 0 | N7: Arnhem, Batavierenweg | O7: 0.2 | P7: 0.4
B8: Arnhem, Batavierenweg | C8: 3.8 | D8: 2.3 | F8: Arnhem, Rotterdamsingel | G8: 1.4 | H8: 14.3 | J8: Arnhem, Batavierenweg | K8: 0 | L8: 0 | N8: Arnhem, Rotterdamsingel | O8: 0 | P8: 1.8
B9: Arnhem, Randweg | C9: 16.4 | D9: 6 | F9: Arnhem, Hollandweg | G9: 0.2 | H9: 16 | J9: Arnhem, Randweg | K9: 5.8 | L9: 1.4 | N9: Arnhem, Hollandweg | O9: 0 | P9: 4.4
B10: Arnhem, Overmaat | C10: 5.7 | D10: 8.7 | F10: Arnhem, Station Arnhem Zuid | G10: 0 | H10: 112.1 | J10: Arnhem, Overmaat | K10: 2.6 | L10: 0.6 | N10: Arnhem, Station Arnhem Zuid | O10: 0 | P10: 26
B14: Lijn A014 - ri.1 - nov 2019 | F14: Lijn A014 - ri.2 - nov 2019 | J14: Lijn A014 - ri.1 - nov 2019 | N14: Lijn A014 - ri.2 - nov 2019 | R14: Lijn A014 - ri.1 - nov 2019 | V14: Lijn A014 - ri.2 - nov 2019
B15: werkdag-gemiddelde | C15: CI | D15: CO | F15: werkdag-gemiddelde | G15: CI | H15: CO | J15: zaterdag-gemiddelde | K15: CI | L15: CO | N15: zaterdag-gemiddelde | O15: CI | P15: CO | R15: zondag-gemiddelde | S15: CI | T15: CO | V15: zondag-gemiddelde | W15: CI | X15: CO
B16: Total | C16: =SUM(C17:C63) -> 720.3 | D16: =SUM(D17:D63) -> 1515.8 | F16: Total | G16: =SUM(G17:G35) -> 1155.6 | H16: =SUM(H17:H35) -> 510.2 | J16: Total | K16: =SUM(K17:K63) -> 346.8 | L16: =SUM(L17:L63) -> 553.4 | N16: Total | O16: =SUM(O17:O35) -> 502.8 | P16: =SUM(P17:P35) -> 231.4 | R16: Total | S16: =SUM(S17:S63) -> 203.1 | T16: =SUM(T17:T63) -> 387.5 | V16: Total | W16: =SUM(W17:W35) -> 287.1 | X16: =SUM(X17:X35) -> 142.3
B17: Arnhem, Winkelcentrum Kronenburg | C17: 67.8 | D17: 88.4 | F17: Arnhem, Brabantweg | G17: 13 | H17: 9.4 | J17: Arnhem, Winkelcentrum Kronenburg | K17: 47.8 | L17: 42.8 | N17: Arnhem, Brabantweg | O17: 7.8 | P17: 11.6 | R17: Arnhem, Winkelcentrum Kronenburg | S17: 20.5 | T17: 35.3 | V17: Arnhem, Brabantweg | W17: 5.3 | X17: 3.5
B18: Arnhem, Croydonplein | C18: 8.5 | D18: 13.8 | F18: Arnhem, Terneuzenstraat | G18: 30.1 | H18: 8.6 | J18: Arnhem, Croydonplein | K18: 5.4 | L18: 10.8 | N18: Arnhem, Terneuzenstraat | O18: 33 | P18: 5 | R18: Arnhem, Croydonplein | S18: 1.3 | T18: 6.3 | V18: Arnhem, Terneuzenstraat | W18: 8.5 | X18: 5.5
B19: Arnhem, Eldens Viaduct | C19: 5.4 | D19: 23.2 | F19: Arnhem, Zeelandsingel | G19: 18.7 | H19: 2.5 | J19: Arnhem, Eldens Viaduct | K19: 3.8 | L19: 9 | N19: Arnhem, Zeelandsingel | O19: 18.6 | P19: 2.2 | R19: Arnhem, Eldens Viaduct | S19: 2.5 | T19: 5.8 | V19: Arnhem, Zeelandsingel | W19: 6.8 | X19: 0.3
B20: Elden, De Brink | C20: 3.9 | D20: 25.5 | F20: Arnhem, Randweg | G20: 9.7 | H20: 3 | J20: Elden, De Brink | K20: 2.4 | L20: 26.6 | N20: Arnhem, Randweg | O20: 6.2 | P20: 0.8 | R20: Elden, De Brink | S20: 1.5 | T20: 8.8 | V20: Arnhem, Randweg | W20: 1.3 | X20: 0
B21: Elden, Mr. Merkxstraat | C21: 1.5 | D21: 14.6 | F21: Arnhem, Gelderse Poort | G21: 42.5 | H21: 7 | J21: Elden, Mr. Merkxstraat | K21: 0.6 | L21: 12.2 | N21: Arnhem, Gelderse Poort | O21: 4.8 | P21: 1.8 | R21: Elden, Mr. Merkxstraat | S21: 0.5 | T21: 5 | V21: Arnhem, Gelderse Poort | W21: 1.3 | X21: 1
B22: Elden, Mr.D.U.Stikkerstraat | C22: 6 | D22: 52.3 | F22: Elden, Mr.D.U.Stikkerstraat | G22: 45.7 | H22: 5.3 | J22: Elden, Mr.D.U.Stikkerstraat | K22: 3 | L22: 29.8 | N22: Elden, Mr.D.U.Stikkerstraat | O22: 24.2 | P22: 1.8 | R22: Elden, Mr.D.U.Stikkerstraat | S22: 2.8 | T22: 21 | V22: Elden, Mr.D.U.Stikkerstraat | W22: 18 | X22: 2
B23: Arnhem, Gelderse Poort | C23: 6.2 | D23: 35.8 | F23: Elden, Mr. Merkxstraat | G23: 15 | H23: 1.4 | J23: Arnhem, Gelderse Poort | K23: 1.8 | L23: 2.6 | N23: Elden, Mr. Merkxstraat | O23: 8.6 | P23: 0.8 | R23: Arnhem, Gelderse Poort | S23: 0 | T23: 0.8 | V23: Elden, Mr. Merkxstraat | W23: 2.8 | X23: 0.5
B24: Arnhem, Randweg | C24: 1.6 | D24: 8 | F24: Elden, De Brink | G24: 21.5 | H24: 2.8 | J24: Arnhem, Randweg | K24: 0.6 | L24: 3.8 | N24: Elden, De Brink | O24: 19.6 | P24: 2.4 | R24: Arnhem, Randweg | S24: 0.3 | T24: 2.3 | V24: Elden, De Brink | W24: 8.8 | X24: 1
B25: Arnhem, Zeelandsingel | C25: 2.9 | D25: 24.9 | F25: Arnhem, Eldens Viaduct | G25: 18.6 | H25: 8.5 | J25: Arnhem, Zeelandsingel | K25: 2 | L25: 21.4 | N25: Arnhem, Eldens Viaduct | O25: 17.8 | P25: 2.4 | R25: Arnhem, Zeelandsingel | S25: 0 | T25: 8.5 | V25: Arnhem, Eldens Viaduct | W25: 4.5 | X25: 3.8
B26: Arnhem, Terneuzenstraat | C26: 10.9 | D26: 31.1 | F26: Arnhem, Croydonplein | G26: 12.2 | H26: 13.6 | J26: Arnhem, Terneuzenstraat | K26: 9.8 | L26: 25.2 | N26: Arnhem, Croydonplein | O26: 8.2 | P26: 9 | R26: Arnhem, Terneuzenstraat | S26: 4 | T26: 11.8 | V26: Arnhem, Croydonplein | W26: 3.3 | X26: 4.5
B27: Arnhem, Brabantweg | C27: 10.6 | D27: 9.6 | F27: Arnhem, Winkelcentrum Kronenburg | G27: 170 | H27: 57.7 | J27: Arnhem, Brabantweg | K27: 4 | L27: 6 | N27: Arnhem, Winkelcentrum Kronenburg | O27: 81.6 | P27: 35.6 | R27: Arnhem, Brabantweg | S27: 2.5 | T27: 5.5 | V27: Arnhem, Winkelcentrum Kronenburg | W27: 33.8 | X27: 13.3
B31: Lijn A331 - ri.1 - nov 2019 | F31: Lijn A331 - ri.2 - nov 2019 | J31: Lijn A331 - ri.1 - nov 2019 | N31: Lijn A331 - ri.2 - nov 2019 | R31: Lijn A331 - ri.1 - nov 2019 | V31: Lijn A331 - ri.2 - nov 2019
B32: werkdag-gemiddelde | C32: CI | D32: CO | F32: werkdag-gemiddelde | G32: CI | H32: CO | J32: zaterdag-gemiddelde | K32: CI | L32: CO | N32: zaterdag-gemiddelde | O32: CI | P32: CO | R32: zondag-gemiddelde | S32: CI | T32: CO | V32: zondag-gemiddelde | W32: CI | X32: CO
B33: Total | C33: =SUM(C34:C62) -> 297.5 | D33: =SUM(D34:D62) -> 594.3 | F33: Total | G33: =SUM(G34:G44) -> 544.8 | H33: =SUM(H34:H44) -> 307.6 | J33: Total | K33: =SUM(K34:K75) -> 132.8 | L33: =SUM(L34:L75) -> 181.6 | N33: Total | O33: =SUM(O34:O44) -> 184.6 | P33: =SUM(P34:P44) -> 132.6 | R33: Total | S33: =SUM(S34:S75) -> 83.6 | T33: =SUM(T34:T75) -> 138.2 | V33: Total | W33: =SUM(W34:W53) -> 133.9 | X33: =SUM(X34:X53) -> 83.4
B34: Arnhem, Winkelcentrum Kronenburg | C34: 143.8 | D34: 289.2 | F34: Arnhem, Viaduct Kroonse Wal | G34: 96.2 | H34: 41.3 | J34: Arnhem, Winkelcentrum Kronenburg | K34: 85.2 | L34: 75.2 | N34: Arnhem, Viaduct Kroonse Wal | O34: 59.8 | P34: 18.2 | R34: Arnhem, Winkelcentrum Kronenburg | S34: 41 | T34: 46.8 | V34: Arnhem, Viaduct Kroonse Wal | W34: 33.8 | X34: 17
B35: Arnhem, Groningensingel | C35: 41.5 | D35: 65.1 | F35: Arnhem, Randweg | G35: 117.6 | H35: 41.5 | J35: Arnhem, Groningensingel | K35: 10.4 | L35: 25 | N35: Arnhem, Randweg | O35: 28 | P35: 7.2 | R35: Arnhem, Groningensingel | S35: 13 | T35: 21.5 | V35: Arnhem, Randweg | W35: 25 | X35: 6.5
B36: Arnhem, Overmaat | C36: 32 | D36: 25.9 | F36: Arnhem, Overmaat | G36: 26.3 | H36: 34.9 | J36: Arnhem, Overmaat | K36: 9.8 | L36: 9.8 | N36: Arnhem, Overmaat | O36: 8 | P36: 12 | R36: Arnhem, Overmaat | S36: 7.3 | T36: 6.8 | V36: Arnhem, Overmaat | W36: 6.3 | X36: 8.3
B37: Arnhem, Randweg | C37: 37.2 | D37: 120.1 | F37: Arnhem, Groningensingel | G37: 67.3 | H37: 44.7 | J37: Arnhem, Randweg | K37: 6.8 | L37: 21.8 | N37: Arnhem, Groningensingel | O37: 18.2 | P37: 10.4 | R37: Arnhem, Randweg | S37: 6 | T37: 20.8 | V37: Arnhem, Groningensingel | W37: 11.5 | X37: 13.8
B38: Arnhem, Viaduct Kroonse Wal | C38: 43 | D38: 94 | F38: Arnhem, Winkelcentrum Kronenburg | G38: 237.4 | H38: 145.2 | J38: Arnhem, Viaduct Kroonse Wal | K38: 20.6 | L38: 49.8 | N38: Arnhem, Winkelcentrum Kronenburg | O38: 70.6 | P38: 84.8 | R38: Arnhem, Viaduct Kroonse Wal | S38: 16.3 | T38: 42.3 | V38: Arnhem, Winkelcentrum Kronenburg | W38: 57.3 | X38: 37.8

Sheet A014 X003 X005 - extra halte

Sheet A033 - bezetting nov23
A1: categorisering bezetting | B1: 0 | C1: 8 | D1: 25 | E1: 65
B2: =C1-0.00001 -> 7.99999 | C2: =D1-0.00001 -> 24.99999 | D2: =E1-0.00001 -> 64.99999 | E2: 999
A5: bezettingstelling lijn 33 - van ARNHEM naar NIJMEGEN - werkdagen | bron: chipkaart gegevens november 2023 | 80 percentiel waarde | AS5: voorstel te vervallen ritten
A6: ritnummer | B6: 1 | C6: 3 | D6: 5 | E6: 7 | F6: 9 | G6: 11 | H6: 13 | I6: 15 | J6: 17 | K6: 19 | L6: 21 | M6: 23 | N6: 25 | O6: 27 | P6: 29 | Q6: 31 | R6: 33 | S6: 35 | T6: 37 | U6: 39 | V6: 41 | W6: 43 | X6: 45 | Y6: 47 | Z6: 49 | AA6: 51 | AB6: 53 | AC6: 55 | AD6: 57 | AE6: 59 | AF6: 61 | AG6: 63 | AH6: 65 | AI6: 67 | AJ6: 69 | AK6: 71 | AL6: 73 | AM6: 75 | AN6: 77 | AO6: 79 | AP6: 81
A7: vertrektijd beginhalte | B7: 5:39 | C7: 6:09 | D7: 6:39 | E7: 6:37 | F7: 7:13 | G7: 7:44 | H7: 8:14 | I7: 8:44 | J7: 9:14 | K7: 9:44 | L7: 10:14 | M7: 10:44 | N7: 11:13 | O7: 11:43 | P7: 12:14 | Q7: 12:44 | R7: 13:14 | S7: 13:44 | T7: 14:14 | U7: 14:41 | V7: 15:11 | W7: 15:41 | X7: 16:11 | Y7: 16:26 | Z7: 16:41 | AA7: 16:56 | AB7: 17:11 | AC7: 17:26 | AD7: 17:41 | AE7: 17:59 | AF7: 18:29 | AG7: 18:59 | AH7: 19:29 | AI7: 19:59 | AJ7: 20:29 | AK7: 20:59 | AL7: 21:29 | AM7: 21:59 | AN7: 22:59 | AO7: 23:59 | AP7: 24:29
A9: Arnhem, Centraal Station | E9: 1 | F9: 3 | G9: 8.8 | H9: 6.8 | I9: 11.8 | J9: 8 | K9: 7 | L9: 5.6 | M9: 8.8 | N9: 8.8 | O9: 12.6 | P9: 13.4 | Q9: 15.8 | R9: 15.8 | S9: 18 | T9: 18.8 | U9: 14.8 | V9: 25 | W9: 23.6 | X9: 26 | Y9: 13.4 | Z9: 22 | AA9: 11 | AB9: 20.8 | AC9: 17.8 | AD9: 28 | AE9: 18.4 | AF9: 12.8 | AG9: 10.8 | AH9: 12 | AI9: 13.8 | AJ9: 13.6 | AK9: 18.4 | AL9: 8 | AM9: 17.8 | AN9: 13.8 | AO9: 6 | AP9: 5
A10: Arnhem, Willemsplein | E10: 1 | F10: 3 | G10: 10 | H10: 8 | I10: 12 | J10: 8 | K10: 9.6 | L10: 7 | M10: 11.6 | N10: 10.8 | O10: 14.8 | P10: 13.8 | Q10: 21.4 | R10: 19.8 | S10: 21.6 | T10: 23 | U10: 21.8 | V10: 33 | W10: 30 | X10: 32.8 | Y10: 17.6 | Z10: 27 | AA10: 15.8 | AB10: 29 | AC10: 22.8 | AD10: 30.6 | AE10: 23 | AF10: 16 | AG10: 12.8 | AH10: 14 | AI10: 18.6 | AJ10: 19.2 | AK10: 21.8 | AL10: 13.6 | AM10: 20 | AN10: 18.8 | AO10: 10.8 | AP10: 8
A11: Arnhem, Velperplein | E11: 2 | F11: 4 | G11: 15 | H11: 8 | I11: 12.8 | J11: 8 | K11: 9.8 | L11: 8.8 | M11: 12.4 | N11: 11 | O11: 18.6 | P11: 17.8 | Q11: 23 | R11: 26.8 | S11: 23 | T11: 29.8 | U11: 26 | V11: 34.8 | W11: 30 | X11: 35.8 | Y11: 19.6 | Z11: 40 | AA11: 16.8 | AB11: 29.7 | AC11: 24.8 | AD11: 41.6 | AE11: 23 | AF11: 19.8 | AG11: 13.8 | AH11: 17.8 | AI11: 20.8 | AJ11: 19.4 | AK11: 25.6 | AL11: 17.8 | AM11: 25.8 | AN11: 23.4 | AO11: 14 | AP11: 9.6
A12: Arnhem, Stadstheater Arnhem | E12: 2.8 | F12: 5 | G12: 15.8 | H12: 7.7 | I12: 12 | J12: 8.6 | K12: 9.6 | L12: 9 | M12: 13.2 | N12: 11 | O12: 18.6 | P12: 17.8 | Q12: 23 | R12: 26.8 | S12: 23.8 | T12: 29.8 | U12: 26 | V12: 36 | W12: 29.8 | X12: 36 | Y12: 19.6 | Z12: 41 | AA12: 16.8 | AB12: 30.8 | AC12: 24.8 | AD12: 41.6 | AE12: 23.5 | AF12: 20 | AG12: 13.6 | AH12: 17.8 | AI12: 21 | AJ12: 19.3 | AK12: 24 | AL12: 18.6 | AM12: 26.8 | AN12: 23.4 | AO12: 15.6 | AP12: 10.4
A13: Arnhem, Airborneplein | E13: 2.8 | F13: 5 | G13: 14.8 | H13: 6.8 | I13: 9.5 | J13: 8 | K13: 8.8 | L13: 9 | M13: 13.6 | N13: 12.8 | O13: 19.7 | P13: 18 | Q13: 23 | R13: 27 | S13: 24 | T13: 31.4 | U13: 27 | V13: 35.6 | W13: 30 | X13: 36 | Y13: 20.6 | Z13: 43.8 | AA13: 18 | AB13: 31 | AC13: 27.3 | AD13: 43.4 | AE13: 24.3 | AF13: 20.8 | AG13: 13.7 | AH13: 17.8 | AI13: 22 | AJ13: 19.3 | AK13: 24 | AL13: 18.6 | AM13: 27.8 | AN13: 23.8 | AO13: 15.6 | AP13: 10.4
A14: Arnhem, De Monchyplein | E14: 2 | F14: 6 | G14: 17.8 | H14: 7.4 | I14: 9.6 | J14: 8.4 | K14: 9.6 | L14: 8 | M14: 12.4 | N14: 13.8 | O14: 17.6 | P14: 18.8 | Q14: 23.9 | R14: 26.4 | S14: 25 | T14: 30.6 | U14: 26.6 | V14: 32.8 | W14: 31.6 | X14: 37.2 | Y14: 18.6 | Z14: 38.8 | AA14: 15.8 | AB14: 30.3 | AC14: 23 | AD14: 35.2 | AE14: 18.9 | AF14: 18 | AG14: 12.9 | AH14: 15 | AI14: 20 | AJ14: 17.6 | AK14: 21.5 | AL14: 16.8 | AM14: 26.9 | AN14: 21.9 | AO14: 14 | AP14: 8.8
A15: Arnhem, Stadswaardenlaan | E15: 2 | F15: 6 | G15: 22.7 | H15: 8.2 | I15: 10 | J15: 8 | K15: 9.8 | L15: 7.8 | M15: 10.8 | N15: 11.8 | O15: 15.7 | P15: 15.8 | Q15: 20 | R15: 22 | S15: 23 | T15: 27.8 | U15: 22.7 | V15: 30.5 | W15: 26 | X15: 31.8 | Y15: 16.3 | Z15: 33.6 | AA15: 12.8 | AB15: 28 | AC15: 16.9 | AD15: 29.8 | AE15: 14.4 | AF15: 15.8 | AG15: 10.8 | AH15: 14 | AI15: 18.9 | AJ15: 11.5 | AK15: 17.4 | AL15: 11.8 | AM15: 19.1 | AN15: 17.8 | AO15: 12 | AP15: 7.8
A16: Arnhem, Oude Huissenseweg | E16: 2 | F16: 6 | G16: 24.5 | H16: 8.4 | I16: 9.6 | J16: 8 | K16: 9 | L16: 7.8 | M16: 10.8 | N16: 11.8 | O16: 15.5 | P16: 15.8 | Q16: 19.9 | R16: 21.8 | S16: 21.8 | T16: 26.5 | U16: 21.9 | V16: 28.3 | W16: 25.8 | X16: 31.6 | Y16: 15.5 | Z16: 32.7 | AA16: 12 | AB16: 27.9 | AC16: 16 | AD16: 29.4 | AE16: 13.6 | AF16: 15 | AG16: 10.5 | AH16: 14 | AI16: 18.7 | AJ16: 10.4 | AK16: 16.4 | AL16: 11.6 | AM16: 17.3 | AN16: 15.3 | AO16: 12 | AP16: 7.6
A17: Huissen, Grevenveld | E17: 2 | F17: 6 | G17: 22.8 | H17: 9 | I17: 8.6 | J17: 8 | K17: 9.8 | L17: 6.8 | M17: 10 | N17: 11 | O17: 14.7 | P17: 13.8 | Q17: 18.9 | R17: 21.6 | S17: 21.4 | T17: 23.9 | U17: 21.9 | V17: 25.6 | W17: 24 | X17: 29.6 | Y17: 13.6 | Z17: 28.9 | AA17: 9.3 | AB17: 25.6 | AC17: 13.8 | AD17: 26.6 | AE17: 11.9 | AF17: 14.6 | AG17: 10.2 | AH17: 13 | AI17: 17.8 | AJ17: 10 | AK17: 13.9 | AL17: 10.4 | AM17: 15 | AN17: 15.3 | AO17: 11.8 | AP17: 6.8
A18: Huissen, Nielant | E18: 2 | F18: 5.9 | G18: 22.3 | H18: 8.7 | I18: 8.3 | J18: 9 | K18: 9.6 | L18: 5.8 | M18: 8.8 | N18: 10 | O18: 13.9 | P18: 13.8 | Q18: 18 | R18: 18.9 | S18: 18.8 | T18: 21 | U18: 19.6 | V18: 23.9 | W18: 22.4 | X18: 26.7 | Y18: 9.9 | Z18: 25 | AA18: 7.7 | AB18: 22 | AC18: 10.1 | AD18: 21 | AE18: 8.8 | AF18: 11.9 | AG18: 9.8 | AH18: 9.8 | AI18: 14.8 | AJ18: 8.6 | AK18: 12.9 | AL18: 9.4 | AM18: 12.2 | AN18: 12.3 | AO18: 9.8 | AP18: 5
A19: Huissen, Heirweg | E19: 2 | F19: 5 | G19: 22.3 | H19: 8.7 | I19: 8.3 | J19: 8.8 | K19: 9.6 | L19: 6 | M19: 8.8 | N19: 9.8 | O19: 13.9 | P19: 12.8 | Q19: 17.2 | R19: 18.4 | S19: 17.8 | T19: 20.2 | U19: 18.4 | V19: 23.6 | W19: 22.4 | X19: 25.5 | Y19: 7.8 | Z19: 23.5 | AA19: 6.9 | AB19: 21 | AC19: 9 | AD19: 19 | AE19: 7.2 | AF19: 11.9 | AG19: 9.8 | AH19: 8 | AI19: 12.9 | AJ19: 7.8 | AK19: 11.2 | AL19: 5 | AM19: 11.6 | AN19: 11.8 | AO19: 9.6 | AP19: 3.8
A20: Huissen, Bredestraat | E20: 2 | F20: 4.2 | G20: 22.6 | H20: 8.7 | I20: 8.3 | J20: 8.8 | K20: 9.6 | L20: 5.8 | M20: 8.8 | N20: 8.9 | O20: 12.9 | P20: 12.5 | Q20: 16.4 | R20: 16.9 | S20: 17.6 | T20: 19.3 | U20: 18.2 | V20: 22.3 | W20: 21.1 | X20: 23.6 | Y20: 7.7 | Z20: 21 | AA20: 5 | AB20: 20.7 | AC20: 7.1 | AD20: 19 | AE20: 6.3 | AF20: 11.3 | AG20: 9.8 | AH20: 7.8 | AI20: 10.5 | AJ20: 6.4 | AK20: 12.2 | AL20: 4.8 | AM20: 10.3 | AN20: 9.7 | AO20: 8 | AP20: 2.8
... A24: Huissen, Valom | E24: 2 | F24: 3.8 | G24: 6 | H24: 5.1 | I24: 6 | J24: 6 | K24: 7 | L24: 5 | M24: 7 | N24: 9 | O24: 13.8 | P24: 10.9 | Q24: 17.7 | R24: 16 | S24: 15 | T24: 18.8 | U24: 14.8 | V24: 20.8 | W24: 18 | X24: 23.8 | Y24: 0 | Z24: 19.1 | AA24: 0 | AB24: 20.4 | AC24: 0 | AD24: 16.3 | AE24: 0 | AF24: 10.1 | AG24: 8.3 | AH24: 5.8 | AI24: 8.3 | AJ24: 0 | AK24: 8.9 | AL24: 0 | AM24: 7.9 | AN24: 7.6 | AO24: 7 | AP24: 0
A25: Huissen, Polseweg | E25: 2 | F25: 3.8 | G25: 6 | H25: 5 | I25: 6 | J25: 6 | K25: 6.9 | L25: 5 | M25: 7 | N25: 9 | O25: 12.9 | P25: 10.9 | Q25: 17.7 | R25: 15.8 | S25: 15 | T25: 18.8 | U25: 14.8 | V25: 20 | W25: 18 | X25: 23 | Z25: 19.1 | AB25: 20.2 | AD25: 15.5 | AF25: 10.1 | AG25: 8.2 | AH25: 5.8 | AI25: 8.3 | AK25: 8.9 | AM25: 7.9 | AN25: 7.6 | AO25: 7
A26: Angeren, Geldersch Oord | E26: 2 | F26: 3.8 | G26: 6 | H26: 5 | I26: 6 | J26: 6 | K26: 6.9 | L26: 5 | M26: 7 | N26: 9 | O26: 12.9 | P26: 10.9 | Q26: 17.7 | R26: 15.8 | S26: 15 | T26: 18.8 | U26: 14.8 | V26: 20 | W26: 18 | X26: 23 | Z26: 19.1 | AB26: 20.2 | AD26: 15.5 | AF26: 10.1 | AG26: 7.9 | AH26: 5.8 | AI26: 8.3 | AK26: 8.8 | AM26: 7.9 | AN26: 7.6 | AO26: 7
A27: Angeren, Kamervoort | B27: 0 | C27: 1 | D27: 1 | E27: 2 | F27: 4.2 | G27: 6 | H27: 4.1 | I27: 6.5 | J27: 6.2 | K27: 7.2 | L27: 5 | M27: 7 | N27: 7.8 | O27: 10.9 | P27: 9.8 | Q27: 16.5 | R27: 14.7 | S27: 14.4 | T27: 17 | U27: 13.2 | V27: 18 | W27: 17 | X27: 21.5 | Z27: 16.6 | AB27: 16.8 | AD27: 15 | AF27: 9.3 | AG27: 8 | AH27: 4.3 | AI27: 7 | AK27: 7.9 | AM27: 7.2 | AN27: 5.9 | AO27: 6.8
A28: Angeren, Molenstraat Angeren | B28: 0 | C28: 1.8 | D28: 1 | E28: 3 | F28: 5 | G28: 7 | H28: 5 | I28: 7 | J28: 6.3 | K28: 7.2 | L28: 5 | M28: 7 | N28: 8 | O28: 11 | P28: 7.2 | Q28: 14.8 | R28: 13 | S28: 14.4 | T28: 15.2 | U28: 12.2 | V28: 16.9 | W28: 14 | X28: 20 | Z28: 14.5 | AB28: 16.6 | AD28: 13.6 | AF28: 9 | AG28: 7.8 | AH28: 4.3 | AI28: 7.2 | AK28: 6.9 | AM28: 7.2 | AN28: 5.5 | AO28: 6
A29: Angeren, Sterrenberg | B29: 0 | C29: 1.8 | D29: 1 | E29: 3 | F29: 5 | G29: 7 | H29: 5.2 | I29: 7 | J29: 6.9 | K29: 6.8 | L29: 5 | M29: 7 | N29: 8.8 | O29: 11 | P29: 7.2 | Q29: 14.8 | R29: 13 | S29: 14.4 | T29: 15.2 | U29: 12 | V29: 16.8 | W29: 13.9 | X29: 19.2 | Z29: 13.1 | AB29: 16.6 | AD29: 12.8 | AF29: 9 | AG29: 7.8 | AH29: 4.3 | AI29: 7.2 | AK29: 6.8 | AM29: 7.2 | AN29: 5.5 | AO29: 6
A30: Angeren, Boerenhoek | B30: 0 | C30: 1.8 | D30: 1 | E30: 3 | F30: 5 | G30: 7.2 | H30: 5.2 | I30: 7 | J30: 6.9 | K30: 6.8 | L30: 5 | M30: 7 | N30: 8.6 | O30: 11 | P30: 7.2 | Q30: 14.8 | R30: 13 | S30: 14.4 | T30: 15 | U30: 12 | V30: 16 | W30: 14 | X30: 19.2 | Z30: 13.1 | AB30: 16.6 | AD30: 13 | AF30: 8.8 | AG30: 7.8 | AH30: 4.3 | AI30: 7.2 | AK30: 6.2 | AM30: 6.8 | AN30: 5.5 | AO30: 6
A31: Doornenburg, Stenen Palen | B31: 0 | C31: 1.8 | D31: 1 | E31: 3 | F31: 5 | G31: 7.2 | H31: 5.2 | I31: 7 | J31: 6.9 | K31: 7 | L31: 5 | M31: 7 | N31: 8.6 | O31: 11 | P31: 7.2 | Q31: 14.8 | R31: 13 | S31: 14.4 | T31: 15 | U31: 12 | V31: 15.8 | W31: 13.8 | X31: 18.4 | Z31: 13.1 | AB31: 16.6 | AD31: 12.8 | AF31: 8.3 | AG31: 7.8 | AH31: 4.3 | AI31: 7.2 | AK31: 6.2 | AM31: 6.3 | AN31: 5.4 | AO31: 6
A32: Doornenburg, de Linge | B32: 0 | C32: 1.8 | D32: 1 | E32: 3 | F32: 5 | G32: 7.2 | H32: 5.2 | I32: 7 | J32: 6.9 | K32: 7 | L32: 5 | M32: 7 | N32: 8.6 | O32: 11 | P32: 7.2 | Q32: 14.8 | R32: 13 | S32: 14.4 | T32: 15 | U32: 12 | V32: 15.8 | W32: 13.8 | X32: 18.4 | Z32: 13.1 | AB32: 16.6 | AD32: 12.8 | AF32: 8.3 | AG32: 7.8 | AH32: 4.3 | AI32: 7.2 | AK32: 6.1 | AM32: 6.3 | AN32: 5.4 | AO32: 6
A33: Doornenburg, Krakkedel | B33: 0 | C33: 1.8 | D33: 2 | E33: 3 | F33: 5 | G33: 7.2 | H33: 5.2 | I33: 7.9 | J33: 6.9 | K33: 7 | L33: 5 | M33: 7 | N33: 8.6 | O33: 9.4 | P33: 7.2 | Q33: 14.8 | R33: 13 | S33: 14.4 | T33: 15 | U33: 12 | V33: 15 | W33: 13.8 | X33: 18.4 | Z33: 12.9 | AB33: 15.8 | AD33: 11.8 | AF33: 8 | AG33: 7.8 | AH33: 4.3 | AI33: 7.2 | AK33: 6.1 | AM33: 6.2 | AN33: 5.4 | AO33: 5.8
A34: Doornenburg, de Woerd | B34: 0 | C34: 1.8 | D34: 2 | E34: 3 | F34: 5 | G34: 9.9 | H34: 5.2 | I34: 7.9 | J34: 6.9 | K34: 7 | L34: 5 | M34: 6.8 | N34: 8.6 | O34: 9.4 | P34: 7.2 | Q34: 14.1 | R34: 13 | S34: 14.4 | T34: 15 | U34: 12 | V34: 14.8 | W34: 13.8 | X34: 18.4 | Z34: 12.9 | AB34: 15.8 | AD34: 11.8 | AF34: 8 | AG34: 7.8 | AH34: 4.3 | AI34: 7.2 | AK34: 6 | AM34: 6.2 | AN34: 5.4 | AO34: 5.6
A35: Doornenburg, Rijnstraat | B35: 0 | C35: 2 | D35: 3 | E35: 5.8 | F35: 7.8 | G35: 10 | H35: 6.1 | I35: 9 | J35: 8.8 | K35: 7 | L35: 5 | M35: 7.8 | N35: 8.6 | O35: 10 | P35: 7.2 | Q35: 14.8 | R35: 13.3 | S35: 14.8 | T35: 13.8 | U35: 12 | V35: 14 | W35: 14 | X35: 18 | Z35: 12.7 | AB35: 16 | AD35: 10.8 | AF35: 7.3 | AG35: 7 | AH35: 4 | AI35: 7.1 | AK35: 6.8 | AM35: 5 | AN35: 5 | AO35: 4.8
A36: Doornenburg, van Kol | B36: 0 | C36: 2 | D36: 4.8 | E36: 10.8 | F36: 15.8 | G36: 14 | H36: 9.1 | I36: 11.9 | J36: 10 | K36: 9.8 | L36: 6.8 | M36: 9.6 | N36: 9.8 | O36: 11.1 | P36: 8.8 | Q36: 15.8 | R36: 13 | S36: 14.6 | T36: 12 | U36: 10.8 | V36: 13 | W36: 13.4 | X36: 15.9 | Z36: 11.8 | AB36: 13.3 | AD36: 11.8 | AF36: 7.1 | AG36: 7.9 | AH36: 3.8 | AI36: 7.1 | AK36: 6.2 | AM36: 4.9 | AN36: 4.2 | AO36: 4
A37: Doornenburg, Blauwe Hoek | B37: 0 | C37: 2 | D37: 4.8 | E37: 11 | F37: 16.8 | G37: 14 | H37: 9.1 | I37: 12.2 | J37: 10 | K37: 10 | L37: 6.8 | M37: 9.6 | N37: 10 | O37: 11.1 | P37: 8.8 | Q37: 16 | R37: 13 | S37: 13.8 | T37: 12 | U37: 10.8 | V37: 13 | W37: 12.9 | X37: 15.9 | Z37: 11 | AB37: 12.3 | AD37: 12 | AF37: 7.1 | AG37: 7.9 | AH37: 3.8 | AI37: 7.1 | AK37: 6.2 | AM37: 4.9 | AN37: 4.1 | AO37: 4
A38: Gendt, Molenstraat Gendt | B38: 0 | C38: 2 | D38: 5 | E38: 12.8 | F38: 18 | G38: 16 | H38: 10.6 | I38: 14 | J38: 10 | K38: 10 | L38: 6.8 | M38: 9.8 | N38: 10 | O38: 11.1 | P38: 8.8 | Q38: 16 | R38: 12.8 | S38: 14.8 | T38: 12 | U38: 11.9 | V38: 12 | W38: 12.9 | X38: 15.8 | Z38: 10.3 | AB38: 12 | AD38: 12 | AF38: 7.1 | AG38: 7 | AH38: 3.6 | AI38: 7.1 | AK38: 5.9 | AM38: 4 | AN38: 4.1 | AO38: 3
... A51: Bemmel, De Essenpas | B51: 3 | C51: 6 | D51: 8 | E51: 29.9 | F51: 35 | G51: 25 | H51: 19.8 | I51: 23.8 | J51: 18.7 | K51: 16.8 | L51: 10 | M51: 16 | N51: 17 | O51: 14.1 | P51: 11 | Q51: 10.7 | R51: 10.8 | S51: 14.8 | T51: 11.7 | U51: 6.8 | V51: 7.8 | W51: 7 | X51: 10.7 | Z51: 10.8 | AB51: 10.8 | AD51: 7.6 | AF51: 2 | AG51: 7 | AH51: 0 | AI51: 6 | AK51: 5 | AM51: 3 | AN51: 4 | AO51: 0
A52: Bemmel, Papenstraat | B52: 2.8 | C52: 5.8 | D52: 7.8 | E52: 29.9 | F52: 32 | G52: 23 | H52: 19 | I52: 24.8 | J52: 19.8 | K52: 17 | L52: 10 | M52: 17 | N52: 17.8 | O52: 15 | P52: 11 | Q52: 11.6 | R52: 12.8 | S52: 14.6 | T52: 11.6 | U52: 6 | V52: 6.8 | W52: 7 | X52: 10.7 | Z52: 11 | AB52: 10.8 | AD52: 6.8 | AF52: 1.8 | AG52: 6.8 | AI52: 6.8 | AK52: 5 | AM52: 3 | AN52: 3.8
A53: Bemmel, Oostervelden | B53: 2.8 | C53: 5.8 | D53: 8.8 | E53: 29.9 | F53: 32.8 | G53: 23 | H53: 19 | I53: 24.8 | J53: 19.8 | K53: 17.1 | L53: 10 | M53: 17 | N53: 17.6 | O53: 15 | P53: 11 | Q53: 11.6 | R53: 12.8 | S53: 14.8 | T53: 11.6 | U53: 6 | V53: 7 | W53: 6.8 | X53: 10.7 | Z53: 10.7 | AB53: 10 | AD53: 6.8 | AF53: 1.8 | AG53: 6.8 | AI53: 6.8 | AK53: 5.8 | AM53: 3 | AN53: 3.8
A54: Bemmel, Klappenburgstraat | B54: 3 | C54: 5.8 | D54: 9 | E54: 31 | F54: 33 | G54: 23 | H54: 19 | I54: 26.6 | J54: 21.6 | K54: 17.8 | L54: 10.8 | M54: 17.8 | N54: 17.6 | O54: 15 | P54: 12 | Q54: 11.8 | R54: 13 | S54: 15.6 | T54: 11.8 | U54: 6 | V54: 7.8 | W54: 6.8 | X54: 10.7 | Z54: 11.7 | AB54: 10 | AD54: 6.8 | AF54: 1.8 | AG54: 7 | AI54: 6.8 | AK54: 5.8 | AM54: 3 | AN54: 3
A55: Bemmel, Sportlaan | B55: 3 | C55: 6 | D55: 9 | E55: 31 | F55: 34 | G55: 23.8 | H55: 20.8 | I55: 26 | J55: 22.8 | K55: 18 | L55: 12.8 | M55: 18.8 | N55: 17.4 | O55: 15 | P55: 13 | Q55: 12 | R55: 14.2 | S55: 15.6 | T55: 12.5 | U55: 6 | V55: 7.8 | W55: 7 | X55: 10.7 | Z55: 11.7 | AB55: 9.8 | AD55: 6.8 | AF55: 1 | AG55: 8.6 | AI55: 6.9 | AK55: 6.8 | AM55: 5.6 | AN55: 3.1
A56: Bemmel, Gemeentehuis | B56: 3 | C56: 6 | D56: 10 | E56: 31.5 | F56: 33 | G56: 21.9 | H56: 16.8 | I56: 26 | J56: 21.6 | K56: 18 | L56: 13.4 | M56: 17 | N56: 18.4 | O56: 16 | P56: 12.8 | Q56: 12.9 | R56: 12.6 | S56: 16.4 | T56: 12.9 | U56: 7 | V56: 8.9 | W56: 9 | X56: 12.7 | Z56: 12 | AB56: 9 | AD56: 6.8 | AF56: 1 | AG56: 8 | AI56: 6.9 | AK56: 7.8 | AM56: 5.6 | AN56: 3
A57: Bemmel, Molenwei | B57: 3 | C57: 6 | D57: 10 | E57: 31.9 | F57: 34 | G57: 21.9 | H57: 16.8 | I57: 26.8 | J57: 20.9 | K57: 18.8 | L57: 13.6 | M57: 17 | N57: 18.4 | O57: 16 | P57: 12.8 | Q57: 13.6 | R57: 12.6 | S57: 16.4 | T57: 12.8 | U57: 6.8 | V57: 8.9 | W57: 9 | X57: 12.8 | Z57: 12 | AB57: 9 | AD57: 6.8 | AF57: 0.8 | AG57: 8 | AI57: 6.9 | AK57: 7.8 | AM57: 5.6 | AN57: 3
A58: Bemmel, Vossenhol | B58: 3 | C58: 6 | D58: 10 | E58: 32 | F58: 34.2 | G58: 22.8 | H58: 16.8 | I58: 26.8 | J58: 20.9 | K58: 19.8 | L58: 13.6 | M58: 17.8 | N58: 18.4 | O58: 17.6 | P58: 13 | Q58: 13.6 | R58: 13.4 | S58: 16.6 | T58: 12.8 | U58: 6.8 | V58: 9 | W58: 8.8 | X58: 12.6 | Z58: 12 | AB58: 8.8 | AD58: 6.8 | AF58: 0 | AG58: 8 | AI58: 6.9 | AK58: 7.8 | AM58: 5.6 | AN58: 3.1
A59: Bemmel, de Pas | B59: 3 | C59: 6 | D59: 10 | E59: 32 | F59: 34.2 | G59: 22.8 | H59: 16.8 | I59: 26.8 | J59: 20.9 | K59: 19.8 | L59: 13.6 | M59: 17.8 | N59: 18.4 | O59: 17.6 | P59: 13 | Q59: 13.6 | R59: 13.4 | S59: 16.6 | T59: 12.8 | U59: 6.8 | V59: 9 | W59: 8.8 | X59: 12.6 | Z59: 12 | AB59: 8.8 | AD59: 6.8 | AG59: 8 | AI59: 6.8 | AK59: 7.8 | AM59: 5.6 | AN59: 3.1
A60: Doornik, Het Nevelveld | B60: 3 | C60: 6 | D60: 10 | E60: 32 | F60: 34.7 | G60: 22.8 | H60: 16.8 | I60: 26.8 | J60: 20.9 | K60: 19.8 | L60: 13.6 | M60: 17.8 | N60: 18.4 | O60: 17.6 | P60: 13 | Q60: 13.6 | R60: 13.4 | S60: 16.6 | T60: 12.8 | U60: 6.8 | V60: 9 | W60: 8.8 | X60: 12.6 | Z60: 12 | AB60: 8.8 | AD60: 6.8 | AG60: 8 | AI60: 6.8 | AK60: 7.8 | AM60: 5.6 | AN60: 3.1
A61: Doornik, Zandsepad | B61: 3 | C61: 6 | D61: 10 | E61: 32.5 | F61: 34.7 | G61: 24 | H61: 17.8 | I61: 26.8 | J61: 20.9 | K61: 19.8 | L61: 13.6 | M61: 17.8 | N61: 18.4 | O61: 17.8 | P61: 13.8 | Q61: 13.6 | R61: 13.6 | S61: 16.6 | T61: 12.1 | U61: 6.8 | V61: 9 | W61: 8.8 | X61: 12.6 | Z61: 12.5 | AB61: 8.6 | AD61: 7 | AG61: 8 | AI61: 6.8 | AK61: 7.8 | AM61: 5.6 | AN61: 3.1
A62: Doornik, Doornik | B62: 3 | C62: 6 | D62: 10 | E62: 32.5 | F62: 34.7 | G62: 24 | H62: 17.8 | I62: 27.8 | J62: 21 | K62: 19.8 | L62: 13.6 | M62: 17.8 | N62: 18.4 | O62: 18.8 | P62: 13.8 | Q62: 13.6 | R62: 13.6 | S62: 16.6 | T62: 12.1 | U62: 6.8 | V62: 9 | W62: 8.8 | X62: 12.6 | Z62: 12.5 | AB62: 8.6 | AD62: 7 | AG62: 8 | AI62: 6.8 | AK62: 7.8 | AM62: 5.6 | AN62: 3.1
A63: Doornik, Bekkersland | B63: 3 | C63: 6 | D63: 10 | E63: 32.5 | F63: 34.6 | G63: 25.7 | H63: 17.8 | I63: 27.8 | J63: 21 | K63: 19.8 | L63: 13.6 | M63: 18 | N63: 18.4 | O63: 18.8 | P63: 13.8 | Q63: 13.6 | R63: 13.6 | S63: 16.6 | T63: 12.1 | U63: 6.8 | V63: 9 | W63: 8.8 | X63: 12.6 | Z63: 12.8 | AB63: 8.6 | AD63: 7 | AG63: 7.8 | AI63: 6.8 | AK63: 7.8 | AM63: 5.6 | AN63: 3.1
A64: Lent, Duitslandstraat | B64: 3 | C64: 6 | D64: 10 | E64: 32.8 | F64: 34.6 | G64: 25.7 | H64: 17.8 | I64: 28.6 | J64: 21.8 | K64: 19 | L64: 14.4 | M64: 18 | N64: 18.4 | O64: 18.8 | P64: 15.6 | Q64: 13.9 | R64: 13.6 | S64: 16.6 | T64: 12.1 | U64: 6 | V64: 8.8 | W64: 8.8 | X64: 12.8 | Z64: 12.8 | AB64: 8.6 | AD64: 7 | AG64: 7.8 | AI64: 7 | AK64: 7.8 | AM64: 5.6 | AN64: 3.1
A65: Lent, Turennesingel | B65: 3.9 | C65: 7 | D65: 11 | E65: 32.8 | F65: 34.8 | G65: 25.7 | H65: 17.6 | I65: 28.8 | J65: 22.7 | K65: 19.6 | L65: 14.4 | M65: 18 | N65: 18.4 | O65: 18.8 | P65: 15.6 | Q65: 14 | R65: 13.8 | S65: 16.6 | T65: 12.9 | U65: 7 | V65: 8 | W65: 8.8 | X65: 13.4 | Z65: 12.8 | AB65: 9.6 | AD65: 7 | AG65: 8 | AI65: 7 | AK65: 7.8 | AM65: 5.6 | AN65: 3.1
A66: Lent, Veur Lent | B66: 4 | C66: 7 | D66: 11 | E66: 32.8 | F66: 34.8 | G66: 25.7 | H66: 17.8 | I66: 28.8 | J66: 22.5 | K66: 19.6 | L66: 14.6 | M66: 18 | N66: 18.4 | O66: 18.8 | P66: 15.6 | Q66: 14.8 | R66: 13 | S66: 16.6 | T66: 12.1 | U66: 7 | V66: 8 | W66: 8.8 | X66: 13.4 | Z66: 12.8 | AB66: 9.6 | AD66: 7 | AG66: 8.5 | AI66: 7 | AK66: 8 | AM66: 5.6 | AN66: 3.1
A67: Nijmegen, Hunnerpark | B67: 3 | C67: 7 | D67: 11.6 | E67: 31 | F67: 33 | G67: 23.8 | H67: 17 | I67: 27 | J67: 22.1 | K67: 19.6 | L67: 12 | M67: 18 | N67: 18.6 | O67: 18.6 | P67: 14.8 | Q67: 13.8 | R67: 13 | S67: 15.6 | T67: 11.6 | U67: 7 | V67: 7 | W67: 7 | X67: 12.4 | Z67: 9.8 | AB67: 8.6 | AD67: 6.8 | AG67: 6.8 | AI67: 7 | AK67: 6.8 | AM67: 3.8 | AN67: 2
A68: Nijmegen, Valkhof | B68: 3 | C68: 7 | D68: 10 | E68: 31 | F68: 29.7 | G68: 21.8 | H68: 15 | I68: 26.7 | J68: 19.8 | K68: 16.9 | L68: 10.8 | M68: 16 | N68: 16.6 | O68: 17.8 | P68: 12.9 | Q68: 13.6 | R68: 11.6 | S68: 14.8 | T68: 10.8 | U68: 6.8 | V68: 8 | W68: 6.8 | X68: 12 | Z68: 9.8 | AB68: 8.2 | AD68: 5.8 | AG68: 5.8 | AI68: 6 | AK68: 6.8 | AM68: 4 | AN68: 1.5
A69: Nijmegen, Waalkade | B69: 3 | C69: 7.8 | D69: 10.8 | E69: 30.8 | F69: 30 | G69: 21.8 | H69: 15.4 | I69: 26.9 | J69: 19.9 | K69: 17.5 | L69: 11.8 | M69: 16.8 | N69: 15.8 | O69: 16 | P69: 12.9 | Q69: 13.2 | R69: 11.8 | S69: 14.4 | T69: 10.8 | U69: 5.8 | V69: 8 | W69: 7 | X69: 12.6 | Z69: 8.4 | AB69: 7.8 | AD69: 5 | AG69: 6 | AI69: 6 | AK69: 6 | AM69: 3.8 | AN69: 1
A70: Nijmegen, Kronenburgersingel | B70: 3 | C70: 7.8 | D70: 10.8 | E70: 28.7 | F70: 29.9 | G70: 21.6 | H70: 14.9 | I70: 26 | J70: 19.5 | K70: 17.9 | L70: 11.8 | M70: 16 | N70: 16 | O70: 16 | P70: 11.8 | Q70: 13.2 | R70: 10.8 | S70: 16.6 | T70: 10.8 | U70: 6 | V70: 7.9 | W70: 7 | X70: 12 | Z70: 7.3 | AB70: 7.8 | AD70: 5 | AG70: 5.8 | AI70: 6 | AK70: 5.8 | AM70: 3 | AN70: 1
A71: Nijmegen, Centraal Station | B71: 0 | C71: 0 | D71: 2 | E71: 2 | F71: 0 | G71: 1 | H71: 1 | I71: 3 | J71: 3.8 | K71: 4 | L71: 2.8 | M71: 3 | N71: 5.8 | O71: 6.8 | P71: 3.8 | Q71: 6.8 | R71: 3 | S71: 11.4 | T71: 5.8 | U71: 2 | V71: 2.8 | W71: 1 | X71: 7.8 | Z71: 2 | AB71: 5.6 | AD71: 0 | AG71: 0 | AI71: 3 | AK71: 2 | AM71: 1.8 | AN71: 0.8
A72: MaxBezetting | B72: =MAX(B9:B71) -> 4 | C72: =MAX(C9:C71) -> 7.8 | D72: =MAX(D9:D71) -> 11.6 | E72: =MAX(E9:E71) -> 32.8 | F72: =MAX(F9:F71) -> 37.8 | G72: =MAX(G9:G71) -> 26 | H72: =MAX(H9:H71) -> 20.8 | I72: =MAX(I9:I71) -> 28.8 | ... AP72: =MAX(AP9:AP71) -> 10.4
A73: uurblok | B73: =HOUR(B7) -> 5 | C73: =HOUR(C7) -> 6 | D73: =HOUR(D7) -> 6 | E73: =HOUR(E7) -> 6 | F73: =HOUR(F7) -> 7 | G73: =HOUR(G7) -> 7 | H73: =HOUR(H7) -> 8 | I73: =HOUR(I7) -> 8 | ... AO73: =HOUR(AO7) -> 23 | AP73: 24
A76: bezettingstelling lijn 33 - van NIJMEGEN naar ARNHEM - werkdagen | bron: chipkaart gegevens november 2023 | 80 percentiel waarde
A77: ritnummer | B77: 2 | C77: 4 | D77: 6 | E77: 8 | F77: 10 | G77: 12 | H77: 14 | I77: 16 | J77: 18 | K77: 20 | L77: 22 | M77: 24 | N77: 26 | O77: 28 | P77: 30 | Q77: 32 | R77: 34 | S77: 36 | T77: 38 | U77: 40 | V77: 42 | W77: 44 | X77: 46 | Y77: 48 | Z77: 50 | AA77: 52 | AB77: 54 | AC77: 56 | AD77: 58 | AE77: 60 | AF77: 62 | AG77: 64 | AH77: 66 | AI77: 68 | AJ77: 70 | AK77: 72 | AL77: 74
A78: vertrektijd beginhalte | B78: 5:34 | C78: 5:52 | D78: 6:24 | E78: 7:07 | F78: 6:33 | G78: 7:14 | H78: 7:03 | I78: 8:12 | J78: 7:33 | K78: 8:02 | L78: 8:32 | M78: 9:02 | N78: 9:32 | O78: 10:02 | P78: 10:32 | Q78: 11:02 | R78: 11:32 | S78: 12:02 | T78: 12:32 | U78: 13:02 | V78: 13:42 | W78: 14:12 | X78: 14:42 | Y78: 15:12 | Z78: 15:42 | AA78: 16:12 | AB78: 16:46 | AC78: 17:16 | AD78: 17:46 | AE78: 18:16 | AF78: 18:46 | AG78: 19:16 | AH78: 20:12 | AI78: 21:12 | AJ78: 22:12 | AK78: 23:12 | AL78: 24:12
A80: Nijmegen, Centraal Station | F80: 2.8 | H80: 2 | J80: 5 | K80: 7.8 | L80: 4 | M80: 3.6 | N80: 3 | O80: 5 | P80: 6.8 | Q80: 7 | R80: 9 | S80: 12 | T80: 16.8 | U80: 13 | V80: 19.2 | W80: 19.8 | X80: 20.8 | Y80: 17.8 | Z80: 21.8 | AA80: 24 | AB80: 24.8 | AC80: 26.8 | AD80: 14.8 | AE80: 11.8 | AF80: 7 | AG80: 7 | AH80: 9.6 | AI80: 5.8 | AJ80: 5 | AK80: 7 | AL80: 1.8
A81: Nijmegen, Kronenburgersingel | F81: 3 | H81: 2 | J81: 6 | K81: 8 | L81: 4 | M81: 4.6 | N81: 3.8 | O81: 5 | P81: 7 | Q81: 7 | R81: 8.8 | S81: 13.8 | T81: 16.6 | U81: 13.6 | V81: 19.2 | W81: 19.6 | X81: 20.8 | Y81: 18.8 | Z81: 21.8 | AA81: 23.8 | AB81: 24.7 | AC81: 26 | AD81: 15.6 | AE81: 11.8 | AF81: 7 | AG81: 8 | AH81: 8.8 | AI81: 6.8 | AJ81: 5 | AK81: 7 | AL81: 2
A82: Nijmegen, Waalkade | F82: 3 | H82: 2 | J82: 7 | K82: 8 | L82: 4.8 | M82: 4.6 | N82: 3.8 | O82: 5.8 | P82: 6.8 | Q82: 6 | R82: 8 | S82: 13.8 | T82: 16.6 | U82: 13.6 | V82: 20.8 | W82: 19 | X82: 20.8 | Y82: 18.8 | Z82: 22 | AA82: 25.4 | AB82: 25 | AC82: 26 | AD82: 15.6 | AE82: 11.8 | AF82: 7.8 | AG82: 8.8 | AH82: 8.8 | AI82: 6.8 | AJ82: 5 | AK82: 7 | AL82: 1.8
A83: Nijmegen, Valkhof | F83: 3 | H83: 2 | J83: 7 | K83: 7 | L83: 4 | M83: 3 | N83: 3 | O83: 5.8 | P83: 6 | Q83: 7.8 | R83: 8.8 | S83: 15 | T83: 17 | U83: 13 | V83: 22 | W83: 21 | X83: 23.3 | Y83: 19.8 | Z83: 25.8 | AA83: 28.8 | AB83: 28.7 | AC83: 28.6 | AD83: 18.8 | AE83: 13.8 | AF83: 7.8 | AG83: 9 | AH83: 10 | AI83: 9.3 | AJ83: 7 | AK83: 10.8 | AL83: 2
A84: Nijmegen, Hunnerpark | F84: 3 | H84: 3 | J84: 9 | K84: 8 | L84: 4 | M84: 3 | N84: 3 | O84: 6 | P84: 6 | Q84: 8 | R84: 9 | S84: 16.8 | T84: 17 | U84: 14 | V84: 22 | W84: 22.8 | X84: 24.3 | Y84: 22.8 | Z84: 27.8 | AA84: 29.8 | AB84: 28 | AC84: 28.8 | AD84: 18.6 | AE84: 14.6 | AF84: 8.8 | AG84: 9.8 | AH84: 10.8 | AI84: 9.3 | AJ84: 7 | AK84: 11 | AL84: 2.8
A85: Lent, Veur Lent | F85: 3 | H85: 3 | J85: 9 | K85: 8 | L85: 4 | M85: 3 | N85: 3 | O85: 6 | P85: 6 | Q85: 8 | R85: 9 | S85: 16.8 | T85: 17 | U85: 14 | V85: 22 | W85: 22.8 | X85: 24.3 | Y85: 22.8 | Z85: 26.8 | AA85: 29.8 | AB85: 28 | AC85: 28.8 | AD85: 17.8 | AE85: 14.6 | AF85: 8.8 | AG85: 9.8 | AH85: 10.8 | AI85: 9.3 | AJ85: 7 | AK85: 11 | AL85: 2
A86: Lent, Turennesingel | F86: 2.7 | H86: 3 | J86: 9 | K86: 8 | L86: 4 | M86: 3 | N86: 3 | O86: 6 | P86: 6 | Q86: 6.8 | R86: 8.8 | S86: 16.8 | T86: 16.7 | U86: 12.8 | V86: 22 | W86: 21.8 | X86: 24.3 | Y86: 22.8 | Z86: 26.8 | AA86: 29.6 | AB86: 28 | AC86: 26.8 | AD86: 17.6 | AE86: 14.6 | AF86: 8.6 | AG86: 9.8 | AH86: 11 | AI86: 9.2 | AJ86: 7 | AK86: 11 | AL86: 2
A87: Lent, Laauwikstraat | F87: 2.7 | H87: 3 | J87: 8.8 | K87: 8.8 | L87: 4 | M87: 3.8 | N87: 3 | O87: 5.6 | P87: 6 | Q87: 6 | R87: 8 | S87: 16.6 | T87: 16 | U87: 13 | V87: 21.8 | W87: 21.8 | X87: 23.4 | Y87: 22.8 | Z87: 25 | AA87: 28.8 | AB87: 26.8 | AC87: 25.8 | AD87: 15.8 | AE87: 14.6 | AF87: 7.8 | AG87: 9 | AH87: 11 | AI87: 9.1 | AJ87: 6 | AK87: 10 | AL87: 1.8
A88: Lent, Duitslandstraat | F88: 2.7 | H88: 3 | J88: 8 | K88: 8.8 | L88: 4 | M88: 3.8 | N88: 2.8 | O88: 5.6 | P88: 6 | Q88: 6 | R88: 8 | S88: 15.8 | T88: 16 | U88: 13 | V88: 21 | W88: 21.8 | X88: 23.4 | Y88: 23 | Z88: 24.8 | AA88: 28 | AB88: 26.6 | AC88: 24.6 | AD88: 15 | AE88: 13.8 | AF88: 6.8 | AG88: 9 | AH88: 11 | AI88: 8.9 | AJ88: 6 | AK88: 9 | AL88: 1
A89: Doornik, Bekkersland | F89: 2.7 | H89: 3.8 | J89: 8 | K89: 8.8 | L89: 4 | M89: 3.8 | N89: 2.8 | O89: 5.6 | P89: 6.8 | Q89: 6 | R89: 8 | S89: 15.8 | T89: 16 | U89: 13 | V89: 21 | W89: 21.8 | X89: 23.4 | Y89: 23 | Z89: 24.8 | AA89: 28 | AB89: 26.6 | AC89: 24.6 | AD89: 15 | AE89: 13.8 | AF89: 6.8 | AG89: 9 | AH89: 11 | AI89: 7.9 | AJ89: 6 | AK89: 9.8 | AL89: 1
A90: Doornik, Doornik | F90: 2.7 | H90: 3.8 | J90: 8 | K90: 8.8 | L90: 4 | M90: 3.8 | N90: 2.8 | O90: 5 | P90: 6.8 | Q90: 6 | R90: 8 | S90: 15.8 | T90: 16 | U90: 13 | V90: 20.6 | W90: 21.8 | X90: 22.6 | Y90: 23 | Z90: 24.8 | AA90: 28 | AB90: 26.5 | AC90: 23.8 | AD90: 15 | AE90: 12.8 | AF90: 6 | AG90: 9 | AH90: 11 | AI90: 7.9 | AJ90: 6 | AK90: 9.8 | AL90: 1
A91: Doornik, Zandsepad | F91: 2.7 | H91: 3.8 | J91: 8 | K91: 8 | L91: 4 | M91: 3.8 | N91: 2.8 | O91: 5 | P91: 6.8 | Q91: 6 | R91: 8 | S91: 15.8 | T91: 16 | U91: 13 | V91: 19.8 | W91: 21 | X91: 21.8 | Y91: 22.5 | Z91: 23.8 | AA91: 28 | AB91: 25.7 | AC91: 23.8 | AD91: 15 | AE91: 12.8 | AF91: 6 | AG91: 9 | AH91: 10.8 | AI91: 7.9 | AJ91: 6 | AK91: 9.8 | AL91: 1
... A100: Bemmel, Papenstraat | F100: 1 | H100: 4.8 | J100: 6 | K100: 3.4 | L100: 3 | M100: 2 | N100: 2 | O100: 4.4 | P100: 6 | Q100: 4.8 | R100: 10 | S100: 13 | T100: 12.9 | U100: 11 | V100: 17 | W100: 15 | X100: 18.6 | Y100: 20 | Z100: 21.5 | AA100: 22 | AB100: 19 | AC100: 21.6 | AD100: 11.8 | AE100: 11 | AF100: 7 | AG100: 7 | AH100: 8 | AI100: 8.8 | AJ100: 6 | AK100: 7 | AL100: 0
A101: Bemmel, De Essenpas | B101: 0 | C101: 0 | D101: 0 | F101: 1 | G101: 0 | H101: 4.8 | J101: 6 | K101: 3.7 | L101: 3 | M101: 2 | N101: 2.8 | O101: 4.4 | P101: 6.8 | Q101: 5.6 | R101: 11.8 | S101: 13.9 | T101: 13 | U101: 10.8 | V101: 17 | W101: 15 | X101: 19.4 | Y101: 20.4 | Z101: 21.6 | AA101: 22 | AB101: 19 | AC101: 21.6 | AD101: 10.9 | AE101: 11.5 | AF101: 6.8 | AG101: 7 | AH101: 8.8 | AI101: 8.8 | AJ101: 6 | AK101: 7
A102: Haalderen, Lage Zandsestraat | B102: 0 | C102: 0 | D102: 0 | F102: 1.4 | G102: 0 | H102: 5 | J102: 7 | K102: 3.4 | L102: 2 | M102: 2.8 | N102: 2.8 | O102: 4.4 | P102: 6.4 | Q102: 5.8 | R102: 11 | S102: 13.9 | T102: 13 | U102: 10.6 | V102: 16.8 | W102: 15 | X102: 19.4 | Y102: 20.9 | Z102: 19.9 | AA102: 21 | AB102: 19.8 | AC102: 19.8 | AD102: 10.5 | AE102: 10.5 | AF102: 7 | AG102: 6 | AH102: 8.8 | AI102: 8.8 | AJ102: 6 | AK102: 7
A103: Haalderen, Kerk | B103: 0 | C103: 0 | D103: 0 | F103: 1.4 | G103: 1 | H103: 6 | J103: 7 | K103: 3.9 | L103: 2 | M103: 3 | N103: 2.8 | O103: 4.4 | P103: 7 | Q103: 5 | R103: 10.8 | S103: 13 | T103: 12.4 | U103: 9.8 | V103: 14.8 | W103: 14 | X103: 18.4 | Y103: 20.3 | Z103: 18 | AA103: 19 | AB103: 19 | AC103: 18 | AD103: 10.8 | AE103: 8.9 | AF103: 6 | AG103: 6 | AH103: 7.8 | AI103: 7 | AJ103: 6 | AK103: 5.8
A104: Haalderen, Groenestraat | B104: 0 | C104: 0 | D104: 0 | F104: 1.9 | G104: 1 | H104: 6 | J104: 7 | K104: 3.9 | L104: 2 | M104: 3 | N104: 2.8 | O104: 4.4 | P104: 7 | Q104: 5 | R104: 10.8 | S104: 13 | T104: 12.4 | U104: 9.8 | V104: 14.8 | W104: 14 | X104: 18.6 | Y104: 20.3 | Z104: 17.3 | AA104: 19 | AB104: 19 | AC104: 17.8 | AD104: 10.8 | AE104: 8.7 | AF104: 6 | AG104: 6 | AH104: 7.8 | AI104: 7 | AJ104: 6 | AK104: 5.8
A105: Gendt, Industrieterrein | B105: 0 | C105: 0 | D105: 0 | F105: 1.9 | G105: 1 | H105: 6.8 | J105: 6 | K105: 4 | L105: 2 | M105: 3 | N105: 2.8 | O105: 5.8 | P105: 6.9 | Q105: 5 | R105: 10.8 | S105: 13 | T105: 12.4 | U105: 10 | V105: 14.8 | W105: 14 | X105: 17.8 | Y105: 20.1 | Z105: 17 | AA105: 19 | AB105: 19.3 | AC105: 19.6 | AD105: 10.8 | AE105: 8.7 | AF105: 6 | AG105: 6 | AH105: 7.8 | AI105: 7 | AJ105: 6 | AK105: 5.8
A106: Gendt, Kruisstraat | B106: 0 | C106: 0 | D106: 0 | F106: 1.9 | G106: 1 | H106: 7 | J106: 6 | K106: 4 | L106: 2 | M106: 3 | N106: 2 | O106: 5 | P106: 6.9 | Q106: 5.8 | R106: 10 | S106: 12.7 | T106: 12.8 | U106: 9.8 | V106: 14.8 | W106: 14 | X106: 17.6 | Y106: 19.9 | Z106: 16.8 | AA106: 19 | AB106: 17.9 | AC106: 18 | AD106: 10 | AE106: 8.7 | AF106: 6 | AG106: 6 | AH106: 7.8 | AI106: 7 | AJ106: 6 | AK106: 4.8
A107: Gendt, Kommerdijk | B107: 0 | C107: 0 | D107: 0 | F107: 1.9 | G107: 1 | H107: 7 | J107: 6 | K107: 4 | L107: 2 | M107: 3 | N107: 2 | O107: 5 | P107: 6.8 | Q107: 5.8 | R107: 9.8 | S107: 11.9 | T107: 12.8 | U107: 9.8 | V107: 14.8 | W107: 13.8 | X107: 16 | Y107: 18.3 | Z107: 16 | AA107: 18.8 | AB107: 17.1 | AC107: 18.5 | AD107: 10 | AE107: 7 | AF107: 6 | AG107: 5.8 | AH107: 7.6 | AI107: 7 | AJ107: 5 | AK107: 5.6
A108: Gendt, Baron van Gendtlaan | B108: 0 | C108: 0 | D108: 0 | F108: 2.3 | G108: 2 | H108: 7 | J108: 7 | K108: 4.8 | L108: 3 | M108: 4 | N108: 2 | O108: 3.9 | P108: 6 | Q108: 6 | R108: 8.7 | S108: 12 | T108: 12 | U108: 9 | V108: 14 | W108: 13 | X108: 15.4 | Y108: 17.2 | Z108: 15.8 | AA108: 16.8 | AB108: 15.9 | AC108: 17.4 | AD108: 9.8 | AE108: 6.5 | AF108: 6 | AG108: 5 | AH108: 6.8 | AI108: 6.4 | AJ108: 3.6 | AK108: 4.2
A109: Gendt, Markt | B109: 0 | C109: 0 | D109: 0 | F109: 3.3 | G109: 2 | H109: 7 | J109: 6.8 | K109: 3.9 | L109: 3 | M109: 4 | N109: 2 | O109: 3.9 | P109: 6 | Q109: 6 | R109: 9 | S109: 12 | T109: 11 | U109: 9 | V109: 16.1 | W109: 13.8 | X109: 15.4 | Y109: 17 | Z109: 17.2 | AA109: 16 | AB109: 15.1 | AC109: 15.9 | AD109: 9 | AE109: 6 | AF109: 6 | AG109: 5 | AH109: 6 | AI109: 6.4 | AJ109: 3.6 | AK109: 4.2
A110: Gendt, Julianaplein | B110: 0 | C110: 1 | D110: 1 | F110: 5 | G110: 3 | H110: 13 | J110: 9 | K110: 5 | L110: 5 | M110: 6 | N110: 3.8 | O110: 4.8 | P110: 6.8 | Q110: 8 | R110: 10 | S110: 13 | T110: 10 | U110: 8 | V110: 14.6 | W110: 12.6 | X110: 13.8 | Y110: 13 | Z110: 15.7 | AA110: 13 | AB110: 12.6 | AC110: 14.7 | AD110: 7.9 | AE110: 4 | AF110: 6 | AG110: 5 | AH110: 6 | AI110: 6.2 | AJ110: 3.9 | AK110: 5.6
A111: Gendt, Dwarsakker | B111: 1 | C111: 1 | D111: 2.8 | F111: 6 | G111: 7.8 | H111: 16.8 | J111: 12.8 | K111: 6.8 | L111: 8 | M111: 8 | N111: 5 | O111: 5 | P111: 8 | Q111: 8 | R111: 9.8 | S111: 12 | T111: 8 | U111: 7.2 | V111: 13.2 | W111: 10.8 | X111: 11.8 | Y111: 12.1 | Z111: 13.6 | AA111: 11.8 | AB111: 9 | AC111: 10.6 | AD111: 6 | AE111: 3.8 | AF111: 6 | AG111: 4.8 | AH111: 4.8 | AI111: 4.2 | AJ111: 2 | AK111: 5.6
A112: Gendt, Kapelstraat | B112: 1 | C112: 1 | D112: 3 | F112: 6.8 | G112: 8 | H112: 16.8 | J112: 13.6 | K112: 7 | L112: 8 | M112: 8 | N112: 5.8 | O112: 5 | P112: 8 | Q112: 7.3 | R112: 9.8 | S112: 12 | T112: 8 | U112: 7.8 | V112: 13.2 | W112: 11 | X112: 11.8 | Y112: 12.8 | Z112: 13.6 | AA112: 10 | AB112: 9 | AC112: 10.4 | AD112: 6.3 | AE112: 3 | AF112: 6 | AG112: 5 | AH112: 4 | AI112: 4 | AJ112: 2 | AK112: 5.6
... A128: Huissen, Polseweg | B128: 3 | C128: 3 | D128: 11 | F128: 17.8 | G128: 13.8 | H128: 28.8 | J128: 19 | K128: 15.8 | L128: 14.8 | M128: 12.8 | N128: 9.8 | O128: 10.8 | P128: 10 | Q128: 9 | R128: 10.8 | S128: 9.8 | T128: 7.8 | U128: 7 | V128: 10 | W128: 7 | X128: 8.6 | Y128: 6.8 | Z128: 8.8 | AA128: 6 | AB128: 7 | AC128: 6 | AD128: 5 | AE128: 1.8 | AF128: 8 | AG128: 4.8 | AH128: 4 | AI128: 3 | AJ128: 1.2 | AK128: 2.8
A129: Huissen, Valom | B129: 3.8 | C129: 3 | D129: 11.8 | E129: 0 | F129: 18.8 | G129: 14.6 | H129: 29.8 | I129: 1.8 | J129: 19.8 | K129: 15.8 | L129: 14.8 | M129: 12 | N129: 10 | O129: 10.8 | P129: 11 | Q129: 9 | R129: 10.8 | S129: 9.7 | T129: 7.8 | U129: 7.8 | V129: 9.8 | W129: 6.8 | X129: 8 | Y129: 6.8 | Z129: 8 | AA129: 5.8 | AB129: 7 | AC129: 6 | AD129: 5 | AE129: 1 | AF129: 8 | AG129: 4 | AH129: 4 | AI129: 3.8 | AJ129: 1.2 | AK129: 2.8
A130: Huissen, Binnenveld | B130: 3.8 | C130: 3 | D130: 11.8 | E130: 1 | F130: 19.8 | G130: 13.6 | H130: 28.8 | I130: 2 | J130: 21.8 | K130: 16 | L130: 14.8 | M130: 12 | N130: 10 | O130: 10.8 | P130: 11.6 | Q130: 9 | R130: 10.8 | S130: 9.7 | T130: 7.8 | U130: 7.6 | V130: 9.8 | W130: 7 | X130: 8 | Y130: 6.8 | Z130: 7.8 | AA130: 6 | AB130: 7 | AC130: 6 | AD130: 5.8 | AE130: 1 | AF130: 8 | AG130: 4 | AH130: 4 | AI130: 3.8 | AJ130: 1.8 | AK130: 2
A131: Huissen, Stadswal | B131: 3.8 | C131: 3 | D131: 12 | E131: 1 | F131: 20 | G131: 13 | H131: 29 | I131: 4 | J131: 19.6 | K131: 16 | L131: 14.8 | M131: 12.6 | N131: 10 | O131: 11.6 | P131: 12.8 | Q131: 11 | R131: 15 | S131: 14.5 | T131: 12.4 | U131: 9.8 | V131: 15.4 | W131: 9 | X131: 12.6 | Y131: 9.1 | Z131: 10 | AA131: 7 | AB131: 7.4 | AC131: 7 | AD131: 5 | AE131: 0 | AF131: 9.8 | AG131: 0 | AH131: 4.8 | AI131: 4 | AJ131: 2 | AK131: 2
A132: Huissen, Langekerkstraat | B132: 5 | C132: 3 | D132: 13 | E132: 1 | F132: 20.8 | G132: 13.8 | H132: 29 | I132: 5 | J132: 17.8 | K132: 17 | L132: 15.8 | M132: 12.8 | N132: 11.8 | O132: 12 | P132: 14.8 | Q132: 13 | R132: 16 | S132: 16.8 | T132: 14.4 | U132: 12 | V132: 15.8 | W132: 9.8 | X132: 12.8 | Y132: 11.8 | Z132: 10 | AA132: 8 | AB132: 8 | AC132: 7.7 | AD132: 5.8 | AF132: 11 | AH132: 5 | AI132: 4.1 | AJ132: 2 | AK132: 2
A133: Huissen, Bredestraat | B133: 6 | C133: 3.8 | D133: 15 | E133: 3 | F133: 22 | G133: 16 | H133: 30 | I133: 9 | J133: 20.7 | K133: 18 | L133: 18 | M133: 14 | N133: 13.8 | O133: 13 | P133: 17 | Q133: 15.8 | R133: 18 | S133: 17 | T133: 17.5 | U133: 15.6 | V133: 16 | W133: 10.8 | X133: 13.8 | Y133: 12.8 | Z133: 10 | AA133: 10 | AB133: 8.8 | AC133: 8 | AD133: 5.8 | AF133: 12.6 | AH133: 6 | AI133: 4.8 | AJ133: 2 | AK133: 2.8
A134: Huissen, Heirweg | B134: 6 | C134: 4 | D134: 15.8 | E134: 4 | F134: 25 | G134: 18.8 | H134: 32.5 | I134: 11 | J134: 20.8 | K134: 18.8 | L134: 19.8 | M134: 15.8 | N134: 14.8 | O134: 15 | P134: 18.6 | Q134: 17.8 | R134: 19.8 | S134: 19.5 | T134: 17.5 | U134: 15.8 | V134: 16.8 | W134: 11 | X134: 14 | Y134: 12.8 | Z134: 10 | AA134: 10.8 | AB134: 9.8 | AC134: 8 | AD134: 7.6 | AF134: 13.5 | AH134: 6 | AI134: 5 | AJ134: 2.8 | AK134: 2.8
A135: Huissen, Nielant | B135: 8 | C135: 4.8 | D135: 16 | E135: 5.8 | F135: 30.8 | G135: 23 | H135: 39.4 | I135: 17.8 | J135: 23 | K135: 21.8 | L135: 23.8 | M135: 18 | N135: 16 | O135: 16.8 | P135: 23 | Q135: 20 | R135: 23 | S135: 22.9 | T135: 19.4 | U135: 20.8 | V135: 19 | W135: 12 | X135: 14.8 | Y135: 12.1 | Z135: 11.8 | AA135: 14.8 | AB135: 11 | AC135: 10 | AD135: 7 | AF135: 15.4 | AH135: 7 | AI135: 6 | AJ135: 2.2 | AK135: 1.8
A136: Huissen, Grevenveld | B136: 8.8 | C136: 5 | D136: 16.8 | E136: 6 | F136: 33.6 | G136: 25 | H136: 43.4 | I136: 19 | J136: 23.8 | K136: 26.6 | L136: 24.8 | M136: 19 | N136: 18.8 | O136: 18.8 | P136: 25.8 | Q136: 21 | R136: 26 | S136: 24.7 | T136: 21.8 | U136: 22.8 | V136: 20.8 | W136: 15 | X136: 14.8 | Y136: 13.8 | Z136: 12.8 | AA136: 14.8 | AB136: 11 | AC136: 11 | AD136: 8 | AF136: 15.4 | AH136: 7 | AI136: 6 | AJ136: 3.6 | AK136: 2
A137: Arnhem, Oude Huissenseweg | B137: 8.8 | C137: 5 | D137: 17 | E137: 6.8 | F137: 33.8 | G137: 26.8 | H137: 44.4 | I137: 20 | J137: 23.8 | K137: 26.6 | L137: 24.8 | M137: 19.8 | N137: 19 | O137: 18.8 | P137: 25.8 | Q137: 21.8 | R137: 26.8 | S137: 25.4 | T137: 21.5 | U137: 23.8 | V137: 21.3 | W137: 14.8 | X137: 15.8 | Y137: 13.8 | Z137: 12.8 | AA137: 14.8 | AB137: 11 | AC137: 11 | AD137: 8 | AF137: 15.6 | AH137: 7.8 | AI137: 6 | AJ137: 4 | AK137: 2
A138: Arnhem, Stadswaardenlaan | B138: 16 | C138: 7.8 | D138: 19.8 | E138: 10.8 | F138: 36.8 | G138: 28.8 | H138: 49 | I138: 27.8 | J138: 30.8 | K138: 29.8 | L138: 28 | M138: 22 | N138: 21 | O138: 21.8 | P138: 26 | Q138: 24 | R138: 28 | S138: 26.5 | T138: 21.7 | U138: 25.8 | V138: 20.1 | W138: 17 | X138: 17 | Y138: 15.6 | Z138: 14 | AA138: 18.8 | AB138: 12.6 | AC138: 11 | AD138: 9 | AF138: 16.8 | AH138: 9 | AI138: 5.8 | AJ138: 5 | AK138: 2
A139: Arnhem, De Monchyplein | B139: 19.8 | C139: 8 | D139: 22 | E139: 16.8 | F139: 40.4 | G139: 34.6 | H139: 46.8 | I139: 34.4 | J139: 31.8 | K139: 27 | L139: 29.6 | M139: 23.8 | N139: 20.8 | O139: 22 | P139: 27 | Q139: 27.7 | R139: 32 | S139: 30.8 | T139: 23 | U139: 29.6 | V139: 16.1 | W139: 23.4 | X139: 20.5 | Y139: 22.6 | Z139: 15.9 | AA139: 18.9 | AB139: 15.8 | AC139: 13.8 | AD139: 11.8 | AF139: 17 | AH139: 11 | AI139: 8.8 | AJ139: 5 | AK139: 2
A140: Arnhem, Airborneplein | B140: 19 | C140: 8 | D140: 19.8 | E140: 14.6 | F140: 35.8 | G140: 30.6 | H140: 41.8 | I140: 30 | J140: 28.8 | K140: 23.8 | L140: 27.8 | M140: 23 | N140: 20 | O140: 21.8 | P140: 26.6 | Q140: 26.3 | R140: 31 | S140: 28 | T140: 21.6 | U140: 27 | V140: 15.8 | W140: 20.5 | X140: 20.9 | Y140: 20.7 | Z140: 18.6 | AA140: 20.8 | AB140: 15 | AC140: 13.7 | AD140: 11.7 | AF140: 15.1 | AH140: 11 | AI140: 8.8 | AJ140: 5 | AK140: 1.8
A141: Arnhem, Velperplein | B141: 18 | C141: 6 | D141: 18 | E141: 14 | F141: 29.8 | G141: 18.6 | H141: 23 | I141: 14.5 | J141: 17.8 | K141: 15 | L141: 17 | M141: 14.6 | N141: 13 | O141: 14 | P141: 14 | Q141: 16 | R141: 20.8 | S141: 20.5 | T141: 15 | U141: 18 | V141: 10.4 | W141: 13.1 | X141: 14 | Y141: 14.8 | Z141: 12.9 | AA141: 17.1 | AB141: 10 | AC141: 9.7 | AD141: 10 | AF141: 11.4 | AH141: 9.8 | AI141: 7 | AJ141: 5 | AK141: 1
A142: Arnhem, Willemsplein | B142: 17 | C142: 4.8 | D142: 15 | E142: 12.8 | F142: 25 | G142: 15 | H142: 19.8 | I142: 10.9 | J142: 12 | K142: 12 | L142: 10.9 | M142: 10 | N142: 10 | O142: 10.8 | P142: 10.8 | Q142: 11 | R142: 13 | S142: 15.2 | T142: 12.2 | U142: 13.8 | V142: 6.9 | W142: 7.7 | X142: 11.9 | Y142: 11.1 | Z142: 9 | AA142: 11 | AB142: 5.9 | AC142: 5.8 | AD142: 4 | AF142: 7.8 | AH142: 7 | AI142: 6 | AJ142: 3 | AK142: 0.8
A143: Arnhem, Centraal Station | B143: 0 | C143: 0 | D143: 0 | E143: 0 | F143: 0.8 | G143: 0 | H143: 0 | I143: 0 | J143: 0.8 | K143: 1 | L143: 0 | M143: 0 | N143: 0 | O143: 0 | P143: 0 | Q143: 0.8 | R143: 0.8 | S143: 1.8 | T143: 0 | U143: 0 | V143: 0 | W143: 0 | X143: 0 | Y143: 0 | Z143: 0 | AA143: 0 | AB143: 0.8 | AC143: 0 | AD143: 0 | AF143: 0.8 | AH143: 0 | AI143: 0 | AJ143: 0 | AK143: 0
A144: MaxBezetting | B144: =MAX(B80:B143) -> 19.8 | C144: =MAX(C80:C143) -> 8 | D144: =MAX(D80:D143) -> 22 | E144: =MAX(E80:E143) -> 16.8 | F144: =MAX(F80:F143) -> 40.4 | G144: =MAX(G80:G143) -> 34.6 | H144: =MAX(H80:H143) -> 49 | I144: =MAX(I80:I143) -> 34.4 | ... AL144: =MAX(AL80:AL143) -> 2.8
...

Sheet A035 - nieuwe route Zetten
N4: blauw is huidig, rood is voorstel

Sheet A056 - centrale halte Heteren
B17: route Heteren
B18: Zwart = huidige lusroute
B19: Rood = voorgestelde eindpuntroute
C21: = afstand tot centrale halte Beemdhof

Sheet A056 extra halte Metamorfose

Sheet A060 - routes Babberich Herwen
B1: Babberich in blauw de huidige route, in rood de nieuwe route | T1: Herwen in blauw de huidige route, in rood de nieuwe route

Sheet A060 - in uitstap per halte
B2: Lijn A060 - ri.1 - nov 2023 | F2: Lijn A060 - ri.2 - nov 2023 | J2: Lijn A060 - ri.1 - nov 2023 | N2: Lijn A060 - ri.2 - nov 2023 | R2: Lijn A060 - ri.1 - nov 2023 | V2: Lijn A060 - ri.2 - nov 2023
B3: werkdag-gemiddelde | C3: CI | D3: CO | F3: werkdag-gemiddelde | G3: CI | H3: CO | J3: zaterdag-gemiddelde | K3: CI | L3: CO | N3: zaterdag-gemiddelde | O3: CI | P3: CO | R3: zondag-gemiddelde | S3: CI | T3: CO | V3: zondag-gemiddelde | W3: CI | X3: CO
B4: Total | C4: =SUM(C5:C56) -> 578.5 | D4: =SUM(D5:D56) -> 572 | F4: Total | G4: =SUM(G5:G56) -> 608.1 | H4: =SUM(H5:H56) -> 600.2 | J4: Total | K4: =SUM(K5:K56) -> 457.2 | L4: =SUM(L5:L56) -> 440 | N4: Total | O4: =SUM(O5:O56) -> 437.2 | P4: =SUM(P5:P56) -> 432.3 | R4: Total | S4: =SUM(S5:S56) -> 197.5 | T4: =SUM(T5:T56) -> 195.5 | V4: Total | W4: =SUM(W5:W56) -> 217.2 | X4: =SUM(X5:X56) -> 215.5
B5: Tolkamer, Lobede | C5: 42.1 | D5: 0 | F5: Arnhem, Centraal Station | G5: 192.8 | H5: 1.3 | J5: Tolkamer, Lobede | K5: 9.5 | L5: 0 | N5: Arnhem, Centraal Station | O5: 178.3 | P5: 0.3 | R5: Duiven, Dorp | S5: 11.8 | T5: 0.3 | V5: Arnhem, Centraal Station | W5: 107.8 | X5: 1
B6: Tolkamer, Postkantoor | C6: 13.4 | D6: 0.7 | F6: Arnhem, Willemsplein | G6: 64.9 | H6: 0.8 | J6: Tolkamer, Postkantoor | K6: 4.3 | L6: 0 | N6: Arnhem, Willemsplein | O6: 70.3 | P6: 0.5 | R6: Duiven, Thuvine | S6: 2.8 | T6: 0 | V6: Arnhem, Willemsplein | W6: 43.5 | X6: 0
B7: Lobith, Dorp | C7: 32.1 | D7: 3.2 | F7: Arnhem, Velperplein | G7: 67.9 | H7: 7.9 | J7: Lobith, Dorp | K7: 11.6 | L7: 1 | N7: Arnhem, Velperplein | O7: 54.5 | P7: 6.1 | R7: Duiven, van Goyenstraat | S7: 21.3 | T7: 0 | V7: Arnhem, Velperplein | W7: 34.8 | X7: 7.6
B8: Lobith, Graaf Reinaldstraat | C8: 14.3 | D8: 0.5 | F8: Arnhem, Stadstheater Arnhem | G8: 8.6 | H8: 2.5 | J8: Lobith, Graaf Reinaldstraat | K8: 4.3 | L8: 1 | N8: Arnhem, Stadstheater Arnhem | O8: 13 | P8: 1 | R8: Duiven, Maststraat | S8: 5.3 | T8: 0 | V8: Arnhem, Stadstheater Arnhem | W8: 5.8 | X8: 1
B9: Lobith, Anjerstraat | C9: 8.8 | D9: 0 | F9: Arnhem, Stadskantoor | G9: 11.4 | H9: 6.7 | J9: Lobith, Anjerstraat | K9: 3.3 | L9: 0 | N9: Arnhem, Stadskantoor | O9: 7.5 | P9: 9.1 | R9: Westervoort, Het Ambacht | S9: 2.5 | T9: 1.2 | V9: Arnhem, Stadskantoor | W9: 4.5 | X9: 4.8
B10: Herwen, De Bijland | C10: 0.7 | D10: 0 | F10: Arnhem, Badhuisstraat | G10: 2.4 | H10: 7.1 | J10: Herwen, De Bijland | K10: 0 | L10: 0 | N10: Arnhem, Badhuisstraat | O10: 4 | P10: 8.3 | R10: Westervoort, Leigraaf | S10: 12.8 | T10: 0.9 | V10: Arnhem, Badhuisstraat | W10: 0.5 | X10: 4.8
B11: Herwen, Nijverheidstraat | C11: 0.7 | D11: 0.1 | F11: Arnhem, v. Oldenbarneveldtstraat | G11: 7.5 | H11: 5.7 | J11: Herwen, Nijverheidstraat | K11: 0.8 | L11: 0 | N11: Arnhem, v. Oldenbarneveldtstraat | O11: 3.3 | P11: 7.9 | R11: Westervoort, Lange Maat | S11: 5.3 | T11: 0 | V11: Arnhem, v. Oldenbarneveldtstraat | W11: 2 | X11: 5.8
B12: Herwen, Molenpad | C12: 16 | D12: 0.3 | F12: Arnhem, Haven | G12: 4.1 | H12: 9.7 | J12: Herwen, Molenpad | K12: 3.3 | L12: 0 | N12: Arnhem, Haven | O12: 0.8 | P12: 17.9 | R12: Westervoort, Ganzenpoel | S12: 14 | T12: 0.5 | V12: Arnhem, Haven | W12: 0.3 | X12: 6.8
B13: Babberich, Mariahoeve | C13: 0 | D13: 0 | F13: Arnhem, Dr. C. Lelyweg Zuid | G13: 2.3 | H13: 4.5 | J13: Babberich, Mariahoeve | K13: 0 | L13: 0 | N13: Arnhem, Dr. C. Lelyweg Zuid | O13: 1.8 | P13: 4.9 | R13: Westervoort, Nieuwhof | S13: 10 | T13: 0.3 | V13: Arnhem, Dr. C. Lelyweg Zuid | W13: 0.5 | X13: 2.8
B14: Babberich, Gildestraat | C14: 0 | D14: 0 | F14: Arnhem, IPKW | G14: 15 | H14: 19.3 | J14: Babberich, Gildestraat | K14: 0 | L14: 0 | N14: Arnhem, IPKW | O14: 2.5 | P14: 3.4 | R14: Westervoort, Santacker | S14: 16.5 | T14: 0.9 | V14: Arnhem, IPKW | W14: 1.3 | X14: 3.3
B15: Babberich, Franciscusstraat | C15: 16.1 | D15: 0.1 | F15: Westervoort, Station Westervoort | G15: 26.5 | H15: 44.2 | J15: Babberich, Franciscusstraat | K15: 5.3 | L15: 0 | N15: Westervoort, Station Westervoort | O15: 18.3 | P15: 44.8 | R15: Westervoort, Emmerik | S15: 9.8 | T15: 0.3 | V15: Westervoort, Station Westervoort | W15: 10.3 | X15: 21.9
B16: Babberich, Dorpstraat | C16: 3.7 | D16: 0.1 | F16: Westervoort, Vredenburg | G16: 1.2 | H16: 8.1 | J16: Babberich, Dorpstraat | K16: 1.8 | L16: 0 | N16: Westervoort, Vredenburg | O16: 0.3 | P16: 7.5 | R16: Westervoort, Sonnedach | S16: 16 | T16: 0 | V16: Westervoort, Vredenburg | W16: 0 | X16: 7.4
... B27: Duiven, Helhoek | C27: 0.2 | D27: 0 | F27: Duiven, van Goyenstraat | G27: 5.7 | H27: 16.3 | J27: Duiven, Helhoek | K27: 0 | L27: 0 | N27: Duiven, van Goyenstraat | O27: 3.3 | P27: 29.4 | R27: Arnhem, Centraal Station | S27: 0 | T27: 77.4 | V27: Duiven, van Goyenstraat | W27: 0.3 | X27: 23.9
B28: Duiven, De Plak | C28: 0 | D28: 0 | F28: Duiven, Thuvine | G28: 2 | H28: 6.9 | J28: Duiven, De Plak | K28: 0 | L28: 0.3 | N28: Duiven, Thuvine | O28: 0 | P28: 6.2 | V28: Duiven, Thuvine | W28: 0 | X28: 2.8
B29: Duiven, Schapenweide | C29: 7.5 | D29: 2 | F29: Duiven, Dorp | G29: 11 | H29: 29 | J29: Duiven, Schapenweide | K29: 6.6 | L29: 2.5 | N29: Duiven, Dorp | O29: 6 | P29: 21.6 | V29: Duiven, Dorp | W29: 0 | X29: 17.1
B30: Duiven, Dorp | C30: 26.3 | D30: 9.3 | F30: Duiven, Schapenweide | G30: 2.3 | H30: 5 | J30: Duiven, Dorp | K30: 18.4 | L30: 5.3 | N30: Duiven, Schapenweide | O30: 0.5 | P30: 4.3
B31: Duiven, Thuvine | C31: 5.7 | D31: 2.3 | F31: Duiven, De Plak | G31: 0 | H31: 0 | J31: Duiven, Thuvine | K31: 5.3 | L31: 0.3 | N31: Duiven, De Plak | O31: 0 | P31: 0
B32: Duiven, van Goyenstraat | C32: 16.9 | D32: 3.8 | F32: Duiven, Helhoek | G32: 0.2 | H32: 0.1 | J32: Duiven, van Goyenstraat | K32: 26.8 | L32: 2.7 | N32: Duiven, Helhoek | O32: 0 | P32: 0
B33: Duiven, Maststraat | C33: 5.6 | D33: 4.1 | F33: Zevenaar, Schellekrans | G33: 4 | H33: 8 | J33: Duiven, Maststraat | K33: 11.3 | L33: 1 | N33: Zevenaar, Schellekrans | O33: 1.8 | P33: 3.3
B34: Westervoort, Het Ambacht | C34: 3.1 | D34: 2.6 | F34: Zevenaar, Rosorum | G34: 7.1 | H34: 13.6 | J34: Westervoort, Het Ambacht | K34: 2.3 | L34: 1.9 | N34: Zevenaar, Rosorum | O34: 2.3 | P34: 9
B35: Westervoort, Leigraaf | C35: 23.1 | D35: 1.9 | F35: Zevenaar, Ziekenhuis | G35: 16 | H35: 23.8 | J35: Westervoort, Leigraaf | K35: 19.6 | L35: 7.3 | N35: Zevenaar, Ziekenhuis | O35: 9.3 | P35: 11.7
B36: Westervoort, Lange Maat | C36: 12.1 | D36: 1.8 | F36: Zevenaar, Subenhara | G36: 8.6 | H36: 5.9 | J36: Westervoort, Lange Maat | K36: 6.3 | L36: 0.5 | N36: Zevenaar, Subenhara | O36: 5 | P36: 3.8
B37: Westervoort, Ganzenpoel | C37: 22.2 | D37: 4.8 | F37: Zevenaar, Zwembad | G37: 4.9 | H37: 7.9 | J37: Westervoort, Ganzenpoel | K37: 25.6 | L37: 2.6 | N37: Zevenaar, Zwembad | O37: 0.8 | P37: 7.2
B38: Westervoort, Nieuwhof | C38: 20.2 | D38: 3.5 | F38: Zevenaar, Sportcentrum | G38: 10.1 | H38: 11.7 | J38: Westervoort, Nieuwhof | K38: 28.3 | L38: 2 | N38: Zevenaar, Sportcentrum | O38: 2.5 | P38: 8
B39: Westervoort, Santacker | C39: 17.7 | D39: 3.5 | F39: Zevenaar, Oude Doesburgseweg | G39: 5.9 | H39: 24.1 | J39: Westervoort, Santacker | K39: 14.8 | L39: 3.8 | N39: Zevenaar, Oude Doesburgseweg | O39: 4 | P39: 15.3
B40: Westervoort, Emmerik | C40: 13 | D40: 1.7 | F40: Zevenaar, Oranjelaan | G40: 0.8 | H40: 3 | J40: Westervoort, Emmerik | K40: 15.8 | L40: 1 | N40: Zevenaar, Oranjelaan | O40: 0.5 | P40: 3.8
B41: Westervoort, Sonnedach | C41: 20.2 | D41: 3.3 | F41: Zevenaar, Station Uitstaphalte | G41: 4.3 | H41: 9.2 | J41: Westervoort, Sonnedach | K41: 19.8 | L41: 1.8 | N41: Zevenaar, Station Uitstaphalte | O41: 0.3 | P41: 6
... B52: Arnhem, Centraal Station | C52: 0.3 | D52: 134.7 | F52: Lobith, Graaf Reinaldstraat | G52: 0 | H52: 10 | J52: Arnhem, Centraal Station | K52: 0.8 | L52: 126.9 | N52: Lobith, Graaf Reinaldstraat | O52: 0.5 | P52: 2.3
F53: Lobith, Dorp | G53: 0.4 | H53: 22.9 | N53: Lobith, Dorp | O53: 0.3 | P53: 9.2
F54: Lobith, Graaf Ottoweg | G54: 0.9 | H54: 7.1 | N54: Lobith, Graaf Ottoweg | O54: 0 | P54: 1.4
F55: Tolkamer, Lobede | G55: 1 | H55: 36.1 | N55: Tolkamer, Lobede | O55: 0.5 | P55: 9.5

Sheet A060 - bezetting
A1: categorisering bezetting | B1: 0 | C1: 8 | D1: 25 | E1: 65
B2: =C1-0.00001 -> 7.99999 | C2: =D1-0.00001 -> 24.99999 | D2: =E1-0.00001 -> 64.99999 | E2: 999
A5: bezettingstelling lijn 60 - van TOLKAMER naar ARNHEM - werkdagen | bron: chipkaart gegevens november 2023 | 80 percentiel waarde
A6: ritnummer | B6: 1 | C6: 3 | D6: 5 | E6: 7 | F6: 9 | G6: 11 | H6: 13 | I6: 15 | J6: 17 | K6: 19 | L6: 21 | M6: 23 | N6: 25 | O6: 27 | P6: 29 | Q6: 31 | R6: 33 | S6: 35 | T6: 37 | U6: 39 | V6: 41 | W6: 43
A7: vertrektijd beginhalte | B7: 0.25833333 | C7: 0.26319444 | D7: 0.27013889 | E7: 0.28958333 | F7: 0.31180556 | G7: 0.33333333 | H7: 0.35416667 | I7: 0.39583333 | J7: 0.4375 | K7: 0.47916667 | L7: 0.52013889 | M7: 0.56180556 | N7: 0.60347222 | O7: 0.64513889 | P7: 0.68680556 | Q7: 0.73125 | R7: 0.77152778 | S7: 0.81319444 | T7: 0.83888889 | U7: 0.88055556 | V7: 0.92222222 | W7: 0.96388889
A9: Tolkamer, Lobede | D9: 1 | E9: 6 | F9: 6 | G9: 8.8 | H9: 7.8 | I9: 4.8 | J9: 5 | K9: 4 | L9: 3 | M9: 3 | N9: 3 | O9: 3 | P9: 3.8 | Q9: 1 | R9: 1 | S9: 1
A10: Tolkamer, Postkantoor | D10: 2 | E10: 9 | F10: 11 | G10: 10 | H10: 9 | I10: 4.8 | J10: 6 | K10: 5 | L10: 3 | M10: 3 | N10: 3 | O10: 3 | P10: 3.8 | Q10: 1.8 | R10: 1 | S10: 1
A11: Lobith, Dorp | D11: 4.8 | E11: 13 | F11: 18.8 | G11: 14 | H11: 14.8 | I11: 7 | J11: 7 | K11: 7 | L11: 5.8 | M11: 3 | N11: 3 | O11: 3 | P11: 3.8 | Q11: 2 | R11: 1 | S11: 1.8
A12: Lobith, Graaf Reinaldstraat | D12: 5 | E12: 16.8 | F12: 22.8 | G12: 15.8 | H12: 16 | I12: 10 | J12: 8.8 | K12: 8 | L12: 6 | M12: 4 | N12: 3 | O12: 3 | P12: 3.8 | Q12: 2 | R12: 1.8 | S12: 2
A13: Lobith, Anjerstraat | D13: 5 | E13: 19 | F13: 23.6 | G13: 17 | H13: 17.8 | I13: 10.8 | J13: 9 | K13: 8.8 | L13: 7 | M13: 4 | N13: 3 | O13: 3.8 | P13: 4 | Q13: 2 | R13: 2 | S13: 2
A14: Herwen, De Bijland | D14: 5 | E14: 19 | F14: 23.6 | G14: 17 | H14: 17.8 | I14: 10.8 | J14: 9 | K14: 8.8 | L14: 7 | M14: 4 | N14: 3 | O14: 4 | P14: 4 | Q14: 2 | R14: 2 | S14: 2
A15: Herwen, Nijverheidstraat | D15: 5 | E15: 19 | F15: 23.6 | G15: 17 | H15: 17.8 | I15: 10.8 | J15: 9 | K15: 8.8 | L15: 7 | M15: 4 | N15: 3.2 | O15: 4 | P15: 4 | Q15: 2 | R15: 2 | S15: 2
A16: Herwen, Molenpad | D16: 5 | E16: 22 | F16: 29.6 | G16: 19.8 | H16: 20 | I16: 12 | J16: 10 | K16: 9 | L16: 7 | M16: 5 | N16: 3.8 | O16: 4 | P16: 4 | Q16: 3 | R16: 2 | S16: 2
A17: Babberich, Mariahoeve | D17: 5 | E17: 22 | F17: 29.6 | G17: 19.8 | H17: 20 | I17: 12 | J17: 10 | K17: 9 | L17: 7 | M17: 5 | N17: 3.8 | O17: 4 | P17: 4 | Q17: 3 | R17: 2 | S17: 2
A18: Babberich, Gildestraat | D18: 5 | E18: 22 | F18: 29.6 | G18: 19.8 | H18: 20 | I18: 12 | J18: 10 | K18: 9 | L18: 7 | M18: 5 | N18: 3.8 | O18: 4 | P18: 4 | Q18: 3 | R18: 2 | S18: 2
A19: Babberich, Franciscusstraat | D19: 8 | E19: 22.8 | F19: 32 | G19: 21 | H19: 21.8 | I19: 14.8 | J19: 12 | K19: 10 | L19: 7.8 | M19: 5 | N19: 4 | O19: 5.6 | P19: 4.8 | Q19: 3 | R19: 2 | S19: 2
A20: Babberich, Dorpstraat | D20: 9 | E20: 23.8 | F20: 32.8 | G20: 21 | H20: 22.8 | I20: 15.6 | J20: 13.8 | K20: 10 | L20: 8.8 | M20: 5 | N20: 4 | O20: 5.6 | P20: 5 | Q20: 3 | R20: 2 | S20: 2
A21: Oud Zevenaar, Schutterstent St. Anna | D21: 9 | E21: 23.8 | F21: 32.8 | G21: 21 | H21: 23.6 | I21: 15.6 | J21: 13.8 | K21: 10 | L21: 8.8 | M21: 5 | N21: 4 | O21: 5.6 | P21: 5 | Q21: 3 | R21: 2 | S21: 2
A22: Zevenaar, Station Zevenaar | C22: 0 | D22: 5.1 | E22: 7.8 | F22: 11.8 | G22: 8.8 | H22: 9.1 | I22: 5.8 | J22: 6.3 | K22: 5.8 | L22: 6.8 | M22: 5.8 | N22: 5 | O22: 6 | P22: 6 | Q22: 4 | R22: 3.8 | S22: 2 | T22: 0 | U22: 1.8 | V22: 1 | W22: 0.8
A23: Zevenaar, Oranjelaan | C23: 0 | D23: 5.1 | E23: 7.8 | F23: 11.8 | G23: 8.8 | H23: 9.1 | I23: 5.8 | J23: 6.3 | K23: 6.1 | L23: 6.8 | M23: 5.8 | N23: 5 | O23: 6 | P23: 6 | Q23: 4 | R23: 3.8 | S23: 3 | T23: 0 | U23: 1.8 | V23: 1 | W23: 0.8
A24: Zevenaar, Oude Doesburgseweg | C24: 2 | D24: 8.1 | E24: 8 | F24: 13 | G24: 9 | H24: 9.1 | I24: 5.1 | J24: 7.1 | K24: 6.8 | L24: 7.9 | M24: 7.8 | N24: 8.8 | O24: 7.7 | P24: 7 | Q24: 5 | R24: 4 | S24: 3 | T24: 0 | U24: 2 | V24: 1 | W24: 0.8
A25: Zevenaar, Sportcentrum | C25: 3 | D25: 8.1 | E25: 11 | F25: 11.8 | G25: 8.8 | H25: 6.1 | I25: 5 | J25: 7 | K25: 7 | L25: 8 | M25: 6.6 | N25: 8.8 | O25: 8 | P25: 8 | Q25: 5 | R25: 3.8 | S25: 3.8 | T25: 1 | U25: 2 | V25: 1 | W25: 0.8
A26: Zevenaar, Zwembad | C26: 3 | D26: 8.1 | E26: 10.9 | F26: 8.9 | G26: 9 | H26: 7.1 | I26: 5 | J26: 7 | K26: 7 | L26: 8 | M26: 6.5 | N26: 8.8 | O26: 8 | P26: 8 | Q26: 5 | R26: 3 | S26: 3.8 | T26: 1 | U26: 2 | V26: 1 | W26: 0.8
A27: Zevenaar, Subenhara | C27: 3 | D27: 8 | E27: 10.1 | F27: 6.2 | G27: 8 | H27: 6 | I27: 5 | J27: 6.2 | K27: 6.8 | L27: 7.2 | M27: 6.3 | N27: 8 | O27: 7.8 | P27: 8.8 | Q27: 5 | R27: 3 | S27: 3.8 | T27: 1 | U27: 2 | V27: 1 | W27: 0
A28: Zevenaar, Ziekenhuis | C28: 3 | D28: 8 | E28: 12 | F28: 7.8 | G28: 9 | H28: 6.8 | I28: 5 | J28: 8.2 | K28: 7 | L28: 8.8 | M28: 5.3 | N28: 6.8 | O28: 7.7 | P28: 8.8 | Q28: 4 | R28: 3.8 | S28: 2.8 | T28: 1 | U28: 2 | V28: 1 | W28: 0
A29: Zevenaar, Rosorum | C29: 4 | D29: 8.5 | E29: 14.9 | F29: 9 | G29: 9 | H29: 6.1 | I29: 6.6 | J29: 9.2 | K29: 8 | L29: 9.5 | M29: 5.8 | N29: 8.5 | O29: 8.4 | P29: 8 | Q29: 4 | R29: 3.8 | S29: 2 | T29: 1 | U29: 1.8 | V29: 1.8 | W29: 0
A30: Zevenaar, Schellekrans | C30: 4 | D30: 9.9 | E30: 14.1 | F30: 10 | G30: 9.8 | H30: 7 | I30: 6.8 | J30: 10.1 | K30: 8.9 | L30: 10.9 | M30: 5.8 | N30: 8.6 | O30: 8.9 | P30: 7.8 | Q30: 4 | R30: 4 | S30: 2 | T30: 1 | U30: 2 | V30: 1.8 | W30: 0
A31: Duiven, Helhoek | C31: 4 | D31: 9.9 | E31: 14.1 | F31: 10 | G31: 9.8 | H31: 7 | I31: 6.8 | J31: 10.1 | K31: 8.9 | L31: 10.9 | M31: 5.8 | N31: 8.6 | O31: 8.9 | P31: 7.8 | Q31: 4 | R31: 4 | S31: 2 | T31: 1 | U31: 2 | V31: 1.8 | W31: 0
A32: Duiven, De Plak | C32: 4 | D32: 9.9 | E32: 14.1 | F32: 10 | G32: 9.8 | H32: 7 | I32: 6.8 | J32: 10.1 | K32: 8.9 | L32: 10.9 | M32: 5.8 | N32: 8.6 | O32: 8.9 | P32: 7.8 | Q32: 4 | R32: 4 | S32: 2 | T32: 1 | U32: 2 | V32: 1.8 | W32: 0
A33: Duiven, Schapenweide | C33: 6 | D33: 11 | E33: 15.1 | F33: 10.8 | G33: 9.8 | H33: 7.1 | I33: 6.8 | J33: 10.1 | K33: 9.1 | L33: 10.9 | M33: 6 | N33: 8.5 | O33: 9 | P33: 6 | Q33: 4 | R33: 3.4 | S33: 2 | T33: 1 | U33: 2 | V33: 2 | W33: 0
... A37: Duiven, Maststraat | C37: 5.8 | D37: 10 | E37: 22.8 | F37: 14 | G37: 8 | H37: 12.8 | I37: 9.8 | J37: 11.8 | K37: 11 | L37: 12.1 | M37: 7.9 | N37: 9.6 | O37: 10 | P37: 11 | Q37: 4.8 | R37: 5.8 | S37: 4 | T37: 1.8 | U37: 4 | V37: 2.8 | W37: 2
A38: Westervoort, Het Ambacht | B38: 0 | C38: 6 | D38: 10.8 | E38: 22.8 | F38: 14.7 | G38: 8 | H38: 12.8 | I38: 9 | J38: 12 | K38: 11 | L38: 12 | M38: 7.8 | N38: 10.4 | O38: 9.8 | P38: 12.8 | Q38: 4 | R38: 5.8 | S38: 4.8 | T38: 1.8 | U38: 3.8 | V38: 2.8 | W38: 2
A39: Westervoort, Leigraaf | B39: 1 | C39: 6.8 | D39: 12 | E39: 27 | F39: 16.2 | G39: 8.4 | H39: 15.4 | I39: 11 | J39: 12.6 | K39: 13.7 | L39: 16 | M39: 8.8 | N39: 10.5 | O39: 11 | P39: 12 | Q39: 5.6 | R39: 5.8 | S39: 5 | T39: 2 | U39: 4 | V39: 3 | W39: 2
A40: Westervoort, Lange Maat | B40: 1 | C40: 7 | D40: 13 | E40: 28 | F40: 19.2 | G40: 9 | H40: 16 | I40: 11 | J40: 13.1 | K40: 13 | L40: 16.8 | M40: 10 | N40: 9.8 | O40: 10.8 | P40: 12.8 | Q40: 6 | R40: 6.8 | S40: 5 | T40: 2.8 | U40: 3.8 | V40: 3 | W40: 1.8
A41: Westervoort, Ganzenpoel | B41: 3 | C41: 8 | D41: 14.8 | E41: 30 | F41: 21.8 | G41: 11.6 | H41: 20 | I41: 12.8 | J41: 14.6 | K41: 14.5 | L41: 17.6 | M41: 10.1 | N41: 10.9 | O41: 10.8 | P41: 14 | Q41: 6 | R41: 5.8 | S41: 5 | T41: 3 | U41: 3.8 | V41: 3 | W41: 1.8
A42: Westervoort, Nieuwhof | B42: 3 | C42: 8 | D42: 16 | E42: 30 | F42: 23.2 | G42: 13 | H42: 21.6 | I42: 12.8 | J42: 16 | K42: 15.8 | L42: 19.6 | M42: 13 | N42: 11 | O42: 11 | P42: 14.7 | Q42: 6.8 | R42: 5.8 | S42: 6 | T42: 3 | U42: 5.6 | V42: 4 | W42: 2
A43: Westervoort, Santacker | B43: 4.8 | C43: 8 | D43: 16.4 | E43: 31.8 | F43: 23.4 | G43: 15.8 | H43: 23 | I43: 14 | J43: 16 | K43: 17 | L43: 20.4 | M43: 13.8 | N43: 12.6 | O43: 11.6 | P43: 15.7 | Q43: 6.8 | R43: 6 | S43: 6.8 | T43: 2.8 | U43: 4.6 | V43: 4 | W43: 2
A44: Westervoort, Emmerik | B44: 5 | C44: 8 | D44: 18.8 | E44: 33 | F44: 25 | G44: 16.8 | H44: 24.8 | I44: 15 | J44: 17.6 | K44: 17.8 | L44: 21.3 | M44: 14 | N44: 12.7 | O44: 11.8 | P44: 16.6 | Q44: 6 | R44: 6 | S44: 6 | T44: 2 | U44: 5.6 | V44: 4 | W44: 2
A45: Westervoort, Sonnedach | B45: 5 | C45: 9 | D45: 20 | E45: 37 | F45: 26.4 | G45: 17.8 | H45: 27 | I45: 17 | J45: 18.7 | K45: 19 | L45: 20.9 | M45: 15.8 | N45: 12.7 | O45: 12 | P45: 17.7 | Q45: 6.8 | R45: 7 | S45: 6 | T45: 2.8 | U45: 6.6 | V45: 4 | W45: 2
A46: Westervoort, Sporthal de Pals | B46: 5 | C46: 9.8 | D46: 21 | E46: 37.8 | F46: 26.4 | G46: 17.8 | H46: 26.8 | I46: 17 | J46: 18.7 | K46: 19 | L46: 21.7 | M46: 16 | N46: 13 | O46: 11.8 | P46: 16.9 | Q46: 7.6 | R46: 7 | S46: 6.8 | T46: 3 | U46: 6.6 | V46: 4 | W46: 2
A47: Westervoort, Vredenburg | B47: 5.8 | C47: 9.8 | D47: 22 | E47: 38 | F47: 27 | G47: 18.8 | H47: 26.8 | I47: 17.8 | J47: 18.7 | K47: 19 | L47: 21.7 | M47: 16 | N47: 12.9 | O47: 11.8 | P47: 16.9 | Q47: 7.6 | R47: 7.8 | S47: 6.8 | T47: 3 | U47: 6.6 | V47: 4 | W47: 2
A48: Westervoort, Station Westervoort | B48: 5 | C48: 9 | D48: 24.8 | E48: 40 | F48: 31 | G48: 20.6 | H48: 27.5 | I48: 17.8 | J48: 18.1 | K48: 18.9 | L48: 25 | M48: 17.2 | N48: 12.5 | O48: 18.3 | P48: 18.6 | Q48: 8 | R48: 7 | S48: 7.8 | T48: 5 | U48: 6 | V48: 4.8 | W48: 2
A49: Arnhem, IPKW | B49: 5 | C49: 9 | D49: 18 | E49: 38.8 | F49: 29 | G49: 18 | H49: 26.6 | I49: 17 | J49: 17 | K49: 18.8 | L49: 25.2 | M49: 17.7 | N49: 12.8 | O49: 21 | P49: 21.1 | Q49: 8 | R49: 7 | S49: 7.8 | T49: 4.8 | U49: 6 | V49: 4.8 | W49: 2
... A57: Arnhem, Centraal Station | B57: 0 | C57: 0 | D57: 0 | E57: 0 | F57: 0 | G57: 0 | H57: 0 | I57: 0 | J57: 0 | K57: 0 | L57: 0 | M57: 0 | N57: 0 | O57: 0 | P57: 0 | Q57: 0.8 | R57: 0 | S57: 0 | T57: 0 | U57: 0 | V57: 0 | W57: 0
A58: MaxBezetting | B58: =MAX(B9:B57) -> 5.8 | C58: =MAX(C9:C57) -> 9.8 | D58: =MAX(D9:D57) -> 24.8 | E58: =MAX(E9:E57) -> 40 | F58: =MAX(F9:F57) -> 32.8 | G58: =MAX(G9:G57) -> 21 | H58: =MAX(H9:H57) -> 27.5 | I58: =MAX(I9:I57) -> 18 | ... W58: =MAX(W9:W57) -> 2.8
A59: uurblok | B59: =HOUR(B7) -> 6 | C59: =HOUR(C7) -> 6 | D59: =HOUR(D7) -> 6 | E59: =HOUR(E7) -> 6 | F59: =HOUR(F7) -> 7 | G59: =HOUR(G7) -> 8 | H59: =HOUR(H7) -> 8 | I59: =HOUR(I7) -> 9 | ... W59: =HOUR(W7) -> 23
A62: bezettingstelling lijn 60 - van ARNHEM naar TOLKAMER - werkdagen | bron: chipkaart gegevens november 2023 | 80 percentiel waarde
A63: ritnummer | B63: 2 | C63: 4 | D63: 6 | E63: 8 | F63: 10 | G63: 12 | H63: 14 | I63: 16 | J63: 18 | K63: 20 | L63: 22 | M63: 24 | N63: 26 | O63: 28 | P63: 30 | Q63: 32 | R63: 34 | S63: 36 | T63: 38 | U63: 40 | V63: 42 | W63: 44 | X63: 46 | Y63: 48 | Z63: 50 | AA63: 52 | AB63: 54
A64: vertrektijd beginhalte | B64: 0.23263889 | C64: 0.24166667 | D64: 0.26388889 | E64: 0.28541667 | F64: 0.30625 | G64: 0.34791667 | H64: 0.38958333 | I64: 0.43125 | J64: 0.47361111 | K64: 0.5125 | L64: 0.55416667 | M64: 0.59583333 | N64: 0.61666667 | O64: 0.6375 | P64: 0.65833333 | Q64: 0.68194444 | R64: 0.70277778 | S64: 0.72430556 | T64: 0.74583333 | U64: 0.76597222 | V64: 0.78680556 | W64: 0.80625 | X64: 0.84791667 | Y64: 0.88958333 | Z64: 0.93125 | AA64: 0.97708333 | AB64: 1.01875
A66: Arnhem, Centraal Station | C66: 0 | D66: 1 | E66: 3 | F66: 13.4 | G66: 13.8 | H66: 7 | I66: 7 | J66: 6.8 | K66: 10.8 | L66: 12.8 | M66: 12.8 | N66: 15.8 | O66: 14 | P66: 12.8 | Q66: 18 | R66: 13 | S66: 16.4 | T66: 12.4 | U66: 10.4 | V66: 5 | W66: 8.8 | X66: 11 | Y66: 11.6 | Z66: 11.8 | AA66: 5.8 | AB66: 3
A67: Arnhem, Willemsplein | C67: 0 | D67: 1.8 | E67: 3.8 | F67: 13.4 | G67: 14.8 | H67: 8.8 | I67: 9 | J67: 9 | K67: 13.8 | L67: 16.6 | M67: 21.8 | N67: 20.4 | O67: 16.8 | P67: 17.8 | Q67: 27.8 | R67: 18.8 | S67: 21 | T67: 19 | U67: 11.8 | V67: 7 | W67: 9.8 | X67: 13.8 | Y67: 14.8 | Z67: 15 | AA67: 7 | AB67: 8
A68: Arnhem, Velperplein | C68: 0 | D68: 1.8 | E68: 4.8 | F68: 15.6 | G68: 16.8 | H68: 9 | I68: 10 | J68: 11 | K68: 16.8 | L68: 19.8 | M68: 22 | N68: 28 | O68: 24.8 | P68: 22.8 | Q68: 29.6 | R68: 22 | S68: 22.6 | T68: 20.6 | U68: 14.4 | V68: 9 | W68: 11 | X68: 14 | Y68: 16 | Z68: 16 | AA68: 8.8 | AB68: 8
A69: Arnhem, Stadstheater Arnhem | C69: 0 | D69: 1.8 | E69: 4.8 | F69: 15.6 | G69: 16.8 | H69: 9 | I69: 10 | J69: 10.8 | K69: 16.8 | L69: 20 | M69: 22 | N69: 28.8 | O69: 24 | P69: 23.8 | Q69: 31.8 | R69: 23.6 | S69: 24 | T69: 20.6 | U69: 14.4 | V69: 9.8 | W69: 10.8 | X69: 14.8 | Y69: 16 | Z69: 16 | AA69: 8.8 | AB69: 8
A70: Arnhem, Stadskantoor | C70: 0 | D70: 1.8 | E70: 6 | F70: 16.6 | G70: 17 | H70: 8.8 | I70: 10 | J70: 11 | K70: 16.8 | L70: 21.6 | M70: 22 | N70: 28.8 | O70: 24 | P70: 25.7 | Q70: 32 | R70: 25.8 | S70: 24.8 | T70: 20 | U70: 14.4 | V70: 10 | W70: 11 | X70: 14 | Y70: 16 | Z70: 16 | AA70: 8.8 | AB70: 8
A71: Arnhem, Badhuisstraat | C71: 0 | D71: 1.8 | E71: 6 | F71: 15.8 | G71: 17 | H71: 8 | I71: 10 | J71: 10.8 | K71: 16 | L71: 20 | M71: 21 | N71: 28 | O71: 23.7 | P71: 25.7 | Q71: 32 | R71: 26.8 | S71: 23.8 | T71: 20 | U71: 15.2 | V71: 9.9 | W71: 10.6 | X71: 13.8 | Y71: 15.8 | Z71: 15.6 | AA71: 8.8 | AB71: 7.8
A72: Arnhem, v. Oldenbarneveldtstraat | C72: 0 | D72: 1.8 | E72: 6 | F72: 15.6 | G72: 16 | H72: 8 | I72: 10 | J72: 10.7 | K72: 15 | L72: 20.8 | M72: 21 | N72: 28 | O72: 28 | P72: 26 | Q72: 31.8 | R72: 26 | S72: 24 | T72: 20 | U72: 15.7 | V72: 10 | W72: 10.5 | X72: 13 | Y72: 15 | Z72: 15.6 | AA72: 8.8 | AB72: 7.8
A73: Arnhem, Haven | C73: 0 | D73: 1.8 | E73: 5.8 | F73: 14.6 | G73: 16 | H73: 7.8 | I73: 9.7 | J73: 10 | K73: 14.8 | L73: 21 | M73: 21 | N73: 28 | O73: 28.6 | P73: 25.6 | Q73: 30.8 | R73: 26.8 | S73: 24.6 | T73: 20.8 | U73: 14.8 | V73: 10 | W73: 10.5 | X73: 13 | Y73: 15.8 | Z73: 15.6 | AA73: 8.8 | AB73: 7
A74: Arnhem, Dr. C. Lelyweg Zuid | C74: 0 | D74: 1.8 | E74: 5 | F74: 14.6 | G74: 14.9 | H74: 6.8 | I74: 9.7 | J74: 10.7 | K74: 14.8 | L74: 20.9 | M74: 21.7 | N74: 28 | O74: 28.6 | P74: 25.6 | Q74: 29.8 | R74: 27.6 | S74: 24.6 | T74: 21 | U74: 14.8 | V74: 10 | W74: 10 | X74: 13 | Y74: 15.8 | Z74: 15.6 | AA74: 8.8 | AB74: 7
A75: Arnhem, IPKW | C75: 0 | D75: 1 | E75: 3 | F75: 5 | G75: 6 | H75: 5.6 | I75: 10 | J75: 11 | K75: 16.6 | L75: 21 | M75: 22.9 | N75: 28.6 | O75: 29.7 | P75: 25.9 | Q75: 32.4 | R75: 31.4 | S75: 25 | T75: 21 | U75: 14.8 | V75: 10.7 | W75: 10.8 | X75: 13 | Y75: 15.8 | Z75: 15.6 | AA75: 8.8 | AB75: 7
A76: Westervoort, Station Westervoort | B76: 0 | C76: 0 | D76: 1 | E76: 2.8 | F76: 5.8 | G76: 7 | H76: 5.9 | I76: 10 | J76: 11.6 | K76: 16.7 | L76: 21 | M76: 21 | N76: 27.8 | O76: 27.9 | P76: 28.3 | Q76: 30.1 | R76: 28.8 | S76: 25 | T76: 19 | U76: 13 | V76: 10.7 | W76: 8.8 | X76: 12 | Y76: 14.8 | Z76: 13.4 | AA76: 8 | AB76: 5.6
A77: Westervoort, Vredenburg | B77: 0 | C77: 0 | D77: 1 | E77: 2.8 | F77: 5.8 | G77: 7 | H77: 5.9 | I77: 10 | J77: 10.6 | K77: 16.5 | L77: 20.8 | M77: 21 | N77: 27.6 | O77: 27.3 | P77: 27.4 | Q77: 29.1 | R77: 28.8 | S77: 24 | T77: 19 | U77: 12.8 | V77: 10.4 | W77: 8.8 | X77: 11 | Y77: 14.6 | Z77: 13.9 | AA77: 7 | AB77: 5.6
A78: Westervoort, Sporthal de Pals | B78: 0 | C78: 0 | D78: 1 | E78: 2.8 | F78: 5.8 | G78: 7 | H78: 6 | I78: 9.8 | J78: 10.6 | K78: 16.5 | L78: 20.8 | M78: 20 | N78: 25.8 | O78: 27 | P78: 26.4 | Q78: 27.8 | R78: 28.6 | S78: 24 | T78: 19 | U78: 12 | V78: 9.9 | W78: 7.8 | X78: 10 | Y78: 13.8 | Z78: 12.9 | AA78: 7 | AB78: 5.6
A79: Westervoort, Sonnedach | B79: 0 | C79: 0 | D79: 1 | E79: 2 | F79: 6.6 | G79: 6.8 | H79: 6 | I79: 9.6 | J79: 9 | K79: 15.3 | L79: 19.8 | M79: 18.8 | N79: 21.8 | O79: 26.7 | P79: 22.5 | Q79: 24.8 | R79: 26.4 | S79: 21.8 | T79: 17.8 | U79: 11.5 | V79: 8.6 | W79: 7.8 | X79: 9.4 | Y79: 12.8 | Z79: 12.5 | AA79: 6.8 | AB79: 4.8
A80: Westervoort, Emmerik | B80: 0 | C80: 0 | D80: 1 | E80: 2 | F80: 5.8 | G80: 7 | H80: 6 | I80: 9.4 | J80: 9 | K80: 14.9 | L80: 19 | M80: 18.8 | N80: 20.9 | O80: 24.7 | P80: 21.7 | Q80: 24 | R80: 25.3 | S80: 21.8 | T80: 16 | U80: 10 | V80: 8 | W80: 6.6 | X80: 8.8 | Y80: 11 | Z80: 11 | AA80: 6.5 | AB80: 3.1
A81: Westervoort, Santacker | B81: 0 | C81: 0 | D81: 1 | E81: 2.8 | F81: 5.8 | G81: 7 | H81: 5 | I81: 9.4 | J81: 8 | K81: 15 | L81: 17.5 | M81: 17 | N81: 20.5 | O81: 22.8 | P81: 20.4 | Q81: 21.9 | R81: 21.9 | S81: 18.8 | T81: 15 | U81: 9 | V81: 8 | W81: 5.8 | X81: 7.6 | Y81: 10.8 | Z81: 9.8 | AA81: 4 | AB81: 2.8
A82: Westervoort, Nieuwhof | B82: 0 | C82: 1 | D82: 1 | E82: 2 | F82: 5 | G82: 8.8 | H82: 5.8 | I82: 7.8 | J82: 7.8 | K82: 12 | L82: 16.8 | M82: 13.1 | N82: 18.8 | O82: 20.6 | P82: 17.4 | Q82: 19.8 | R82: 18.8 | S82: 18.4 | T82: 12.8 | U82: 8.3 | V82: 6.6 | W82: 4 | X82: 6.8 | Y82: 8.8 | Z82: 7.3 | AA82: 3.8 | AB82: 1.9
A83: Westervoort, Ganzenpoel | B83: 0 | C83: 1 | D83: 1 | E83: 2 | F83: 5.1 | G83: 8.8 | H83: 5.8 | I83: 8.8 | J83: 7 | K83: 12.8 | L83: 16.6 | M83: 13 | N83: 17.7 | O83: 19.5 | P83: 16.1 | Q83: 19.6 | R83: 16.9 | S83: 15.8 | T83: 12 | U83: 7.8 | V83: 4.9 | W83: 4 | X83: 5.8 | Y83: 7.8 | Z83: 5.1 | AA83: 3 | AB83: 0.8
A84: Westervoort, Lange Maat | B84: 0 | C84: 1 | D84: 0 | E84: 2 | F84: 5 | G84: 8.8 | H84: 5.8 | I84: 9 | J84: 6 | K84: 12.7 | L84: 15.7 | M84: 12.8 | N84: 16.7 | O84: 19.4 | P84: 16.1 | Q84: 17.8 | R84: 14.8 | S84: 14 | T84: 12 | U84: 8 | V84: 4.8 | W84: 4 | X84: 5 | Y84: 6 | Z84: 5 | AA84: 2 | AB84: 0
A85: Westervoort, Leigraaf | B85: 0 | C85: 1 | D85: 0 | E85: 2 | F85: 5 | G85: 10.8 | H85: 5.8 | I85: 9 | J85: 6 | K85: 10.9 | L85: 15.2 | M85: 12.3 | N85: 15.4 | O85: 17 | P85: 13.3 | Q85: 16 | R85: 13.8 | S85: 12.8 | T85: 9.8 | U85: 7 | V85: 4.8 | W85: 4 | X85: 4.1 | Y85: 6 | Z85: 4.1 | AA85: 0 | AB85: 0
A86: Westervoort, Het Ambacht | B86: 0 | C86: 1 | D86: 0 | E86: 2 | F86: 5 | G86: 10.8 | H86: 6 | I86: 8 | J86: 6.8 | K86: 11.3 | L86: 15.1 | M86: 12.8 | N86: 14.6 | O86: 17 | P86: 13.3 | Q86: 15 | R86: 14.6 | S86: 12 | T86: 9.8 | U86: 7 | V86: 4.8 | W86: 4 | X86: 5 | Y86: 6 | Z86: 4.1 | AA86: 0 | AB86: 0
A87: Duiven, Maststraat | B87: 0 | C87: 1 | D87: 0 | E87: 1 | F87: 4.8 | G87: 9.8 | H87: 5.8 | I87: 7.8 | J87: 6.8 | K87: 11.2 | L87: 15.1 | M87: 12 | N87: 14.2 | O87: 17 | P87: 13.3 | Q87: 15 | R87: 14.6 | S87: 12 | T87: 9.8 | U87: 7 | V87: 4.8 | W87: 4 | X87: 5 | Y87: 6 | Z87: 4.1
A88: Duiven, van Goyenstraat | B88: 0 | C88: 1 | D88: 1 | E88: 1 | F88: 5 | G88: 10.8 | H88: 6.8 | I88: 7 | J88: 5.8 | K88: 11.1 | L88: 12.9 | M88: 11.6 | N88: 13.3 | O88: 16.6 | P88: 11.1 | Q88: 15 | R88: 13 | S88: 11 | T88: 8 | U88: 6 | V88: 3.8 | W88: 4 | X88: 4 | Y88: 4 | Z88: 3.1
A89: Duiven, Thuvine | B89: 0 | C89: 1 | D89: 1 | E89: 1 | F89: 4.1 | G89: 11 | H89: 6.1 | I89: 7 | J89: 5.8 | K89: 11.2 | L89: 13.6 | M89: 10.8 | N89: 13.4 | O89: 16 | P89: 10.9 | Q89: 13 | R89: 12.8 | S89: 10.2 | T89: 7.8 | U89: 6 | V89: 3.8 | W89: 3.8 | X89: 4 | Y89: 4 | Z89: 2.9
A90: Duiven, Dorp | B90: 0 | C90: 2 | D90: 1 | E90: 2 | F90: 5 | G90: 9 | H90: 6.1 | I90: 6 | J90: 6.1 | K90: 11 | L90: 12.1 | M90: 8.8 | N90: 9.9 | O90: 12.9 | P90: 10.7 | Q90: 10.8 | R90: 10.8 | S90: 9.8 | T90: 5.8 | U90: 4.8 | V90: 2.8 | W90: 3 | X90: 3.8 | Y90: 4 | Z90: 2
A91: Duiven, Schapenweide | B91: 0 | C91: 2 | D91: 1 | E91: 2 | F91: 5 | G91: 10 | H91: 6.8 | I91: 6 | J91: 6.2 | K91: 10.7 | L91: 11.8 | M91: 8.8 | N91: 10.2 | O91: 12.9 | P91: 10 | Q91: 10.8 | R91: 9 | S91: 8.8 | T91: 4.8 | U91: 4.8 | V91: 2.8 | W91: 3 | X91: 3.8 | Y91: 3 | Z91: 2
A92: Duiven, De Plak | B92: 0 | C92: 2 | D92: 1 | E92: 2 | F92: 5 | G92: 10 | H92: 6.8 | I92: 6 | J92: 6.2 | K92: 10.7 | L92: 11.8 | M92: 8.8 | N92: 10.2 | O92: 12.9 | P92: 10 | Q92: 10.8 | R92: 9 | S92: 8.8 | T92: 4.8 | U92: 4.8 | V92: 2.8 | W92: 3 | X92: 3.8 | Y92: 3 | Z92: 2
A93: Duiven, Helhoek | B93: 0 | C93: 2 | D93: 1 | E93: 2 | F93: 5 | G93: 10 | H93: 6.8 | I93: 6 | J93: 6.2 | K93: 10.7 | L93: 11.2 | M93: 8.8 | N93: 10.2 | O93: 12.9 | P93: 10 | Q93: 10.8 | R93: 9 | S93: 8.8 | T93: 4.8 | U93: 4.8 | V93: 2.8 | W93: 3 | X93: 3.8 | Y93: 3 | Z93: 2
A94: Zevenaar, Schellekrans | B94: 0 | C94: 2 | D94: 1 | E94: 2 | F94: 4.8 | G94: 10 | H94: 6.8 | I94: 6 | J94: 7 | K94: 11.8 | L94: 11.1 | M94: 8.8 | N94: 9.6 | O94: 12.4 | P94: 10.6 | Q94: 10.8 | R94: 9 | S94: 8 | T94: 4 | U94: 4.1 | V94: 2 | W94: 3 | X94: 3.8 | Y94: 2.8 | Z94: 2
A95: Zevenaar, Rosorum | B95: 1 | C95: 2 | D95: 1 | E95: 2 | F95: 4.8 | G95: 10 | H95: 6.1 | I95: 6.8 | J95: 7 | K95: 9.7 | L95: 11.8 | M95: 9.8 | N95: 9.9 | O95: 12.5 | P95: 8.8 | Q95: 10 | R95: 7.8 | S95: 6 | T95: 4.8 | U95: 3.8 | V95: 2 | W95: 1.8 | X95: 3 | Y95: 2 | Z95: 1.1
A96: Zevenaar, Ziekenhuis | B96: 1 | C96: 2 | D96: 3 | E96: 3 | F96: 5.8 | G96: 11 | H96: 5.8 | I96: 6 | J96: 6 | K96: 8.1 | L96: 10.1 | M96: 8.8 | N96: 9.2 | O96: 11.9 | P96: 8.3 | Q96: 7.8 | R96: 8 | S96: 7.6 | T96: 4.8 | U96: 3.8 | V96: 1.8 | W96: 1 | X96: 2 | Y96: 2 | Z96: 1
A97: Zevenaar, Subenhara | B97: 1 | C97: 2 | D97: 3 | E97: 3 | F97: 5 | G97: 9.6 | H97: 6.1 | I97: 7 | J97: 8.3 | K97: 7.2 | L97: 9.8 | M97: 9.8 | N97: 9.7 | O97: 12 | P97: 9.8 | Q97: 8 | R97: 8.1 | S97: 6.8 | T97: 3.8 | U97: 3.1 | V97: 1.1 | W97: 1 | X97: 2 | Y97: 2 | Z97: 1
A98: Zevenaar, Zwembad | B98: 1 | C98: 2 | D98: 3 | E98: 3 | F98: 5 | G98: 10.4 | H98: 5.1 | I98: 7 | J98: 8.6 | K98: 8.1 | L98: 9.8 | M98: 9.8 | N98: 10.1 | O98: 8 | P98: 10.1 | Q98: 8 | R98: 8.8 | S98: 6.8 | T98: 3.8 | U98: 3.1 | V98: 1 | W98: 1 | X98: 2 | Y98: 2 | Z98: 1
... A103: Zevenaar, Station Zevenaar | B103: 1 | C103: 1 | D103: 1.8 | E103: 0 | F103: 2.8 | G103: 2 | H103: 2 | I103: 3.1 | J103: 8.8 | K103: 14.8 | L103: 13 | M103: 21.8 | N103: 16.6 | O103: 17.2 | P103: 16.1 | Q103: 10.8 | R103: 13.8 | S103: 9 | T103: 7 | U103: 3.8 | V103: 0 | W103: 0 | X103: 1 | Y103: 1 | Z103: 0
A104: Oud Zevenaar, Schutterstent St. Anna | B104: 1 | C104: 1 | D104: 1.8 | E104: 0 | F104: 2 | G104: 2 | H104: 2 | I104: 3.1 | J104: 8.8 | K104: 14 | L104: 12.9 | M104: 21.8 | N104: 16.6 | O104: 17.2 | P104: 18 | Q104: 10.8 | R104: 13.8 | S104: 9 | T104: 7 | U104: 3.8
A105: Babberich, Dorpstraat | B105: 0 | C105: 1 | D105: 1 | E105: 0 | F105: 2 | G105: 2 | H105: 2 | I105: 3.1 | J105: 8.8 | K105: 14 | L105: 12.9 | M105: 21.8 | N105: 16.4 | O105: 17 | P105: 18 | Q105: 10.8 | R105: 12.8 | S105: 9 | T105: 6.8 | U105: 3.8
A106: Babberich, Franciscusstraat | B106: 0 | C106: 1 | D106: 1 | E106: 0 | F106: 2 | G106: 2 | H106: 1 | I106: 3.1 | J106: 8 | K106: 13 | L106: 11.9 | M106: 19 | N106: 14.8 | O106: 13.9 | P106: 17.8 | Q106: 10 | R106: 12 | S106: 7 | T106: 5.8 | U106: 3
A107: Babberich, Gildestraat | B107: 0 | C107: 1 | D107: 1 | E107: 0 | F107: 2 | G107: 2 | H107: 1 | I107: 3 | J107: 8 | K107: 13 | L107: 11.9 | M107: 19 | N107: 14.8 | O107: 13.9 | P107: 17 | Q107: 10 | R107: 12 | S107: 7 | T107: 5 | U107: 3
A108: Babberich, Mariahoeve | B108: 0 | C108: 1 | D108: 1 | E108: 0 | F108: 2 | G108: 2 | H108: 1 | I108: 3 | J108: 8 | K108: 13 | L108: 11.9 | M108: 19 | N108: 14.8 | O108: 13.9 | P108: 17 | Q108: 10 | R108: 12 | S108: 7 | T108: 5 | U108: 3
A109: Herwen, Molenpad | B109: 0 | C109: 1 | D109: 1 | E109: 0 | F109: 2 | G109: 2 | H109: 2 | I109: 3 | J109: 7 | K109: 11.8 | L109: 10.1 | M109: 16.9 | N109: 12.8 | O109: 12 | P109: 16 | Q109: 8.8 | R109: 11.1 | S109: 6.8 | T109: 4 | U109: 3
A110: Herwen, Nijverheidstraat | B110: 0 | C110: 1 | D110: 1 | E110: 0 | F110: 2 | G110: 2 | H110: 2 | I110: 3 | J110: 6.9 | K110: 11 | L110: 10.1 | M110: 16.9 | N110: 12.2 | O110: 12 | P110: 15.8 | Q110: 8.8 | R110: 11.1 | S110: 6 | T110: 4 | U110: 3
A111: Herwen, De Bijland | B111: 0 | C111: 1 | D111: 1 | E111: 0 | F111: 2 | G111: 2 | H111: 1.8 | I111: 2.8 | J111: 6.8 | K111: 11 | L111: 10 | M111: 16.9 | N111: 12.2 | O111: 12 | P111: 15.8 | Q111: 8.8 | R111: 11.1 | S111: 6 | T111: 4 | U111: 3
A112: Lobith, Anjerstraat | B112: 0 | C112: 1 | D112: 1 | E112: 0 | F112: 2 | G112: 2 | H112: 2 | I112: 1 | J112: 5 | K112: 9.8 | L112: 8.2 | M112: 15 | N112: 10.1 | O112: 11.4 | P112: 13.8 | Q112: 7 | R112: 10.8 | S112: 5.9 | T112: 3.8 | U112: 2
A113: Lobith, Graaf Reinaldstraat | B113: 0 | C113: 1 | D113: 1 | E113: 0 | F113: 2 | G113: 2 | H113: 2 | I113: 1 | J113: 5 | K113: 8 | L113: 7.8 | M113: 12 | N113: 9.8 | O113: 10.3 | P113: 12.8 | Q113: 5 | R113: 9 | S113: 4.8 | T113: 3.6 | U113: 2
A114: Lobith, Dorp | B114: 0 | C114: 1 | D114: 1 | E114: 0 | F114: 1 | G114: 1.3 | H114: 1 | I114: 1.8 | J114: 4 | K114: 6.8 | L114: 4.8 | M114: 9.8 | N114: 6 | O114: 7.8 | P114: 7 | Q114: 4.8 | R114: 6 | S114: 3.6 | T114: 2.8 | U114: 1
A115: Lobith, Graaf Ottoweg | B115: 0 | C115: 1 | D115: 1 | E115: 0 | F115: 2 | G115: 1.3 | H115: 1 | I115: 2 | J115: 4 | K115: 5.8 | L115: 4 | M115: 6.8 | N115: 5.6 | O115: 7.1 | P115: 6.4 | Q115: 4.8 | R115: 6 | S115: 2 | T115: 2 | U115: 1
A116: Tolkamer, Lobede | B116: 0 | C116: 0 | D116: 0 | E116: 0 | F116: 1 | G116: 0.9 | H116: 1 | I116: 0.8 | J116: 2 | K116: 2 | L116: 1 | M116: 1.1 | N116: 0 | O116: 1 | P116: 0 | Q116: 1 | R116: 0 | S116: 1 | T116: 0 | U116: 0
A117: MaxBezetting | B117: =MAX(B66:B116) -> 1.8 | C117: =MAX(C66:C116) -> 2 | D117: =MAX(D66:D116) -> 3 | E117: =MAX(E66:E116) -> 6 | F117: =MAX(F66:F116) -> 16.6 | G117: =MAX(G66:G116) -> 17 | H117: =MAX(H66:H116) -> 9 | I117: =MAX(I66:I116) -> 10 | ... AB117: =MAX(AB66:AB116) -> 8
A118: uurblok | B118: =HOUR(B64) -> 5 | C118: =HOUR(C64) -> 5 | D118: =HOUR(D64) -> 6 | E118: =HOUR(E64) -> 6 | F118: =HOUR(F64) -> 7 | G118: =HOUR(G64) -> 8 | H118: =HOUR(H64) -> 9 | I118: =HOUR(I64) -> 10 | ... Z118: =HOUR(Z64) -> 22 | AA118: 24 | AB118: 25
A122: bezettingstelling lijn 60 - van TOLKAMER naar ARNHEM - zaterdag | bron: chipkaart gegevens november 2023 | 80 percentiel waarde
A123: ritnummer | B123: 4001 | C123: 4003 | D123: 4005 | E123: 4007 | F123: 4009 | G123: 4011 | H123: 4013 | I123: 4015 | J123: 4017 | K123: 4019 | L123: 4021 | M123: 4023 | N123: 4025 | O123: 4027 | P123: 4029 | Q123: 4031 | R123: 4033 | S123: 4035 | T123: 4037 | U123: 4039 | V123: 4041 | W123: 4043 | X123: 4045 | Y123: 4047 | Z123: 4049 | AA123: 4051 | AB123: 4053
...

Sheet A061 - gewenste extra halte

Sheet A062 - route Duiven Zuid
Q2: Verzoek gemeente: kunnen we lijn 62 dichter bij de nieuwbouw in Duiven Zuid brengen?
Q4: Antwoord Breng:
Q6: Gelet op de wegenstruktuur lijken er maar twee alternatieven te zijn, een route buitenom de nieuwe wijk (in rood) of een klein lusje zuidelijk van Eilandplein (in groen).
Q9: De route buitenom (rood) betekent een routeverlenging van ca. 4 minuten terwijl er 4 haltes vervallen in het noordelijk deel van het gebied. De verbetering aan de zuidkant gaat zo 1:1 ten koste van ontsluiting van de noordkant. Bovendien zijn de wegen in deze lus niet geheel buswaardig.
Q15: De korte routeverlenging (groen) maakt eveneens gebruik van wegen die misschien niet helemaal busgeschikt zijn. Bovendien brengt dit lusje de halte slechts marginaal dichterbij (ca. 150 mtr) waardoor de loopafstand tussen wijk en bushalte niet wezenlijk wordt verkort.
Q20: Ons voorstel: zorg voor een upgrade van de bushalte Eilandplein met meer fietsenstallingsmogelijkheden tot een HUB fiets-OV.

Sheet A062 - in uitstap per halte
B2: Lijn A062 - ri.1 - nov 2023 | F2: Lijn A062 - ri.2 - nov 2023 | J2: Lijn A062 - ri.1 - nov 2023 | N2: Lijn A062 - ri.2 - nov 2023 | R2: Lijn A062 - ri.1 - nov 2023 | V2: Lijn A062 - ri.2 - nov 2023
B3: werkdag-gemiddelde | C3: CI | D3: CO | F3: werkdag-gemiddelde | G3: CI | H3: CO | J3: zaterdag-gemiddelde | K3: CI | L3: CO | N3: zaterdag-gemiddelde | O3: CI | P3: CO | R3: zondag-gemiddelde | S3: CI | T3: CO | V3: zondag-gemiddelde | W3: CI | X3: CO
B4: Total | C4: =SUM(C5:C56) -> 653.9 | D4: =SUM(D5:D56) -> 646.7 | F4: Total | G4: =SUM(G5:G56) -> 586.7 | H4: =SUM(H5:H56) -> 582.1 | J4: Total | K4: =SUM(K5:K56) -> 452.4 | L4: =SUM(L5:L56) -> 442.3 | N4: Total | O4: =SUM(O5:O56) -> 430.2 | P4: =SUM(P5:P56) -> 425.4 | R4: Total | S4: =SUM(S5:S56) -> 229.5 | T4: =SUM(T5:T56) -> 228.7 | V4: Total | W4: =SUM(W5:W56) -> 220 | X4: =SUM(X5:X56) -> 218.4
B5: Duiven, Vergertlaan | C5: 22.6 | D5: 0 | F5: Arnhem, Centraal Station | G5: 252.8 | H5: 0 | J5: Duiven, Vergertlaan | K5: 9.8 | L5: 0 | N5: Arnhem, Centraal Station | O5: 197.3 | P5: 0 | R5: Duiven, Vergertlaan | S5: 5.5 | T5: 0 | V5: Arnhem, Centraal Station | W5: 94 | X5: 0
B6: Duiven, Talingstraat | C6: 11.1 | D6: 0.3 | F6: Arnhem, Willemsplein | G6: 85.4 | H6: 1.8 | J6: Duiven, Talingstraat | K6: 3.8 | L6: 0 | N6: Arnhem, Willemsplein | O6: 80.8 | P6: 1.5 | R6: Duiven, Talingstraat | S6: 3.5 | T6: 0 | V6: Arnhem, Willemsplein | W6: 42.8 | X6: 0.5
B7: Duiven, Bellefleur | C7: 1.4 | D7: 0.1 | F7: Arnhem, Velperplein | G7: 89.4 | H7: 12.1 | J7: Duiven, Bellefleur | K7: 1 | L7: 0 | N7: Arnhem, Velperplein | O7: 72.3 | P7: 8.1 | R7: Duiven, Bellefleur | S7: 0 | T7: 0 | V7: Arnhem, Velperplein | W7: 37.6 | X7: 6.9
B8: Duiven, Station | C8: 22.2 | D8: 6.2 | F8: Arnhem, Stadstheater Arnhem | G8: 16.4 | H8: 4.5 | J8: Duiven, Station | K8: 18 | L8: 1.8 | N8: Arnhem, Stadstheater Arnhem | O8: 12.6 | P8: 4.6 | R8: Duiven, Station | S8: 8.5 | T8: 1 | V8: Arnhem, Stadstheater Arnhem | W8: 7.5 | X8: 1
B9: Duiven, Grasklokje | C9: 1.1 | D9: 0.1 | F9: Arnhem, Rietgrachtstraat | G9: 14.9 | H9: 16.6 | J9: Duiven, Grasklokje | K9: 1.5 | L9: 0.3 | N9: Arnhem, Rietgrachtstraat | O9: 5 | P9: 12.7 | R9: Duiven, Grasklokje | S9: 0 | T9: 0 | V9: Arnhem, Rietgrachtstraat | W9: 8 | X9: 10.2
B10: Duiven, Eilandplein | C10: 12.7 | D10: 0.6 | F10: Arnhem, Gr. van Prinstererstraat | G10: 9 | H10: 20.2 | J10: Duiven, Eilandplein | K10: 10.8 | L10: 0 | N10: Arnhem, Gr. van Prinstererstraat | O10: 6.3 | P10: 23.4 | R10: Duiven, Eilandplein | S10: 2.8 | T10: 0.5 | V10: Arnhem, Gr. van Prinstererstraat | W10: 3.5 | X10: 13.3
B11: Duiven, Schiermonnikoogstraat | C11: 8.2 | D11: 0.5 | F11: Arnhem, Hugo de Grootstraat | G11: 23.8 | H11: 30 | J11: Duiven, Schiermonnikoogstraat | K11: 5.5 | L11: 0.3 | N11: Arnhem, Hugo de Grootstraat | O11: 8.8 | P11: 37.9 | R11: Duiven, Schiermonnikoogstraat | S11: 1.5 | T11: 0 | V11: Arnhem, Hugo de Grootstraat | W11: 5 | X11: 22.3
B12: Duiven, Klavierstraat | C12: 12.5 | D12: 2 | F12: Arnhem, Dr. C. Lelyweg Noord | G12: 16.1 | H12: 27.2 | J12: Duiven, Klavierstraat | K12: 8.8 | L12: 0.6 | N12: Arnhem, Dr. C. Lelyweg Noord | O12: 4.8 | P12: 18.9 | R12: Duiven, Klavierstraat | S12: 7.8 | T12: 0.3 | V12: Arnhem, Dr. C. Lelyweg Noord | W12: 2.5 | X12: 6.2
B13: Duiven, Opaal | C13: 19.5 | D13: 1.1 | F13: Arnhem, Blankenweg | G13: 11.7 | H13: 32.2 | J13: Duiven, Opaal | K13: 14 | L13: 0.3 | N13: Arnhem, Blankenweg | O13: 6.5 | P13: 13.4 | R13: Duiven, Opaal | S13: 5 | T13: 0.5 | V13: Arnhem, Blankenweg | W13: 1 | X13: 8.1
B14: Duiven, Engelstraat | C14: 0.1 | D14: 0 | F14: Arnhem, tunnel IJsseloord | G14: 9 | H14: 16.4 | J14: Duiven, Engelstraat | K14: 0 | L14: 0 | N14: Arnhem, tunnel IJsseloord | O14: 3.5 | P14: 4.1 | R14: Duiven, Engelstraat | S14: 0 | T14: 0 | V14: Arnhem, tunnel IJsseloord | W14: 2 | X14: 1.3
B15: Westervoort, Heilweg | C15: 23.5 | D15: 2.6 | F15: Westervoort, Station Westervoort | G15: 26.5 | H15: 79.8 | J15: Westervoort, Heilweg | K15: 9.8 | L15: 0.8 | N15: Westervoort, Station Westervoort | O15: 16.5 | P15: 54.3 | R15: Westervoort, Heilweg | S15: 6 | T15: 0 | V15: Westervoort, Station Westervoort | W15: 8.3 | X15: 22.5
B16: Westervoort, Ganzenpoel | C16: 34.2 | D16: 3.6 | F16: Westervoort, Vredenburg | G16: 1.8 | H16: 11.7 | J16: Westervoort, Ganzenpoel | K16: 25.6 | L16: 1.8 | N16: Westervoort, Vredenburg | O16: 1.8 | P16: 12.6 | R16: Westervoort, Ganzenpoel | S16: 9 | T16: 0.8 | V16: Westervoort, Vredenburg | W16: 0.5 | X16: 5.1
... B32: Arnhem, Centraal Station | C32: 0 | D32: 237.7 | F32: Duiven, Talingstraat | G32: 0.1 | H32: 9.5 | J32: Arnhem, Centraal Station | K32: 0 | L32: 146.8 | N32: Duiven, Talingstraat | O32: 0.3 | P32: 4.6 | R32: Arnhem, Centraal Station | S32: 0 | T32: 81.6 | V32: Duiven, Talingstraat | W32: 0 | X32: 3
F33: Duiven, Vergertlaan | G33: 0 | H33: 23.4 | N33: Duiven, Vergertlaan | O33: 0 | P33: 13.5 | V33: Duiven, Vergertlaan | W33: 0 | X33: 6.3

Sheet A300 - bezetting nov23
A1: categorisering bezetting | B1: 0 | C1: 8 | D1: 25 | E1: 65
B2: =C1-0.00001 -> 7.99999 | C2: =D1-0.00001 -> 24.99999 | D2: =E1-0.00001 -> 64.99999 | E2: 999
AU3: Als verdichting A033 middag vervalt zijn dit de aantallen die bij lijn 300 erbij komen
AU4: 21 | AX4: 18 | AZ4: 27 | BB4: 24
A5: bezettingstelling lijn 300 - van ARNHEM naar NIJMEGEN - werkdagen | bron: chipkaart gegevens november 2023 | 80 percentiel waarde | AU5: ¯ | AX5: ¯ | AZ5: ¯ | BB5: ¯
A6: ritnummer | B6: 1 | C6: 3 | D6: 5 | E6: 7 | F6: 9 | G6: 11 | H6: 13 | I6: 15 | J6: 17 | K6: 19 | L6: 21 | M6: 23 | N6: 25 | O6: 27 | P6: 29 | Q6: 31 | R6: 33 | S6: 35 | T6: 37 | U6: 39 | V6: 41 | W6: 43 | X6: 45 | Y6: 47 | Z6: 49 | AA6: 51 | AB6: 53 | AC6: 55 | AD6: 57 | AE6: 59 | AF6: 61 | AG6: 63 | AH6: 65 | AI6: 67 | AJ6: 69 | AK6: 71 | AL6: 73 | AM6: 75 | AN6: 77 | AO6: 79 | AP6: 81 | AQ6: 83 | AR6: 85 | AS6: 87 | AT6: 89 | AU6: 91 | AV6: 93 | AW6: 95 | AX6: 97 | AY6: 99 | AZ6: 101 | BA6: 103 | BB6: 105 | BC6: 107 | BD6: 109 | BE6: 111 | BF6: 113 | BG6: 115 | BH6: 117 | BI6: 119 | BJ6: 121 | BK6: 123 | BL6: 125 | BM6: 127 | BN6: 129 | BO6: 131 | BP6: 133
A7: vertrektijd beginhalte | B7: 6:08 | C7: 6:08 | D7: 6:33 | E7: 6:33 | F7: 6:48 | G7: 7:03 | H7: 7:42 | I7: 7:18 | J7: 7:57 | K7: 7:34 | L7: 8:12 | M7: 7:49 | N7: 8:04 | O7: 8:19 | P7: 8:34 | Q7: 8:49 | R7: 9:04 | S7: 10:00 | T7: 9:34 | U7: 10:30 | V7: 10:04 | W7: 11:00 | X7: 10:34 | Y7: 11:30 | Z7: 11:04 | AA7: 12:00 | AB7: 11:34 | AC7: 12:30 | AD7: 12:05 | AE7: 13:01 | AF7: 12:35 | AG7: 13:31 | AH7: 13:05 | AI7: 14:01 | AJ7: 13:35 | AK7: 14:31 | AL7: 14:05 | AM7: 14:20 | AN7: 14:35 | AO7: 14:50 | AP7: 15:04 | AQ7: 15:19 | AR7: 15:34 | AS7: 15:49 | AT7: 16:04 | AU7: 16:19 | AV7: 16:34 | AW7: 16:49 | AX7: 17:04 | AY7: 17:20 | AZ7: 17:37 | BA7: 17:52 | BB7: 18:13 | BC7: 18:28 | BD7: 18:43 | BE7: 18:58 | BF7: 19:13 | BG7: 19:43 | BH7: 20:13 | BI7: 20:43 | BJ7: 21:13 | BK7: 21:43 | BL7: 22:13 | BM7: 22:43 | BN7: 23:13 | BO7: 23:43 | BP7: 24:13
A9: Arnhem, Centraal Station | C9: 1 | E9: 2 | F9: 4 | G9: 3 | I9: 2 | K9: 8 | M9: 4 | N9: 9.8 | O9: 8 | P9: 8.8 | Q9: 5 | R9: 6.8 | T9: 7.8 | V9: 6.8 | X9: 8.6 | Z9: 7 | AB9: 9 | AD9: 13.8 | AF9: 16.8 | AH9: 20 | AJ9: 17 | AL9: 21.6 | AM9: 20 | AN9: 17 | AO9: 19.2 | AP9: 28.6 | AQ9: 15.8 | AR9: 21 | AS9: 21 | AT9: 26 | AU9: 17.8 | AV9: 22 | AW9: 22.8 | AX9: 30 | AY9: 24.6 | AZ9: 22.8 | BA9: 23.6 | BB9: 28.8 | BC9: 19.8 | BD9: 19.8 | BE9: 10 | BF9: 14 | BG9: 12 | BH9: 12.8 | BI9: 12.8 | BJ9: 11.8 | BK9: 14 | BL9: 13 | BM9: 14.6 | BN9: 10 | BO9: 14.8 | BP9: 9
A10: Arnhem, Willemsplein | C10: 1 | E10: 2 | F10: 4.8 | G10: 4 | I10: 3 | K10: 8.8 | M10: 5 | N10: 10.8 | O10: 9.8 | P10: 10 | Q10: 5.8 | R10: 8.8 | T10: 9.8 | V10: 8.8 | X10: 8.8 | Z10: 10.8 | AB10: 14 | AD10: 19.4 | AF10: 22.8 | AH10: 25.6 | AJ10: 26.8 | AL10: 25.8 | AM10: 20.8 | AN10: 21 | AO10: 26.8 | AP10: 33.6 | AQ10: 25.6 | AR10: 28.8 | AS10: 24.2 | AT10: 32 | AU10: 23.6 | AV10: 27.4 | AW10: 28.4 | AX10: 37.8 | AY10: 29 | AZ10: 29.8 | BA10: 27.6 | BB10: 32.6 | BC10: 19.9 | BD10: 22.8 | BE10: 12.6 | BF10: 16.8 | BG10: 15 | BH10: 17.4 | BI10: 15.8 | BJ10: 19 | BK10: 17.8 | BL10: 13.8 | BM10: 26.4 | BN10: 15 | BO10: 20 | BP10: 12.8
A11: Arnhem, Velperplein | C11: 3 | E11: 5 | F11: 8 | G11: 7.8 | I11: 4 | K11: 9.8 | M11: 8.8 | N11: 15 | O11: 12.8 | P11: 13 | Q11: 7 | R11: 11 | T11: 11 | V11: 11 | X11: 11.8 | Z11: 13 | AB11: 20 | AD11: 25 | AF11: 32.2 | AH11: 36 | AJ11: 32 | AL11: 29 | AM11: 23.8 | AN11: 33.4 | AO11: 28.8 | AP11: 34 | AQ11: 29 | AR11: 37.6 | AS11: 30.8 | AT11: 39.8 | AU11: 30.6 | AV11: 32.6 | AW11: 32 | AX11: 41.8 | AY11: 34.2 | AZ11: 29.8 | BA11: 28.6 | BB11: 33.8 | BC11: 25 | BD11: 22.6 | BE11: 14.6 | BF11: 21.8 | BG11: 16.8 | BH11: 21.8 | BI11: 16 | BJ11: 21.8 | BK11: 20.4 | BL11: 16.8 | BM11: 28.6 | BN11: 15 | BO11: 24.6 | BP11: 15.4
A12: Arnhem, Stadstheater Arnhem | C12: 3 | E12: 5 | F12: 7 | G12: 7.8 | I12: 4 | K12: 9.8 | M12: 8.8 | N12: 15 | O12: 12 | P12: 12.8 | Q12: 7 | R12: 11.8 | T12: 10.8 | V12: 11 | X12: 11.8 | Z12: 13 | AB12: 20 | AD12: 26 | AF12: 32.4 | AH12: 36 | AJ12: 33.2 | AL12: 30.8 | AM12: 24 | AN12: 33.4 | AO12: 30.4 | AP12: 37.8 | AQ12: 30.4 | AR12: 38.6 | AS12: 31.8 | AT12: 39.8 | AU12: 30.6 | AV12: 34.6 | AW12: 31.8 | AX12: 43.8 | AY12: 35.6 | AZ12: 30 | BA12: 28.8 | BB12: 35.4 | BC12: 25 | BD12: 22.6 | BE12: 14.6 | BF12: 21.6 | BG12: 16.8 | BH12: 22 | BI12: 16 | BJ12: 22 | BK12: 21.2 | BL12: 16.5 | BM12: 28.6 | BN12: 15 | BO12: 23.8 | BP12: 15.4
A13: Arnhem, Airborneplein | C13: 3.8 | E13: 6 | F13: 8 | G13: 7 | I13: 4.8 | K13: 9 | M13: 10 | N13: 12 | O13: 10.9 | P13: 12.8 | Q13: 6 | R13: 12 | T13: 11 | V13: 11 | X13: 11.8 | Z13: 14 | AB13: 20.8 | AD13: 27.8 | AF13: 32.8 | AH13: 36.8 | AJ13: 33.8 | AL13: 34.8 | AM13: 24.6 | AN13: 35.2 | AO13: 30.8 | AP13: 37 | AQ13: 32.4 | AR13: 38.6 | AS13: 33 | AT13: 42 | AU13: 33 | AV13: 38.4 | AW13: 36.4 | AX13: 48.2 | AY13: 35.8 | AZ13: 31 | BA13: 30.4 | BB13: 37 | BC13: 25.8 | BD13: 22.8 | BE13: 14.6 | BF13: 21.8 | BG13: 16.8 | BH13: 22.8 | BI13: 16 | BJ13: 22.8 | BK13: 21.2 | BL13: 16.8 | BM13: 29.8 | BN13: 15 | BO13: 23.8 | BP13: 14.6
A14: Arnhem, De Monchyplein | C14: 4 | E14: 7.8 | F14: 9.7 | G14: 9.8 | I14: 6 | K14: 11.9 | M14: 12.8 | N14: 14.6 | O14: 12 | P14: 14 | Q14: 6.8 | R14: 11.8 | T14: 12.5 | V14: 10.8 | X14: 11 | Z14: 13.4 | AB14: 18.8 | AD14: 27.6 | AF14: 31.8 | AH14: 35 | AJ14: 34 | AL14: 28.2 | AM14: 18.8 | AN14: 26.8 | AO14: 26.6 | AP14: 32.9 | AQ14: 24.6 | AR14: 35.4 | AS14: 25.8 | AT14: 35.8 | AU14: 27.9 | AV14: 30 | AW14: 30.9 | AX14: 39.8 | AY14: 28 | AZ14: 26 | BA14: 29.5 | BB14: 30 | BC14: 21.8 | BD14: 19.6 | BE14: 11 | BF14: 18.7 | BG14: 14.8 | BH14: 17 | BI14: 14.6 | BJ14: 16 | BK14: 16.6 | BL14: 14.6 | BM14: 26 | BN14: 12.9 | BO14: 22.8 | BP14: 10
