Workbook
Name _: "$#REF!.$A$2"
Name aqw: 'A033 - bezetting nov23'!#REF!
Name asd: 'A352 - bezetting jun24'!#REF!
Name asw: 'bezetting X089'!#REF!
Name asw: 'X012 85 89 herfstvakantie 2023'!#REF!
Name asw: 'X012 85 89 kerstvak 2023-2024'!#REF!
Name asw: 'X012 85 89 meivakantie 2024'!#REF!
Name asw: 'X012 85 89 voorjaarsvak 2024'!#REF!
Name asx: #REF!
Name asx: #REF!
Name asx: #REF!
Name bnm: 'X012 85 89 herfstvakantie 2023'!$CK$4:$CL$73
Name bustypes: "$#REF!.$C$58:$E$66"
Name capac: "$#REF!.$#REF!$#REF!:$#REF!$#REF!"
Name concessienaam: OFFSET(#REF!,,,COUNTA(#REF!),1)
Name concessienaam: OFFSET(#REF!,,,COUNTA(#REF!),1)
Name concessienaam: OFFSET(#REF!,,,COUNTA(#REF!),1)
Name concessienaam: OFFSET(#REF!,,,COUNTA(#REF!),1)
Name concessies: OFFSET(#REF!,,,COUNTA(#REF!),2)
Name concessies: OFFSET(#REF!,,,COUNTA(#REF!),2)
Name concessies: OFFSET(#REF!,,,COUNTA(#REF!),2)
Name concessies: OFFSET(#REF!,,,COUNTA(#REF!),2)
Name connr: #REF!
Name connr: #REF!
Name connr: #REF!
Name connr: #REF!
Name cvb: 'X012 85 89 kerstvak 2023-2024'!$BN$6:$BO$55
Name Draaitabelgegevens: OFFSET(#REF!,,,COUNTA(#REF!)+1,26)
Name Draaitabelgegevens: OFFSET(#REF!,,,COUNTA(#REF!)+1,26)
Name Draaitabelgegevens: OFFSET(#REF!,,,COUNTA(#REF!)+1,26)
Name Draaitabelgegevens: OFFSET(#REF!,,,COUNTA(#REF!)+1,26)
Name minvert1: OFFSET(#REF!,,,COUNTA(#REF!),2)
Name minvert1: OFFSET(#REF!,,,COUNTA(#REF!),2)
Name minvert1: OFFSET(#REF!,,,COUNTA(#REF!),2)
Name minvert1: OFFSET(#REF!,,,COUNTA(#REF!),2)
Name minvert2: OFFSET(#REF!,,,COUNTA(#REF!),2)
Name minvert2: OFFSET(#REF!,,,COUNTA(#REF!),2)
Name minvert2: OFFSET(#REF!,,,COUNTA(#REF!),2)
Name minvert2: OFFSET(#REF!,,,COUNTA(#REF!),2)
Name minvert3: OFFSET(#REF!,,,COUNTA(#REF!),2)
Name minvert3: OFFSET(#REF!,,,COUNTA(#REF!),2)
Name minvert3: OFFSET(#REF!,,,COUNTA(#REF!),2)
Name minvert3: OFFSET(#REF!,,,COUNTA(#REF!),2)
Name minvertrek: OFFSET(#REF!,,,COUNTA(#REF!),2)
Name minvertrek: OFFSET(#REF!,,,COUNTA(#REF!),2)
Name minvertrek: OFFSET(#REF!,,,COUNTA(#REF!),2)
Name minvertrek: OFFSET(#REF!,,,COUNTA(#REF!),2)
Name mko: 'X012 85 89 herfstvakantie 2023'!$CP$118:$CQ$165
Name qas: #REF!
Name qas: #REF!
Name qas: 'X005 - bezetting'!$CS$5:$CU$315
Name qas: 'X015 - bezetting'!$CS$5:$CU$379
Name qas: #REF!
Name qas: #REF!
Name QAZ: 'A009 - bezetting'!#REF!
Name qaz: #REF!
Name qaz: 'A014 A011 A331 - in uitstap'!$A$17:$A$18
Name qaz: #REF!
Name qaz: #REF!
Name qaz: #REF!

Sheet overzicht wensen
B2: Overzicht voorgestelde wijzigingen dr 2025 SAN | G2: =SUM(Tabel1[gevolgen dru]) -> -11430 | AD2: overall effekt op gewogen dru ®
B3: lijn | C3: omschrijving voorstel | D3: concreet | E3: opmerkingen | F3: advies/voorstel | G3: gevolgen dru
B4: A005 A062 | C4: Beter spreiden op Johan de Wittlaan? | E4: Beide lijnen rijden af en toe achter elkaar aan op de JdWlaan. Let op: kan niet altijd voorkomen worden. Spreiden op de JdW kan immers ertoe leiden dat lijn 5 in Ahm Zd weer te dicht op lijn 1 rijdt. | F4: Wordt uitgewerkt. | G4: 0
B5: A008 | C5: Eindpunt verleggen van Parking Pres. Kennedysingel naar halte Gasthuislaan. | E5: zie bijlagen met plattegrond, in-uitstappers en bezettingscijfers | F5: Advies Breng: doen, de huidige eindhalte heeft geen meerwaarde. De halte Velperbroek vervalt hierdoor ook voor lijn 8 maar de lijnen 26 en 27 blijven deze halte bedienen. | G5: 0
B6: A009 | C6: Is doorrijden naar IPC nog wel noodzakelijk, zit vrijwel nooit iemand in. | D6: Uit chauffeursoverleg. | E6: zie bijlagen met in-uitstappers en bezettingscijfers | F6: Advies Breng: niet doen, inkorten tot Koningsweg betekent dat je 4-5 haltes niet aandoet die op dagbasis ca. 35-40 instappers genereren. Tegelijkertijd introduceert de halterrreistaxi een "soortement" dr tussen het AIC en Arnhem CS | G6: 0
B7: A009 A010 | C7: Kennen beide halte Schelmseweg, zijn echter 2 verschillende haltes | D7: Halte lijn 9 ligt op de kruising Bakenbergseweg x Schelmseweg. Halte lijn 10 ligt op de Amsterdamseweg bij de Jacob Marislaan. | F7: We hernoemen de halte Schelmseweg van lijn 10 (en 105) naar Heijenoordseweg (naar de voorliggende zijstraat). | G7: 0
B8: A010 E105 | C8: Route verleggen naar Amsterdamseweg | D8: Agv verkeersveiligheidsmaatregelen in Heijenoord. Voorstel is om lijn 10 te beperken tot MV schooldagen als spitsversterking van lijn 105. Zie de bijlagen voor de ritten die we willen behouden. | E8: Afhankelijk van feitelijke start werkzaamheden. zie bijlagen met in-uitstappers en bezettingscijfers en frequentie-overzicht 105. In de schoolvakanties rijdt lijn 105 slechts 1x per uur, ook in de spits en ook op zaterdag. Overwegen om hier lijn 10 te laten verdichten danwel lijn 105 spitsverdichtingen te geven. | F8: Planning reconstructie is nog niet "hard". Als de definitieve ingangsdatum vroeg in 2025 ligt (was Q2 2025) gaan we per dec24 uit de wijk. Inmiddels gesprek gehad met zorginstellingen nabij halte Het Dorp. Zij begrijpen dat lijn 10 handhaven op de huidige route onhaalbaar is, hebben twijfels over de buurtbus en vragen of het haalbaar is om lijn 10 via de Amsterdamseweg en een keerlus bij het Dorp te laten rijden. | G8: -2000
B9: A014 X003 A331 | C9: Betere spreiding in dr tijden langs Oosterhout | F9: Wordt uitgewerkt. | G9: 0
B10: A014 X003 X005 | C10: Extra halte Nyma tussen huidige gelijknamige halte en de Ferry Portierstraat. | D10: Voorstel via gem Nijmegen, is reeds eerder akkoord op gegeven. | E10: zie bijlage voor tekening van het voorstel | F10: Advies Breng: akkoord, zodra halte gerealiseerd is wordt deze opgenomen in de routes van de betreffende lijnen. | G10: 0
B11: A014 | C11: Herroutering in Arnhem nabij Gelderse Poort? | D11: Betreft het gemeentelijk voorstel van vorig jaar. Met verzoek van de gemeente Arnhem om dit nogmaals te beoordelen. | E11: zie bijlage voor tekening van het voorstel | F11: Advies Breng: nu niet doen. De haltes Stikkerstraat en Gelderse Poort (huidig) zijn drukke haltes. Mede door het AZC. De omgeving van het OHRA gebouw wordt uitstekend bediend met HOV 331 via de halte Randweg. Als er nadrukkelijk behoefte is aan strekken kan dit overwogen worden. | G11: 0
B12: A021 | C12: Medio 2025 weer koppelen aan A001 ri Arnhem, de Laar met trolleyinzet? | D12: In de rijtijd van lijn A021 zit heel veel extra tijd om de vertragingen tgv. de werkzaamheden op te kunnen vangen. | E12: let op: besparing is op jaarbasis | G12: -3500
B13: A033 A300 | C13: Beter spreiden in Huissen? Met ev. spitsverdichtingen op lijn 33 laten vervallen. | E13: Is, bij geoptimaliseerde spreiding, de verdichting van lijn 33 tussen Huissen en Arnhem nog noodzakelijk? Ofwel: kunnen we de vak-dr van A033 permanent rijden op MV. Zie ook de bezettingscijfers van A033 en A300 in de bijlagen. In de bezettingscijfers van lijn 300 is te zien waar de extra reizigers van de vervallen ritten van lijn 33 bij komen. Waarnodig wordt uiteraard versterkt op; lijn 300 | F13: Advies Breng: doen. Het laten vervallen van de spitsverdichtingen op lijn 33 tussen Ahm-Hsn kan maar leidt wel tot vrij volle bussen op lijn 300. Als er bussen struktureel overlopen wordt er versterkt op de betreffende rit tussen Huissen en Arnhem. Zie bezettingscijfers A033 en A300. In de cijfers van A300 is in de gele balken aangegeven waar en wanneer de extra reizigers erbij komen. | G13: -650
B14: A035 | C14: Realisatie eindpunt Zetten. | D14: Het streven is om lijn 35 uit de kern te halen en op en neer te laten rijden naar eindpunt Zetten, Lingebrug. Dat vergt een eindpunt / keerpunt voor lijn 35. | E14: Betreft een gemeentelijke taak iov / ovv de provincie Gelderland. zie bijlage voor tekening van het voorstel | F14: Wordt ws. niet in 2024 gerealiseerd en heeft derhalve géén dr-consequenties voor dr 2025. | G14: 0
B15: A056 | C15: extra halte op de Metamorfosealleen | D15: ingaande augustus kan deze halte worden toegevoegd aan de route van lijn 5. | F15: Advies Breng: doen, is al eerder besproken en geaccordeerd maar wordt nu feitelijk gerealiseerd. | G15: 0
B16: A056 | C16: In Heteren wordt al langere tijd gesproken over een eindpuntroute met een keermogelijkheid bij de halte Beemdhof. | D16: Betreft een gemeentelijk voorstel. | E16: zie bijlagen met plattegrond | F16: Wordt ws. niet in 2024 gerealiseerd en heeft derhalve géén dr-consequenties voor dr 2025. | G16: 0
B17: A060 | C17: Strekken van de route in Babberich en Herwen | D17: Al langer bestaand provinciaal infraplan, wordt dit jaar ws. gerealiseerd | E17: zie bijlagen met plattegrond, in-uitstappers en bezettingscijfers | F17: Zodra infra is aangepast worden de nieuwe routes opgenomen in de dienstregeling. | G17: -500
B18: A061 | C18: Extra halte nabij Fresh&Fastpark. | D18: Verzoek van gem. Duiven Westervoort. | E18: Gaat om een extra halte nabij de kruising Rivierweg x Nieuwgraaf bij de bestaande KFC. Zie bijlagen met plattegrond. | F18: Advies Breng: akkoord mits adequate oversteekvoorziening kan worden gerealiseerd. Het voorstel betreft een halte aan een zeer druk kruispunt. | G18: 0
B19: A062 | C19: Verzoek gem Duiven-Westervoort om te bekijken of lijn 62 dichter bij de nieuw te bouwen woningen in Duiven Zuid kan worden gebracht | E19: zie bijlagen met in-uitstappers en bezettingscijfers en plattegrond. | F19: Advies Breng: niet doen. Maak van halte Eilandplein een HUB fiets-OV en richt deze goed in met oa. meer en betere fietsenstallingen. | G19: 0
B20: A300 | C20: Promotie van de P&R ritten door de gemeente Nijmegen. | E20: Betreft gemeentelijke toezegging om het gebruik van P&R Nmg Nrd te stimuleren met communicatie aktiviteiten. Geen dr-consequenties. | G20: 0
B21: A331 | C21: Halte Lent, Citadel College is vervallen. | E21: Na overleg tussen de gemeente Nijmegen, de provincie Gelderland en Breng is besloten om deze halte te schrappen onder verwijzing naar de nieuwe halte Hof van Holland. | F21: De wijziging is reeds doorgevoerd. | G21: 0
B22: A331 | C22: Halte Elst, Poli Elst opwaarderen cf. richtlijnen zodat lijn 331 hier normaal kan halteren. | E22: Betreft een gemeentelijke taak iov / ovv de provincie Gelderland. | F22: Voorstel heeft geen dr-consequenties. | G22: 0
B23: A352 | C23: Beperken tot trajekt WgnBus - AhmCS, dus niet meer doorrijden naar Velperplein. | E23: Wel nog toetsen of het kan qua accucapaciteit cq. bijlaadsnelheid. We rijden pas vanaf 12 mei dus moeten even wachten op adequate verbruikscijfers en laaddata. | F23: Is een effectieve manier om veel dru te besparen omdat er natuurlijk al heel veel bussen tussen CS en Centrum rijden. | G23: -6500
B24: A352 | C24: Haltereduktie lijn 352 en verbeterde doorstroming langs Heelsum en Renkum. | D24: Waarschijnlijk niet voor dr 2025 maar het oude plan wel weer bespreken nu de afdeling Verkeer van de gemeente Renkum weer op sterkte is (en zonder inhuur). | F24: Overleg met Renkum cq. Johan Ebbenhorst wordt opgestart. | G24: 0
B25: A352 | C25: Verzoek om door te rijden naar de WUR | D25: Ovv. provincie ingaande nwe dr 2025. | F25: Technisch niet haalbaar zonder aanvullend stukje bovenleiding. | G25: 0
B26: A352 | C26: Wens voor een verbinding Utrechtsestraat - Station Oosterbeek. | D26: Verzoek via de gemeente Renkum. | F26: Advies Breng: niet doen: geen enkele reiziger reist lokaal naar een halte aan de Utrechtsestraat om de laatste 500 mtr over te stappen op een pendelbus naar het Station. Voor zover relevant, de buurtbussen 589 en 590 bieden deze verbinding al, via het Gemeentehuis | G26: 0
B27: A352 | C27: Goede overstap tussen 303 en 352 borgen. | D27: Wordt zo goed mogelijk vormgegeven. Maar verschillende tussentijdse wijzigingen in Veluwe Zuid en niet in SAN verhinderen optimale afstemming in 2024. | E27: Voor dr 2025 is afstemming natuurlijk wel weer mogelijk gegeven de gelijke ingangsdatum voor dr 2025. | F27: Wordt uitgewerkt. | G27: 0
B28: A500 | C28: Buurtbus Heijenoord en ev. Klarendal | D28: Waarbij de buurtbus de route gaat rijden die lijn 10 noodgedwongen moet verlaten. | E28: De wijkraad heeft inmiddels eerste stappen gezet in het benaderen van vrijwilligers. | G28: 0
B29: diverse lijnen | C29: Rijtijdmetingen | D29: De rijtijd in met name Nijmegen loopt sterk op door notoire knelpunten; Singels, Waalbrug, Radboud, A73, markt etc. | E29: Zie ook mobiliteit.nl waarin overheden en de vervoersector waarschuwen voor dichtslibben van Nederland. | F29: De rijtijdtoename zit voor een belangrijk deel in Nijmegen. Suggestie om ev. compenserende maatregelen dan ook in Nijmegen door te voeren. | G29: 3750
B30: Niteliners | C30: Mn. verzoeken uit Rheden en Wageningen voor herstel van "hun" niteliners. | E30: zie bijlagen voor bezettingscijfers van de niteliners pré-corona. | F30: Nog niet doen gegeven de budgettaire beperkingen. | G30: 0
B31: X002 | C31: Gewijzigde route van Lindenholt naar CS en verder. | D31: Met als achterliggende gedachte: snelle verbinding tussen P&R Nmg West, centrum en station. | E31: zie bijlagen voor routekaartje van het voorstel | F31: Op termijn wellicht zinvol. Breng advies: koppel dit aan een gewijzigde route van HOV331 naar Heyendaal. Dan kan de stadslijn Weezenhof/Aldenhof de bediening van de haltes langs de Graafseweg weer op zich nemen. Verder van belang: de West Entree van Nijmegen CS. Die kan vergaande consequenties hebben voor de lijnvoering vanuit de westkant van Nijmegen. | G31: 0
B32: X002 X005 X008 | C32: op zaterdagochtend enkele ritten schrappen zodat alle stadslijnen rond 10:00u beginnen met de verdichting van 2x naar 4x pu. | F32: Advies Breng: doen. Maakt de dienstregeling eenduidiger terwijl er toch 2x pu bussen blijven rijden op de zaterdagochtend tot 10:00u | G32: -750
B33: X002 X008 X012 X015 X099 X331 | C33: Ontwikkeling Winkelsteeeg (+4600 woningen) en verwachte gevolgen voor betrokken buslijnen. | D33: Niet voor dr 2025 maar wel nu meenemen in planontwikkeling. | E33: Betreft het gebied ten zuidwesten van Station Goffert | F33: We zijn betrokken bij het overleg over dit dossier. | G33: 0
B34: X003 | C34: Eindpunt lijn 3 in Oosterhout verbeteren; van blokje om naar een echt keerpunt. | E34: Aktie voor de gemeente Nijmegen. | F34: Zodra het keerpunt wordt gerealiseerd past Breng de route cq. de dienstregeling van lijn 3 in Oosterhout aan. | G34: 0
B35: X004 | C35: Aansluiten op de bus of toch de trein? | F35: Keuze nog te maken. | G35: 0
B36: X005 | C36: Eindpunt verleggen van Tiberiuslaan naar Ewijk Zuid | D36: Niet voor dr 2025, wel aankondigen om voornemen alvast in te laten werken | F36: We zijn betrokken bij het overleg over dit dossier. | G36: 0
B37: X008 | C37: Gemeente Berg en Dal neemt inframaatregelen op de Oude Kleefsebaan (wegversmallingen). Als die de doorstroming hinderen heeft dit waarschijnlijk consequenties voor de dienstregeling van lijn 8 (route, frequentie, bedieningsperiode). | F37: Ev. consequenties voor lijn 8 worden nog niet zichtbaar in dr 2025 (ingaande dec 2024). | G37: 0
B38: X009 | C38: Halte Kasteelseweg laten vervallen, ligt niet veilig en is slechts een paal in de grond (uit chauffeursoverleg). | D38: aantal instappers is verwaarloosbaar | E38: zie bijlagen met in-uitstappers | F38: Advies Breng: doen, deze halte kent gemiddeld minder dan 1 instapper per werkdag. In het weekend wordt de halte niet gebruikt. | G38: 0
B39: X009 | C39: Route via Heumen (uit chauffeursoverleg). | D39: Uit chauffeursoverleg. | F39: In principe een goed voorstel maar doorstroming op de A73 is nog wel een essentieel punt. Vluchtstrookgebruik is een mogelijke optie. Heumen heeft een motie aangenomen voor het inrichten van een P&R aan de rand van het dorp. Ook van belang: overleg met de buurtbus 561 ivm mogelijke concurrentie op de weg. Nog veel aspekten dus. Daarmee geen voorstel voor dr 2025. | G39: 0
B40: X012 | C40: In de schoolvakanties niet laten rijden. Nu is dat alleen nog de zomervakantie. | D40: Suggestie vanuit het rayon. | E40: zie bijlagen met reizigerskilometers per week van lijn X012 alsmede de bezettingscijfers van de lijnen X012, X085 en X089 die aantonen dat er meer dan voldoende capaciteit is in deze beide lijnen om het wegvallen van lijn X012 (in de schoolvakanties) te compenseren. tussen Radboud en CS rijden zoveel bussen dat er hier altijd voldoende capaciteit is in de vakanties. | F40: Advies Breng: doen, Druten houdt met lijn 89 (2x pu) en lijn 85 (2x pu) nog steeds een prima verbinding met Nijmegen. | G40: -1000
B41: X012 X085 X089 | C41: Realisatie HOV Knoop Druten | D41: Opwaardering van het huidige busstation. | E41: Breng is betrokken bij dit projekt. | G41: 0
...

Sheet A008 - voorstel routewijziging

Sheet A008 - bezetting
A1: categorisering bezetting | B1: 0 | C1: 8 | D1: 25 | E1: 65
B2: =C1-0.00001 -> 7.99999 | C2: =D1-0.00001 -> 24.99999 | D2: =E1-0.00001 -> 64.99999 | E2: 999
A5: bezettingstelling lijn 8 - van ARNHEM CS - VELP - werkdagen | bron: chipkaart gegevens november 2023 | 80 percentiel waarde
A6: ritnummer | B6: 1 | C6: 3 | D6: 5 | E6: 7 | F6: 9 | G6: 11 | H6: 13 | I6: 15 | J6: 17 | K6: 19 | L6: 21 | M6: 23 | N6: 25 | O6: 27 | P6: 29 | Q6: 31 | R6: 33 | S6: 35 | T6: 37 | U6: 39 | V6: 41 | W6: 43 | X6: 45 | Y6: 47
A7: vertrektijd beginhalte | B7: 0.28472222 | C7: 0.30555556 | D7: 0.32638889 | E7: 0.34722222 | F7: 0.36805556 | G7: 0.38888889 | H7: 0.40972222 | I7: 0.43055556 | J7: 0.45138889 | K7: 0.47222222 | L7: 0.49305556 | M7: 0.51388889 | N7: 0.53472222 | O7: 0.55555556 | P7: 0.57638889 | Q7: 0.59722222 | R7: 0.61805556 | S7: 0.63888889 | T7: 0.65972222 | U7: 0.68055556 | V7: 0.70138889 | W7: 0.72222222 | X7: 0.74305556 | Y7: 0.76388889
A9: Arnhem, Centraal Station | B9: 12 | C9: 17 | D9: 32 | E9: 31 | F9: 24 | G9: 22 | H9: 19 | I9: 7 | J9: 14 | K9: 14 | L9: 13 | M9: 7 | N9: 10 | O9: 7 | P9: 8 | Q9: 8 | R9: 6 | S9: 9 | T9: 7 | U9: 7 | V9: 4 | W9: 4 | X9: 5 | Y9: 6
A10: Arnhem, Willemsplein | B10: 13 | C10: 18 | D10: 39 | E10: 38 | F10: 28 | G10: 27 | H10: 22 | I10: 11 | J10: 14 | K10: 17 | L10: 16 | M10: 10 | N10: 10 | O10: 9 | P10: 11 | Q10: 10 | R10: 9 | S10: 9 | T10: 11 | U10: 9 | V10: 7 | W10: 6 | X10: 6 | Y10: 6
A11: Arnhem, Bothaplein | B11: 13 | C11: 18 | D11: 38 | E11: 36 | F11: 28 | G11: 27 | H11: 22 | I11: 11 | J11: 14 | K11: 17 | L11: 16 | M11: 10 | N11: 10 | O11: 9 | P11: 11 | Q11: 11 | R11: 10 | S11: 9 | T11: 11 | U11: 9 | V11: 7 | W11: 6 | X11: 6 | Y11: 6
A12: Arnhem, Sonsbeek | B12: 13 | C12: 18 | D12: 37 | E12: 33 | F12: 27 | G12: 27 | H12: 19 | I12: 9 | J12: 13 | K12: 15 | L12: 15 | M12: 10 | N12: 10 | O12: 9 | P12: 12 | Q12: 11 | R12: 11 | S12: 9 | T12: 11 | U12: 10 | V12: 7 | W12: 6 | X12: 6 | Y12: 6
A13: Arnhem, Ziekenhuis Rijnstate | B13: 1 | C13: 4 | D13: 27 | E13: 27 | F13: 26 | G13: 26 | H13: 18 | I13: 10 | J13: 13 | K13: 15 | L13: 13 | M13: 8 | N13: 7 | O13: 9.5 | P13: 11 | Q13: 9 | R13: 11 | S13: 9 | T13: 10 | U13: 9 | V13: 7 | W13: 6 | X13: 6 | Y13: 6
A14: Arnhem, Beethovenlaan | B14: 1 | C14: 4.6 | D14: 26 | E14: 27 | F14: 25 | G14: 26 | H14: 18 | I14: 8 | J14: 11.7 | K14: 14 | L14: 13 | M14: 7 | N14: 6 | O14: 9.4 | P14: 9 | Q14: 7 | R14: 8 | S14: 8 | T14: 10 | U14: 8 | V14: 7 | W14: 6 | X14: 5 | Y14: 6
A15: Arnhem, Chopinstraat | B15: 1 | C15: 5 | D15: 26 | E15: 27 | F15: 25 | G15: 26 | H15: 18 | I15: 8 | J15: 10.7 | K15: 15 | L15: 11 | M15: 9 | N15: 6 | O15: 8 | P15: 9 | Q15: 7 | R15: 8 | S15: 8 | T15: 8.3 | U15: 8 | V15: 7 | W15: 5 | X15: 5 | Y15: 5
A16: Arnhem, Openluchtmuseum Oost | B16: 1 | C16: 4 | D16: 25 | E16: 27 | F16: 25 | G16: 21 | H16: 18 | I16: 7 | J16: 10.7 | K16: 13.6 | L16: 8 | M16: 9 | N16: 6 | O16: 8 | P16: 7 | Q16: 6 | R16: 7 | S16: 7 | T16: 7 | U16: 6 | V16: 4 | W16: 5 | X16: 5 | Y16: 4
A17: Arnhem, Alteveer | B17: 1 | C17: 4 | D17: 25 | E17: 27 | F17: 25 | G17: 20 | H17: 18 | I17: 7 | J17: 10.6 | K17: 13.6 | L17: 9 | M17: 8 | N17: 6 | O17: 7.9 | P17: 6 | Q17: 6 | R17: 7 | S17: 7 | T17: 7 | U17: 6 | V17: 4 | W17: 5 | X17: 5 | Y17: 4
A18: Arnhem, Moscowa/Schelmseweg | B18: 1 | C18: 4 | D18: 24 | E18: 27 | F18: 25 | G18: 19 | H18: 18 | I18: 7 | J18: 9 | K18: 13.6 | L18: 8 | M18: 8 | N18: 6 | O18: 7.2 | P18: 7 | Q18: 6 | R18: 7 | S18: 7 | T18: 7 | U18: 6 | V18: 4 | W18: 5 | X18: 5 | Y18: 4
... A40: Velp, Parking Pres. Kennedylaan | B40: 0 | C40: 0 | D40: 0 | E40: 0 | F40: 0 | G40: 0 | H40: 0 | I40: 0 | J40: 0 | K40: 0 | L40: 0 | M40: 0 | N40: 0 | O40: 0 | P40: 0 | Q40: 0 | R40: 0 | S40: 0 | T40: 0 | U40: 0 | V40: 0 | W40: 0 | X40: 0 | Y40: 0
A41: MaxBezetting | B41: =MAX(B9:B40) -> 13 | C41: =MAX(C9:C40) -> 18 | D41: =MAX(D9:D40) -> 39 | E41: =MAX(E9:E40) -> 38 | F41: =MAX(F9:F40) -> 28 | G41: =MAX(G9:G40) -> 27 | H41: =MAX(H9:H40) -> 22 | I41: =MAX(I9:I40) -> 11 | ... Y41: =MAX(Y9:Y40) -> 6
A42: uurblok | B42: =HOUR(B7) -> 6 | C42: =HOUR(C7) -> 7 | D42: =HOUR(D7) -> 7 | E42: =HOUR(E7) -> 8 | F42: =HOUR(F7) -> 8 | G42: =HOUR(G7) -> 9 | H42: =HOUR(H7) -> 9 | I42: =HOUR(I7) -> 10 | ... Y42: =HOUR(Y7) -> 18
A45: bezettingstelling lijn 8 - van VELP naar ARNHEM CS - werkdagen | bron: chipkaart gegevens november 2023 | 80 percentiel waarde
A46: ritnummer | B46: 2 | C46: 4 | D46: 6 | E46: 8 | F46: 10 | G46: 12 | H46: 14 | I46: 16 | J46: 18 | K46: 20 | L46: 22 | M46: 24 | N46: 26 | O46: 28 | P46: 30 | Q46: 32 | R46: 34 | S46: 36 | T46: 38 | U46: 40 | V46: 42 | W46: 44 | X46: 46 | Y46: 48 | Z46: 50
A47: vertrektijd beginhalte | B47: 0.30069444 | C47: 0.325 | D47: 0.34583333 | E47: 0.36666667 | F47: 0.38541667 | G47: 0.40625 | H47: 0.42708333 | I47: 0.44791667 | J47: 0.46875 | K47: 0.48958333 | L47: 0.51041667 | M47: 0.53125 | N47: 0.55208333 | O47: 0.57291667 | P47: 0.59375 | Q47: 0.61458333 | R47: 0.63541667 | S47: 0.65694444 | T47: 0.67777778 | U47: 0.69861111 | V47: 0.71944444 | W47: 0.73888889 | X47: 0.75972222 | Y47: 0.78055556 | Z47: 0.82222222
A49: Velp, Parking Pres. Kennedylaan | B49: 0 | C49: 0 | D49: 1 | E49: 1 | F49: 1 | G49: 0 | H49: 0 | I49: 1 | J49: 0 | K49: 0 | L49: 1 | M49: 0 | N49: 0 | O49: 0 | P49: 0 | Q49: 1 | R49: 0 | S49: 0 | T49: 0 | U49: 0 | V49: 0 | W49: 0 | X49: 0 | Y49: 0 | Z49: 0
A50: Velp, Velperbroek | B50: 1 | C50: 0 | D50: 3 | E50: 2 | F50: 1 | G50: 1 | H50: 2 | I50: 2 | J50: 1 | K50: 2 | L50: 3 | M50: 2 | N50: 1 | O50: 2 | P50: 1 | Q50: 1 | R50: 0 | S50: 0 | T50: 0 | U50: 1 | V50: 0 | W50: 0 | X50: 0 | Y50: 0 | Z50: 0
A51: Velp, Kerkstraat | B51: 1 | C51: 0 | D51: 3 | E51: 2 | F51: 2 | G51: 2 | H51: 2 | I51: 2 | J51: 2 | K51: 2 | L51: 3 | M51: 2 | N51: 1 | O51: 3 | P51: 1 | Q51: 1 | R51: 0 | S51: 0 | T51: 0 | U51: 1 | V51: 1 | W51: 0 | X51: 0 | Y51: 0 | Z51: 0
A52: Velp, Den Heuvel | B52: 1 | C52: 0 | D52: 3 | E52: 3 | F52: 2 | G52: 2 | H52: 3 | I52: 3 | J52: 4 | K52: 3 | L52: 4 | M52: 3 | N52: 1 | O52: 3 | P52: 2 | Q52: 1 | R52: 1 | S52: 2 | T52: 1 | U52: 1 | V52: 1 | W52: 0 | X52: 0 | Y52: 0 | Z52: 1
A53: Velp, Hogeweg | B53: 1 | C53: 1 | D53: 4 | E53: 3 | F53: 2 | G53: 1 | H53: 3 | I53: 3 | J53: 3 | K53: 3 | L53: 4 | M53: 3 | N53: 1 | O53: 3 | P53: 2 | Q53: 2 | R53: 1 | S53: 2 | T53: 1 | U53: 1 | V53: 1 | W53: 0 | X53: 0 | Y53: 0 | Z53: 1
A54: Velp, Heemskerklaan | B54: 1 | C54: 1 | D54: 4 | E54: 3 | F54: 2 | G54: 1 | H54: 3 | I54: 3 | J54: 3 | K54: 3 | L54: 4 | M54: 3 | N54: 1 | O54: 3 | P54: 2 | Q54: 2 | R54: 1 | S54: 2 | T54: 1 | U54: 1 | V54: 1 | W54: 0 | X54: 0 | Y54: 0 | Z54: 1
A55: Velp, Beekhuizenseweg | B55: 2 | C55: 1 | D55: 4 | E55: 4 | F55: 3 | G55: 2 | H55: 3 | I55: 3 | J55: 4 | K55: 4 | L55: 5 | M55: 4 | N55: 2 | O55: 3 | P55: 2 | Q55: 2 | R55: 1 | S55: 3 | T55: 1 | U55: 1 | V55: 1 | W55: 0 | X55: 1 | Y55: 0 | Z55: 1
A56: Velp, Biesdelselaan | B56: 2 | C56: 1 | D56: 4 | E56: 4 | F56: 3 | G56: 4 | H56: 3.9 | I56: 3 | J56: 4 | K56: 4 | L56: 5 | M56: 5 | N56: 3 | O56: 5 | P56: 3 | Q56: 3 | R56: 3 | S56: 3 | T56: 1 | U56: 1 | V56: 2 | W56: 0 | X56: 1 | Y56: 0 | Z56: 1
A57: Rozendaal, Rhedens Lyceum | B57: 2 | C57: 1 | D57: 3 | E57: 4 | F57: 3 | G57: 4 | H57: 3 | I57: 3 | J57: 4 | K57: 4 | L57: 5 | M57: 7 | N57: 3 | O57: 5 | P57: 3 | Q57: 3 | R57: 3 | S57: 3 | T57: 2 | U57: 1 | V57: 2 | W57: 1 | X57: 1 | Y57: 0 | Z57: 1
A58: Velp, Rozendaalselaan | B58: 2 | C58: 1 | D58: 3 | E58: 4 | F58: 3 | G58: 4 | H58: 3 | I58: 3 | J58: 4 | K58: 4 | L58: 6 | M58: 8 | N58: 3 | O58: 5 | P58: 4 | Q58: 3 | R58: 3 | S58: 3 | T58: 2 | U58: 1 | V58: 2 | W58: 1 | X58: 1 | Y58: 1 | Z58: 1
... A81: Arnhem, Centraal Station | B81: 0 | C81: 1 | D81: 0 | E81: 0 | F81: 1 | G81: 0 | H81: 0 | I81: 0 | J81: 0 | K81: 0 | L81: 0 | M81: 0 | N81: 0 | O81: 1 | P81: 0 | Q81: 0 | R81: 0 | S81: 0 | T81: 0 | U81: 0 | V81: 0 | W81: 0 | X81: 0 | Y81: 0 | Z81: 0
A82: MaxBezetting | B82: =MAX(B49:B81) -> 9 | C82: =MAX(C49:C81) -> 12 | D82: =MAX(D49:D81) -> 9 | E82: =MAX(E49:E81) -> 10 | F82: =MAX(F49:F81) -> 11 | G82: =MAX(G49:G81) -> 12 | H82: =MAX(H49:H81) -> 14.1 | I82: =MAX(I49:I81) -> 14 | ... Z82: =MAX(Z49:Z81) -> 3
A83: uurblok | B83: =HOUR(B47) -> 7 | C83: =HOUR(C47) -> 7 | D83: =HOUR(D47) -> 8 | E83: =HOUR(E47) -> 8 | F83: =HOUR(F47) -> 9 | G83: =HOUR(G47) -> 9 | H83: =HOUR(H47) -> 10 | I83: =HOUR(I47) -> 10 | ... Z83: =HOUR(Z47) -> 19
A88: bezettingstelling lijn 8 - van ARNHEM CS - VELP - zaterdag | bron: chipkaart gegevens november 2023 | 80 percentiel waarde
A89: ritnummer | B89: 4001 | C89: 4003 | D89: 4005 | E89: 4007 | F89: 4009 | G89: 4011 | H89: 4013 | I89: 4015 | J89: 4017 | K89: 4019 | L89: 4021 | M89: 4023 | N89: 4025 | O89: 4027 | P89: 4029 | Q89: 4031
A90: vertrektijd beginhalte | B90: 0.32638889 | C90: 0.36805556 | D90: 0.40972222 | E90: 0.45138889 | F90: 0.49305556 | G90: 0.53472222 | H90: 0.57638889 | I90: 0.61805556 | J90: 0.65972222 | K90: 0.70138889 | L90: 0.74305556 | M90: 0.78472222 | N90: 0.82638889 | O90: 0.86805556 | P90: 0.90972222 | Q90: 0.95138889
A92: Arnhem, Centraal Station | B92: 2.8 | C92: 3.4 | D92: 4.6 | E92: 4.2 | F92: 8.2 | G92: 5.8 | H92: 13.2 | I92: 8.2 | J92: 6.4 | K92: 3.6 | L92: 7.2 | M92: 8 | N92: 2 | O92: 4.8 | P92: 4.4 | Q92: 7.2
A93: Arnhem, Willemsplein | B93: 3.4 | C93: 4.6 | D93: 6.2 | E93: 5 | F93: 9.6 | G93: 8.4 | H93: 18 | I93: 10.8 | J93: 8.8 | K93: 7.2 | L93: 11.4 | M93: 8 | N93: 2.8 | O93: 6 | P93: 8.2 | Q93: 7.2
A94: Arnhem, Bothaplein | B94: 3.4 | C94: 5 | D94: 6.2 | E94: 5 | F94: 9.6 | G94: 7.8 | H94: 18 | I94: 10.8 | J94: 8.8 | K94: 7.2 | L94: 11.4 | M94: 8 | N94: 2.8 | O94: 6 | P94: 8.2 | Q94: 7.2
...

Sheet A008 - in uitstap per halte
B2: Lijn A008 - ri.1 - feb 2024 | F2: Lijn A008 - ri.2 - feb 2024 | J2: Lijn A008 - ri.1 - feb 2024 | N2: Lijn A008 - ri.2 - feb 2024
B3: werkdag-gemiddelde | C3: CI | D3: CO | F3: werkdag-gemiddelde | G3: CI | H3: CO | J3: zaterdag-gemiddelde | K3: CI | L3: CO | N3: zaterdag-gemiddelde | O3: CI | P3: CO
B4: Total | C4: =SUM(C5:C28) -> 318.7 | D4: =SUM(D5:D28) -> 274 | F4: Total | G4: =SUM(G5:G28) -> 187.8 | H4: =SUM(H5:H28) -> 31.8 | J4: Total | K4: =SUM(K5:K28) -> 118.7 | L4: =SUM(L5:L28) -> 100.3 | N4: Total | O4: =SUM(O5:O28) -> 74.1 | P4: =SUM(P5:P28) -> 10.4
B5: Arnhem, Centraal Station | C5: 199.5 | D5: 0 | F5: Velp, Parking Pres. Kennedylaan | G5: 4.8 | H5: 0 | J5: Arnhem, Centraal Station | K5: 67 | L5: 0 | N5: Velp, Parking Pres. Kennedylaan | O5: 1.3 | P5: 0
B6: Arnhem, Willemsplein | C6: 56 | D6: 1 | F6: Velp, Velperbroek | G6: 11.5 | H6: 0 | J6: Arnhem, Willemsplein | K6: 29.5 | L6: 1.3 | N6: Velp, Velperbroek | O6: 6.3 | P6: 0
B7: Arnhem, Bothaplein | C7: 2.6 | D7: 1.3 | F7: Velp, Kerkstraat | G7: 4.7 | H7: 0.1 | J7: Arnhem, Bothaplein | K7: 1.3 | L7: 0.3 | N7: Velp, Kerkstraat | O7: 3.5 | P7: 0
B8: Arnhem, Sonsbeek | C8: 5.9 | D8: 12.1 | F8: Velp, Den Heuvel | G8: 7 | H8: 1.7 | J8: Arnhem, Sonsbeek | K8: 3 | L8: 3.8 | N8: Velp, Den Heuvel | O8: 5 | P8: 1
B9: Arnhem, Ziekenhuis Rijnstate | C9: 18.3 | D9: 68 | F9: Velp, Hogeweg | G9: 1.7 | H9: 0.6 | J9: Arnhem, Ziekenhuis Rijnstate | K9: 4.3 | L9: 5.3 | N9: Velp, Hogeweg | O9: 0.8 | P9: 0.5
B10: Arnhem, Beethovenlaan | C10: 4.2 | D10: 21.3 | F10: Velp, Heemskerklaan | G10: 0.1 | H10: 0.2 | J10: Arnhem, Beethovenlaan | K10: 1.5 | L10: 16.3 | N10: Velp, Heemskerklaan | O10: 0 | P10: 0
B11: Arnhem, Chopinstraat | C11: 3.6 | D11: 4.7 | F11: Velp, Beekhuizenseweg | G11: 6.2 | H11: 0.9 | J11: Arnhem, Chopinstraat | K11: 0.3 | L11: 2.9 | N11: Velp, Beekhuizenseweg | O11: 2.3 | P11: 0
B12: Arnhem, Openluchtmuseum Oost | C12: 1.8 | D12: 21.4 | F12: Velp, Biesdelselaan | G12: 12.6 | H12: 1.4 | J12: Arnhem, Openluchtmuseum Oost | K12: 2.8 | L12: 18.8 | N12: Velp, Biesdelselaan | O12: 1.8 | P12: 0.3
B13: Arnhem, Alteveer | C13: 1.3 | D13: 4.4 | F13: Rozendaal, Rhedens Lyceum | G13: 2.2 | H13: 1.1 | J13: Arnhem, Alteveer | K13: 0.5 | L13: 1.3 | N13: Rozendaal, Rhedens Lyceum | O13: 0.3 | P13: 0
B14: Arnhem, Moscowa/Schelmseweg | C14: 2.2 | D14: 6.5 | F14: Velp, Rozendaalselaan | G14: 3.3 | H14: 0.7 | J14: Arnhem, Moscowa/Schelmseweg | K14: 0.8 | L14: 3.5 | N14: Velp, Rozendaalselaan | O14: 1 | P14: 0.8
B15: Arnhem, CIOS | C15: 2.1 | D15: 77 | F15: Velp, Bergweg | G15: 3.8 | H15: 0.6 | J15: Arnhem, CIOS | K15: 0.3 | L15: 6.4 | N15: Velp, Bergweg | O15: 1.8 | P15: 0
B16: Arnhem, Monnikensteeg | C16: 1 | D16: 4.9 | F16: Rozendaal, Hertog van Gelrestraat | G16: 2.1 | H16: 1.1 | J16: Arnhem, Monnikensteeg | K16: 0.3 | L16: 2.9 | N16: Rozendaal, Hertog van Gelrestraat | O16: 1.5 | P16: 0.5
... B36: Velp, Parking Pres. Kennedylaan | C36: 0 | D36: 1.8 | F36: Arnhem, Willemsplein | G36: 1.7 | H36: 74.7 | J36: Velp, Parking Pres. Kennedylaan | K36: 0 | L36: 1.3 | N36: Arnhem, Willemsplein | O36: 1.8 | P36: 40.2
F37: Arnhem, Centraal Station | G37: 0 | H37: 155 | N37: Arnhem, Centraal Station | O37: 0 | P37: 36.2

Sheet A009 - bezetting
B1: categorisering bezetting | C1: 0 | D1: 8 | E1: 25 | F1: 65
C2: 7.99999 | D2: 24.99999 | E2: 64.99999 | F2: 999
B5: bezettingstelling lijn 9 - van ARNHEM CS - SCHAARSBERGEN - werkdagen | bron: chipkaart gegevens november 2023 | 80 percentiel waarde
B6: ritnummer | C6: 1 | D6: 3 | E6: 5 | F6: 7 | G6: 9 | H6: 11 | I6: 13 | J6: 15 | K6: 17 | L6: 19 | M6: 21 | N6: 23 | O6: 25 | P6: 27 | Q6: 29 | R6: 31 | S6: 33 | T6: 35 | U6: 37 | V6: 39 | W6: 41 | X6: 43 | Y6: 45 | Z6: 47 | AA6: 49 | AB6: 51 | AC6: 53 | AD6: 55 | AE6: 57 | AF6: 59 | AG6: 61
B7: vertrektijd beginhalte | C7: 0.28472222 | D7: 0.30555556 | E7: 0.32638889 | F7: 0.34722222 | G7: 0.36805556 | H7: 0.38888889 | I7: 0.40972222 | J7: 0.43055556 | K7: 0.45138889 | L7: 0.47222222 | M7: 0.49305556 | N7: 0.51388889 | O7: 0.53472222 | P7: 0.55555556 | Q7: 0.57638889 | R7: 0.59722222 | S7: 0.61805556 | T7: 0.63888889 | U7: 0.65972222 | V7: 0.68055556 | W7: 0.70138889 | X7: 0.72222222 | Y7: 0.74305556 | Z7: 0.76388889 | AA7: 0.78472222 | AB7: 0.80555556 | AC7: 0.82638889 | AD7: 0.86805556 | AE7: 0.90972222 | AF7: 0.95138889 | AG7: 0.99305556
B9: Arnhem, Centraal Station | C9: 5 | D9: 8.8 | E9: 9.8 | F9: 12 | G9: 12 | H9: 6.8 | I9: 5 | J9: 3.8 | K9: 7.4 | L9: 5 | M9: 6.8 | N9: 5 | O9: 5 | P9: 4.8 | Q9: 7 | R9: 8.8 | S9: 11.8 | T9: 8.8 | U9: 8.8 | V9: 10.8 | W9: 12 | X9: 10.8 | Y9: 7 | Z9: 7.8 | AA9: 5.6 | AB9: 4.6 | AC9: 3.8 | AD9: 7 | AE9: 5.8 | AF9: 4 | AG9: 4
B10: Arnhem, Willemsplein | C10: 8.8 | D10: 11 | E10: 14 | F10: 16.8 | G10: 17.8 | H10: 9.8 | I10: 7.8 | J10: 4.8 | K10: 8 | L10: 6.8 | M10: 9.8 | N10: 8 | O10: 8 | P10: 14.2 | Q10: 8 | R10: 11 | S10: 13.8 | T10: 12.6 | U10: 12 | V10: 12.8 | W10: 11.8 | X10: 13.8 | Y10: 12 | Z10: 10 | AA10: 6.8 | AB10: 5.8 | AC10: 5.8 | AD10: 7 | AE10: 7 | AF10: 5.8 | AG10: 7.8
B11: Arnhem, Sonsbeekweg | C11: 8.8 | D11: 10.8 | E11: 14 | F11: 16.8 | G11: 19.4 | H11: 9.8 | I11: 7.8 | J11: 5 | K11: 8 | L11: 6.8 | M11: 9.8 | N11: 8 | O11: 8 | P11: 14.6 | Q11: 8 | R11: 11.8 | S11: 14 | T11: 12.6 | U11: 12 | V11: 12.8 | W11: 11.8 | X11: 13.8 | Y11: 11.8 | Z11: 10.8 | AA11: 6 | AB11: 6 | AC11: 5.8 | AD11: 8 | AE11: 7 | AF11: 5.8 | AG11: 7
B12: Arnhem, Burgemeestersplein | C12: 8 | D12: 10.8 | E12: 14 | F12: 17 | G12: 18.6 | H12: 10.6 | I12: 7.8 | J12: 4.8 | K12: 8 | L12: 6.8 | M12: 9.8 | N12: 8 | O12: 8.7 | P12: 12.8 | Q12: 8 | R12: 11.6 | S12: 12.8 | T12: 12.6 | U12: 12 | V12: 12 | W12: 11.8 | X12: 13.8 | Y12: 11 | Z12: 10.8 | AA12: 6 | AB12: 6 | AC12: 5 | AD12: 7.8 | AE12: 7 | AF12: 5.8 | AG12: 7
B13: Arnhem, Burg. Weertsstraat | C13: 8 | D13: 10 | E13: 13.8 | F13: 16 | G13: 17.6 | H13: 9.7 | I13: 7.8 | J13: 5 | K13: 7 | L13: 6 | M13: 9.8 | N13: 7.8 | O13: 8 | P13: 11.7 | Q13: 8 | R13: 11.8 | S13: 13 | T13: 10.8 | U13: 11.7 | V13: 11.8 | W13: 11.6 | X13: 11.8 | Y13: 9.8 | Z13: 8.8 | AA13: 5 | AB13: 5.1 | AC13: 4.8 | AD13: 5.8 | AE13: 7 | AF13: 5.8 | AG13: 6.8
B14: Arnhem, Izaak Evertslaan | C14: 8 | D14: 9.8 | E14: 11 | F14: 15.9 | G14: 16.8 | H14: 8.8 | I14: 7 | J14: 4.8 | K14: 7 | L14: 5.8 | M14: 8 | N14: 7 | O14: 7 | P14: 9.6 | Q14: 7 | R14: 11.6 | S14: 11 | T14: 10.6 | U14: 10.9 | V14: 11.4 | W14: 10.8 | X14: 11.5 | Y14: 9 | Z14: 9 | AA14: 5 | AB14: 5 | AC14: 4 | AD14: 4.8 | AE14: 6 | AF14: 4.8 | AG14: 6.6
B15: Arnhem, van Ruisdaelstraat | C15: 8 | D15: 9 | E15: 9.8 | F15: 15.4 | G15: 15 | H15: 8.8 | I15: 7 | J15: 4 | K15: 6.8 | L15: 5.8 | M15: 8 | N15: 7 | O15: 6.8 | P15: 9.4 | Q15: 7 | R15: 11.5 | S15: 11 | T15: 10.6 | U15: 10.5 | V15: 10 | W15: 10.8 | X15: 10.5 | Y15: 6.9 | Z15: 8.8 | AA15: 5 | AB15: 5 | AC15: 3.8 | AD15: 4.8 | AE15: 5.7 | AF15: 4.8 | AG15: 6.6
B16: Arnhem, Jacob Marislaan | C16: 8 | D16: 9 | E16: 9 | F16: 13.5 | G16: 13.6 | H16: 8 | I16: 5.8 | J16: 3.8 | K16: 5.9 | L16: 4 | M16: 7.6 | N16: 7 | O16: 6 | P16: 9.4 | Q16: 6 | R16: 9 | S16: 11 | T16: 9.9 | U16: 10 | V16: 9.8 | W16: 9 | X16: 10.9 | Y16: 5.9 | Z16: 8.8 | AA16: 4.8 | AB16: 5 | AC16: 3 | AD16: 4 | AE16: 4.6 | AF16: 4.8 | AG16: 4
B17: Arnhem, Mesdaglaan | C17: 7.8 | D17: 9 | E17: 8.8 | F17: 12.8 | G17: 13.6 | H17: 7.8 | I17: 5 | J17: 3 | K17: 5 | L17: 4 | M17: 5.8 | N17: 5.8 | O17: 6 | P17: 9.2 | Q17: 5 | R17: 7.6 | S17: 9 | T17: 8 | U17: 9.7 | V17: 7.6 | W17: 7.8 | X17: 9.8 | Y17: 4.4 | Z17: 6 | AA17: 3.8 | AB17: 4.9 | AC17: 3 | AD17: 3.8 | AE17: 4.5 | AF17: 3.8 | AG17: 3.8
B18: Arnhem, Schelmseweg | C18: 7 | D18: 9 | E18: 8.8 | F18: 12.4 | G18: 12.8 | H18: 7 | I18: 5 | J18: 3 | K18: 5 | L18: 4 | M18: 5 | N18: 5.8 | O18: 5 | P18: 4.8 | Q18: 5 | R18: 5.3 | S18: 6.9 | T18: 6.8 | U18: 6.6 | V18: 6.6 | W18: 8 | X18: 7.8 | Y18: 4 | Z18: 5 | AA18: 3 | AB18: 4 | AC18: 2.4 | AD18: 3 | AE18: 4.4 | AF18: 3.8 | AG18: 2.9
... B27: Schaarsbergen, Koningsweg | C27: 4 | D27: 4 | E27: 5 | F27: 5.8 | G27: 5.8 | H27: 4 | I27: 2 | J27: 1.2 | K27: 2 | L27: 1 | M27: 1.1 | N27: 2 | O27: 1.8 | P27: 1.8 | Q27: 1 | R27: 1.1 | S27: 2.8 | T27: 2.1 | U27: 1 | V27: 2 | W27: 2.4 | X27: 2 | Y27: 2 | Z27: 0 | AA27: 0 | AB27: 0 | AC27: 0 | AD27: 0 | AE27: 0 | AF27: 0 | AG27: 0
B28: Schaarsbergen, Kaderschool Luchtmacht | C28: 4 | D28: 4 | E28: 4 | F28: 5.3 | G28: 1.8 | H28: 3 | I28: 2 | J28: 1 | K28: 1 | L28: 1 | M28: 1 | N28: 2 | O28: 1.8 | P28: 1 | Q28: 1 | R28: 1 | S28: 2.8 | T28: 1 | U28: 0.2 | V28: 1.8 | W28: 2 | X28: 2 | Y28: 1.8
B29: Schaarsbergen, Viersprong | C29: 3 | D29: 2.8 | E29: 3.8 | F29: 4.6 | G29: 1.8 | H29: 2 | I29: 1.8 | J29: 1 | K29: 1 | L29: 1 | M29: 1 | N29: 1 | O29: 1 | P29: 1 | Q29: 1 | R29: 0.9 | S29: 1 | T29: 1 | U29: 0.1 | V29: 1 | W29: 1.9 | X29: 1.8 | Y29: 1
B30: Schaarsbergen, C. van Maasdijklaan | C30: 2.1 | D30: 1 | E30: 1 | F30: 2.1 | G30: 1 | H30: 0 | I30: 0 | J30: 0 | K30: 0.1 | L30: 0 | M30: 0.1 | N30: 0.8 | O30: 0 | P30: 0 | Q30: 1 | R30: 0 | S30: 1 | T30: 1 | U30: 0.1 | V30: 1 | W30: 1.9 | X30: 1.8 | Y30: 1
B31: Schaarsbergen, I.P.C. | C31: 0 | D31: 0 | E31: 0 | F31: 0 | G31: 1 | H31: 0 | I31: 0 | J31: 0 | K31: 0 | L31: 0 | M31: 0 | N31: 0 | O31: 0 | P31: 0 | Q31: 0 | R31: 0 | S31: 0 | T31: 0 | U31: 0 | V31: 0 | W31: 0 | X31: 0 | Y31: 0
B32: MaxBezetting | C32: =MAX(C9:C31) -> 8.8 | D32: =MAX(D9:D31) -> 11 | E32: =MAX(E9:E31) -> 14 | F32: =MAX(F9:F31) -> 17 | G32: =MAX(G9:G31) -> 19.4 | H32: =MAX(H9:H31) -> 10.6 | I32: =MAX(I9:I31) -> 7.8 | J32: =MAX(J9:J31) -> 5 | ... AG32: =MAX(AG9:AG31) -> 7.8
B33: uurblok | C33: =HOUR(C7) -> 6 | D33: =HOUR(D7) -> 7 | E33: =HOUR(E7) -> 7 | F33: =HOUR(F7) -> 8 | G33: =HOUR(G7) -> 8 | H33: =HOUR(H7) -> 9 | I33: =HOUR(I7) -> 9 | J33: =HOUR(J7) -> 10 | ... AG33: =HOUR(AG7) -> 23
B36: bezettingstelling lijn 9 - van SCHAARSBERGEN naar ARNHEM CS - werkdagen | bron: chipkaart gegevens november 2023 | 80 percentiel waarde
B37: ritnummer | C37: 2 | D37: 4 | E37: 6 | F37: 8 | G37: 10 | H37: 12 | I37: 14 | J37: 16 | K37: 18 | L37: 20 | M37: 22 | N37: 24 | O37: 26 | P37: 28 | Q37: 30 | R37: 32 | S37: 34 | T37: 36 | U37: 38 | V37: 40 | W37: 42 | X37: 44 | Y37: 46 | Z37: 48 | AA37: 50 | AB37: 52 | AC37: 54 | AD37: 56 | AE37: 58 | AF37: 60 | AG37: 62 | AH37: 64 | AI37: 66
B38: vertrektijd beginhalte | C38: 0.26180556 | D38: 0.28263889 | E38: 0.30347222 | F38: 0.32430556 | G38: 0.34513889 | H38: 0.36597222 | I38: 0.38680556 | J38: 0.40763889 | K38: 0.42847222 | L38: 0.44930556 | M38: 0.47013889 | N38: 0.49097222 | O38: 0.51180556 | P38: 0.53263889 | Q38: 0.55347222 | R38: 0.57430556 | S38: 0.59583333 | T38: 0.61666667 | U38: 0.6375 | V38: 0.65833333 | W38: 0.67916667 | X38: 0.7 | Y38: 0.72083333 | Z38: 0.74166667 | AA38: 0.75833333 | AB38: 0.77777778 | AC38: 0.79861111 | AD38: 0.81944444 | AE38: 0.84027778 | AF38: 0.88194444 | AG38: 0.92361111 | AH38: 0.96527778 | AI38: 1.0069444
B40: Schaarsbergen, I.P.C. | C40: 0 | D40: 0 | E40: 0 | F40: 0 | G40: 0 | H40: 0 | I40: 0 | J40: 0 | K40: 0 | L40: 0 | M40: 0 | N40: 1 | O40: 0 | P40: 0 | Q40: 0 | R40: 0 | S40: 0 | T40: 0 | U40: 0 | V40: 2.8 | W40: 1 | X40: 1 | Y40: 1 | Z40: 0 | AA40: 0
B41: Deelen, Hoenderloseweg | C41: 0 | D41: 0 | E41: 0 | F41: 0 | G41: 0 | H41: 0 | I41: 0 | J41: 1 | K41: 0.8 | L41: 1 | M41: 1.8 | N41: 1 | O41: 2 | P41: 1.8 | Q41: 1.8 | R41: 1 | S41: 1 | T41: 2 | U41: 1 | V41: 3 | W41: 1 | X41: 1.8 | Y41: 1 | Z41: 0 | AA41: 0
B42: Schaarsbergen, C. van Maasdijklaan | C42: 0 | D42: 0 | E42: 0 | F42: 0 | G42: 0 | H42: 0 | I42: 1 | J42: 1 | K42: 1 | L42: 1 | M42: 2 | N42: 1.8 | O42: 3 | P42: 2 | Q42: 1.8 | R42: 1 | S42: 1 | T42: 2 | U42: 3 | V42: 6 | W42: 4.6 | X42: 2 | Y42: 1.8 | Z42: 0 | AA42: 0
B43: Schaarsbergen, Viersprong | C43: 0 | D43: 0 | E43: 0 | F43: 0 | G43: 1 | H43: 0.8 | I43: 1 | J43: 1.8 | K43: 1.8 | L43: 1 | M43: 3 | N43: 1.8 | O43: 3.8 | P43: 2 | Q43: 2 | R43: 1 | S43: 2 | T43: 2.7 | U43: 3 | V43: 6 | W43: 4.8 | X43: 3.8 | Y43: 2 | Z43: 1 | AA43: 0
B44: Schaarsbergen, Kaderschool Luchtmacht | C44: 0 | D44: 1 | E44: 1 | F44: 0 | G44: 1 | H44: 2 | I44: 1.8 | J44: 2 | K44: 1.8 | L44: 1 | M44: 3 | N44: 1.8 | O44: 3.8 | P44: 2 | Q44: 2 | R44: 1 | S44: 2 | T44: 3 | U44: 3 | V44: 6 | W44: 5 | X44: 5 | Y44: 5 | Z44: 3 | AA44: 0.8
B45: Schaarsbergen, Koningsweg | C45: 0 | D45: 1.8 | E45: 1.8 | F45: 2 | G45: 2 | H45: 2 | I45: 2 | J45: 2 | K45: 4 | L45: 2.8 | M45: 4 | N45: 2.8 | O45: 3 | P45: 3.8 | Q45: 2 | R45: 2 | S45: 2 | T45: 3 | U45: 4.8 | V45: 6.8 | W45: 7.8 | X45: 7.8 | Y45: 5.8 | Z45: 4 | AA45: 1.8 | AB45: 0.8 | AC45: 1 | AD45: 2 | AE45: 1 | AF45: 1.8 | AG45: 2 | AH45: 1 | AI45: 0
B46: Schaarsbergen, Museum 40-45 | C46: 0 | D46: 2 | E46: 1.8 | F46: 2 | G46: 2 | H46: 2.8 | I46: 2 | J46: 2.8 | K46: 4.8 | L46: 3 | M46: 5 | N46: 4.8 | O46: 5 | P46: 4 | Q46: 2.8 | R46: 3 | S46: 3.8 | T46: 4.8 | U46: 5.8 | V46: 9.6 | W46: 8 | X46: 9.8 | Y46: 7.8 | Z46: 4 | AA46: 2 | AB46: 1 | AC46: 1 | AD46: 2.8 | AE46: 1 | AF46: 1.8 | AG46: 2 | AH46: 1 | AI46: 0
B47: Schaarsbergen, Pannekoekhuis | C47: 0 | D47: 2 | E47: 2 | F47: 3 | G47: 2.8 | H47: 3 | I47: 2 | J47: 3.8 | K47: 4.8 | L47: 3 | M47: 5 | N47: 5 | O47: 6 | P47: 4.8 | Q47: 3.8 | R47: 4 | S47: 4 | T47: 5 | U47: 5.8 | V47: 9.6 | W47: 9 | X47: 9.8 | Y47: 7.8 | Z47: 4 | AA47: 3 | AB47: 1.8 | AC47: 1 | AD47: 3 | AE47: 1.8 | AF47: 2 | AG47: 2 | AH47: 1 | AI47: 0
B48: Schaarsbergen, Dennenheide | C48: 0 | D48: 2 | E48: 2 | F48: 3 | G48: 2.8 | H48: 3 | I48: 2 | J48: 3.8 | K48: 4.8 | L48: 3 | M48: 5 | N48: 5 | O48: 6 | P48: 4.8 | Q48: 3.8 | R48: 4 | S48: 4 | T48: 5 | U48: 5.8 | V48: 9.6 | W48: 9 | X48: 9.8 | Y48: 7.8 | Z48: 4 | AA48: 3 | AB48: 1.8 | AC48: 1 | AD48: 3 | AE48: 1.8 | AF48: 2 | AG48: 2 | AH48: 1 | AI48: 0
B49: Schaarsbergen, Casa Nova | C49: 0 | D49: 2.8 | E49: 2 | F49: 3 | G49: 3 | H49: 3 | I49: 2 | J49: 3.8 | K49: 4.8 | L49: 3 | M49: 5 | N49: 5.8 | O49: 6 | P49: 4.8 | Q49: 3.8 | R49: 4 | S49: 4 | T49: 5.8 | U49: 5.8 | V49: 10.4 | W49: 9 | X49: 9.8 | Y49: 7.8 | Z49: 4 | AA49: 3 | AB49: 1.8 | AC49: 1 | AD49: 3 | AE49: 1.8 | AF49: 2 | AG49: 2 | AH49: 1 | AI49: 0
B50: Schaarsbergen, Kemperbergerweg | C50: 0 | D50: 2.8 | E50: 2 | F50: 4 | G50: 3 | H50: 3 | I50: 4 | J50: 4 | K50: 6 | L50: 3 | M50: 5 | N50: 6 | O50: 7 | P50: 4.8 | Q50: 4 | R50: 4.8 | S50: 4 | T50: 5.8 | U50: 6 | V50: 9.6 | W50: 9 | X50: 9.8 | Y50: 7.8 | Z50: 4 | AA50: 3 | AB50: 1.8 | AC50: 1 | AD50: 3 | AE50: 1.8 | AF50: 2 | AG50: 2 | AH50: 1 | AI50: 0
B51: Schaarsbergen, Menthenbergseweg | C51: 0 | D51: 2.8 | E51: 2.8 | F51: 4 | G51: 4 | H51: 3 | I51: 4 | J51: 4.8 | K51: 6 | L51: 3 | M51: 5 | N51: 7 | O51: 7 | P51: 5 | Q51: 4 | R51: 5 | S51: 4.8 | T51: 5.8 | U51: 6.8 | V51: 11 | W51: 9 | X51: 10.8 | Y51: 8 | Z51: 4 | AA51: 3 | AB51: 3 | AC51: 1 | AD51: 3 | AE51: 1.8 | AF51: 2 | AG51: 2 | AH51: 1 | AI51: 0
B52: Schaarsbergen, Warnsborn | C52: 0 | D52: 2.8 | E52: 2.8 | F52: 4 | G52: 4 | H52: 3.8 | I52: 4 | J52: 5 | K52: 6 | L52: 3.8 | M52: 5 | N52: 7.8 | O52: 7 | P52: 5 | Q52: 5.8 | R52: 5.8 | S52: 6 | T52: 9 | U52: 6.8 | V52: 11 | W52: 9.8 | X52: 10.8 | Y52: 8 | Z52: 4 | AA52: 3 | AB52: 3 | AC52: 1 | AD52: 3 | AE52: 1.8 | AF52: 2 | AG52: 2 | AH52: 1 | AI52: 0
B53: Schaarsbergen, Lijnbaan | C53: 0 | D53: 2.8 | E53: 4 | F53: 5 | G53: 4 | H53: 4 | I53: 4 | J53: 5.8 | K53: 7 | L53: 4 | M53: 5.8 | N53: 7.8 | O53: 7.8 | P53: 6 | Q53: 6 | R53: 6.6 | S53: 7 | T53: 9 | U53: 7 | V53: 12.6 | W53: 9.8 | X53: 10.8 | Y53: 8 | Z53: 4 | AA53: 3.8 | AB53: 3 | AC53: 1 | AD53: 3 | AE53: 2 | AF53: 3 | AG53: 2 | AH53: 1.8 | AI53: 0
B54: Arnhem, Schelmseweg | C54: 0 | D54: 3 | E54: 4 | F54: 8 | G54: 8 | H54: 5.8 | I54: 4.8 | J54: 7.8 | K54: 7 | L54: 4 | M54: 5.8 | N54: 8 | O54: 8.6 | P54: 6.8 | Q54: 6 | R54: 6.8 | S54: 7.8 | T54: 10 | U54: 8 | V54: 12.8 | W54: 11 | X54: 12 | Y54: 11.8 | Z54: 4.8 | AA54: 4 | AB54: 3 | AC54: 1 | AD54: 4 | AE54: 3 | AF54: 3 | AG54: 2.8 | AH54: 3 | AI54: 0
...

Sheet A009 - in uitstap per halte
B2: Lijn A009 - ri.1 - nov 2023 | F2: Lijn A009 - ri.2 - nov 2023 | J2: Lijn A009 - ri.1 - nov 2023 | N2: Lijn A009 - ri.2 - nov 2023 | R2: Lijn A009 - ri.1 - nov 2023 | V2: Lijn A009 - ri.2 - nov 2023
B3: werkdag-gemiddelde | C3: CI | D3: CO | F3: werkdag-gemiddelde | G3: CI | H3: CO | J3: zaterdag-gemiddelde | K3: CI | L3: CO | N3: zaterdag-gemiddelde | O3: CI | P3: CO | R3: zondag-gemiddelde | S3: CI | T3: CO | V3: zondag-gemiddelde | W3: CI | X3: CO
B4: Total | C4: =SUM(C5:C28) -> 254.7 | D4: =SUM(D5:D28) -> 250.1 | F4: Total | G4: =SUM(G5:G28) -> 235.1 | H4: =SUM(H5:H28) -> 231.1 | J4: Total | K4: =SUM(K5:K28) -> 185.4 | L4: =SUM(L5:L28) -> 180.6 | N4: Total | O4: =SUM(O5:O28) -> 185.1 | P4: =SUM(P5:P28) -> 181.1 | R4: Total | S4: =SUM(S5:S28) -> 124.4 | T4: =SUM(T5:T28) -> 118.8 | V4: Total | W4: =SUM(W5:W28) -> 126.6 | X4: =SUM(X5:X28) -> 123.6
B5: Arnhem, Centraal Station | C5: 156 | D5: 0 | F5: Schaarsbergen, I.P.C. | G5: 6.6 | H5: 0 | J5: Arnhem, Centraal Station | K5: 109.3 | L5: 0 | N5: Schaarsbergen, Koningsweg | O5: 43.8 | P5: 0 | R5: Arnhem, Centraal Station | S5: 69.8 | T5: 0 | V5: Schaarsbergen, Koningsweg | W5: 25.3 | X5: 0
B6: Arnhem, Willemsplein | C6: 75.5 | D6: 2 | F6: Deelen, Hoenderloseweg | G6: 7 | H6: 0.5 | J6: Arnhem, Willemsplein | K6: 53.3 | L6: 2.5 | N6: Schaarsbergen, Museum 40-45 | O6: 8.5 | P6: 0 | R6: Arnhem, Willemsplein | S6: 41.3 | T6: 0.8 | V6: Schaarsbergen, Museum 40-45 | W6: 3.8 | X6: 0
B7: Arnhem, Sonsbeekweg | C7: 4.7 | D7: 1.7 | F7: Schaarsbergen, C. van Maasdijklaan | G7: 11.5 | H7: 0.2 | J7: Arnhem, Sonsbeekweg | K7: 4.5 | L7: 0.3 | N7: Schaarsbergen, Pannekoekhuis | O7: 6 | P7: 0.3 | R7: Arnhem, Sonsbeekweg | S7: 3.8 | T7: 0.5 | V7: Schaarsbergen, Pannekoekhuis | W7: 6 | X7: 0
B8: Arnhem, Burgemeestersplein | C8: 3.1 | D8: 7.5 | F8: Schaarsbergen, Viersprong | G8: 6.2 | H8: 0 | J8: Arnhem, Burgemeestersplein | K8: 3 | L8: 4.3 | N8: Schaarsbergen, Dennenheide | O8: 1.3 | P8: 0 | R8: Arnhem, Burgemeestersplein | S8: 0.8 | T8: 2.2 | V8: Schaarsbergen, Dennenheide | W8: 0 | X8: 0
B9: Arnhem, Burg. Weertsstraat | C9: 9.3 | D9: 24.1 | F9: Schaarsbergen, Kaderschool Luchtmacht | G9: 8.4 | H9: 0.1 | J9: Arnhem, Burg. Weertsstraat | K9: 7.5 | L9: 23.3 | N9: Schaarsbergen, Casa Nova | O9: 3.3 | P9: 0.3 | R9: Arnhem, Burg. Weertsstraat | S9: 5.8 | T9: 13.2 | V9: Schaarsbergen, Casa Nova | W9: 2 | X9: 0
B10: Arnhem, Izaak Evertslaan | C10: 1.9 | D10: 18.5 | F10: Schaarsbergen, Koningsweg | G10: 24.7 | H10: 0.4 | J10: Arnhem, Izaak Evertslaan | K10: 2.3 | L10: 15.5 | N10: Schaarsbergen, Kemperbergerweg | O10: 4.8 | P10: 0 | R10: Arnhem, Izaak Evertslaan | S10: 1 | T10: 7.4 | V10: Schaarsbergen, Kemperbergerweg | W10: 2.3 | X10: 0
B11: Arnhem, van Ruisdaelstraat | C11: 0.6 | D11: 13 | F11: Schaarsbergen, Museum 40-45 | G11: 14.3 | H11: 0 | J11: Arnhem, van Ruisdaelstraat | K11: 0.5 | L11: 7.7 | N11: Schaarsbergen, Menthenbergseweg | O11: 6.5 | P11: 0 | R11: Arnhem, van Ruisdaelstraat | S11: 0.3 | T11: 2.8 | V11: Schaarsbergen, Menthenbergseweg | W11: 7.5 | X11: 0.3
B12: Arnhem, Jacob Marislaan | C12: 0.8 | D12: 18.3 | F12: Schaarsbergen, Pannekoekhuis | G12: 6.7 | H12: 0.4 | J12: Arnhem, Jacob Marislaan | K12: 1.3 | L12: 8.7 | N12: Schaarsbergen, Warnsborn | O12: 7.5 | P12: 0 | R12: Arnhem, Jacob Marislaan | S12: 0 | T12: 8.1 | V12: Schaarsbergen, Warnsborn | W12: 7.5 | X12: 0
B13: Arnhem, Mesdaglaan | C13: 0.3 | D13: 22.2 | F13: Schaarsbergen, Dennenheide | G13: 0.3 | H13: 0 | J13: Arnhem, Mesdaglaan | K13: 0.3 | L13: 22.4 | N13: Schaarsbergen, Lijnbaan | O13: 12.8 | P13: 0 | R13: Arnhem, Mesdaglaan | S13: 0 | T13: 10.1 | V13: Schaarsbergen, Lijnbaan | W13: 12.8 | X13: 0
B14: Arnhem, Schelmseweg | C14: 0.6 | D14: 17.4 | F14: Schaarsbergen, Casa Nova | G14: 3.5 | H14: 0 | J14: Arnhem, Schelmseweg | K14: 0.8 | L14: 13.5 | N14: Arnhem, Schelmseweg | O14: 21.3 | P14: 0.9 | R14: Arnhem, Schelmseweg | S14: 0.3 | T14: 11.4 | V14: Arnhem, Schelmseweg | W14: 15 | X14: 0
B15: Schaarsbergen, Lijnbaan | C15: 0.2 | D15: 12.7 | F15: Schaarsbergen, Kemperbergerweg | G15: 7.2 | H15: 0.2 | J15: Schaarsbergen, Lijnbaan | K15: 0.5 | L15: 13 | N15: Arnhem, Mesdaglaan | O15: 12.8 | P15: 0.5 | R15: Schaarsbergen, Lijnbaan | S15: 0.8 | T15: 14.9 | V15: Arnhem, Mesdaglaan | W15: 7 | X15: 0
B16: Schaarsbergen, Warnsborn | C16: 0.2 | D16: 8.3 | F16: Schaarsbergen, Menthenbergseweg | G16: 7.8 | H16: 0.1 | J16: Schaarsbergen, Warnsborn | K16: 0.5 | L16: 10.6 | N16: Arnhem, Jacob Marislaan | O16: 8 | P16: 0.5 | R16: Schaarsbergen, Warnsborn | S16: 0 | T16: 6.1 | V16: Arnhem, Jacob Marislaan | W16: 13.5 | X16: 0.5
... B23: Schaarsbergen, Koningsweg | C23: 0.5 | D23: 21.9 | F23: Arnhem, Izaak Evertslaan | G23: 14 | H23: 1.9 | J23: Schaarsbergen, Koningsweg | K23: 0 | L23: 32 | N23: Arnhem, Centraal Station | O23: 0 | P23: 56.9 | R23: Schaarsbergen, Koningsweg | S23: 0 | T23: 17.8 | V23: Arnhem, Centraal Station | W23: 0 | X23: 50.3
B24: Schaarsbergen, Kaderschool Luchtmacht | C24: 0 | D24: 7.5 | F24: Arnhem, Burg. Weertsstraat | G24: 23.9 | H24: 6.4
B25: Schaarsbergen, Viersprong | C25: 0.1 | D25: 6.1 | F25: Arnhem, Burgemeestersplein | G25: 3.5 | H25: 8.9
B26: Schaarsbergen, C. van Maasdijklaan | C26: 0.1 | D26: 10.4 | F26: Arnhem, Sonsbeekweg | G26: 0.7 | H26: 7.5
B27: Schaarsbergen, I.P.C. | C27: 0 | D27: 9.1 | F27: Arnhem, Willemsplein | G27: 3 | H27: 112.6
F28: Arnhem, Centraal Station | G28: 0 | H28: 90.2

Sheet A010 - bezetting
A1: categorisering bezetting | B1: 0 | C1: 8 | D1: 25 | E1: 65
B2: =C1-0.00001 -> 7.99999 | C2: =D1-0.00001 -> 24.99999 | D2: =E1-0.00001 -> 64.99999 | E2: 999
A5: bezettingstelling lijn 10 - van ARNHEM CS - Papendal - werkdagen | bron: chipkaart gegevens november 2023 | 80 percentiel waarde
A6: ritnummer | B6: 1 | C6: 3 | D6: 5 | E6: 9 | F6: 13 | G6: 17 | H6: 21 | I6: 23 | J6: 25 | K6: 27 | L6: 29 | M6: 31 | N6: 33 | O6: 35 | P6: 37 | Q6: 39 | R6: 41 | S6: 43 | T6: 45 | U6: 47 | V6: 49 | W6: 51 | X6: 53 | Y6: 55 | Z6: 57 | AA6: 59 | AB6: 61 | AE6: groen omcirkeld, de ritten die we willen behouden als spitsverdichting op lijn 105
A7: vertrektijd beginhalte | B7: 0.28055556 | C7: 0.30138889 | D7: 0.32222222 | E7: 0.34305556 | F7: 0.36388889 | G7: 0.38472222 | H7: 0.40555556 | I7: 0.42638889 | J7: 0.44722222 | K7: 0.46805556 | L7: 0.48888889 | M7: 0.50555556 | N7: 0.52638889 | O7: 0.54722222 | P7: 0.56805556 | Q7: 0.58888889 | R7: 0.60972222 | S7: 0.62847222 | T7: 0.64930556 | U7: 0.67013889 | V7: 0.69097222 | W7: 0.71180556 | X7: 0.73263889 | Y7: 0.75347222 | Z7: 0.79513889 | AA7: 0.83680556 | AB7: 0.87847222
A9: Arnhem, Centraal Station | B9: 2 | C9: 2.8 | D9: 7.8 | E9: 21.8 | F9: 16.8 | G9: 12 | H9: 9.8 | I9: 8.8 | J9: 11.8 | K9: 9 | L9: 13.2 | M9: 8 | N9: 8.8 | O9: 14.6 | P9: 10 | Q9: 11.8 | R9: 8.8 | S9: 8 | T9: 11.8 | U9: 8.4 | V9: 10.8 | W9: 6.8 | X9: 5 | Y9: 6 | Z9: 4 | AA9: 3 | AB9: 5 | AD9: Op momenten dat lijn 10 niet rijdt is lijn 105 beschikbaar als alternatief, waarbij moet worden aangetekend dat lijn 105 niet het Papendalterrein oprijdt maar halteert aan de doorgaande weg voor Papendal.
A10: Arnhem, Willemsplein | B10: 3.8 | C10: 3.8 | D10: 10.8 | E10: 28.4 | F10: 25.8 | G10: 16 | H10: 12 | I10: 12.8 | J10: 12.8 | K10: 13 | L10: 15.6 | M10: 12 | N10: 12 | O10: 15 | P10: 11.8 | Q10: 13 | R10: 10 | S10: 9.8 | T10: 11.8 | U10: 12.4 | V10: 13.4 | W10: 7.8 | X10: 8.8 | Y10: 6 | Z10: 6.8 | AA10: 3 | AB10: 5
A11: Arnhem, Centraal Stat.(Sonsbeek) | B11: 4.8 | C11: 4 | D11: 17.8 | E11: 41.8 | F11: 36.6 | G11: 26.8 | H11: 22.6 | I11: 19.8 | J11: 18.8 | K11: 22 | L11: 17.6 | M11: 15.8 | N11: 17 | O11: 16 | P11: 13 | Q11: 15 | R11: 11 | S11: 12 | T11: 13.8 | U11: 13.1 | V11: 13.4 | W11: 9.8 | X11: 9.4 | Y11: 6 | Z11: 6.8 | AA11: 4 | AB11: 5
A12: Arnhem, Burg. Weertsstraat | B12: 4.8 | C12: 4 | D12: 17 | E12: 39 | F12: 35.8 | G12: 26.6 | H12: 21.8 | I12: 19 | J12: 18.8 | K12: 20.4 | L12: 16 | M12: 15 | N12: 15.8 | O12: 15.6 | P12: 12 | Q12: 12 | R12: 10 | S12: 11 | T12: 11 | U12: 10.2 | V12: 10.6 | W12: 7.6 | X12: 6 | Y12: 5.8 | Z12: 6.9 | AA12: 2.8 | AB12: 4
A13: Arnhem, Brouwerijweg | B13: 4 | C13: 4 | D13: 17 | E13: 37.8 | F13: 34 | G13: 26.4 | H13: 21.6 | I13: 18 | J13: 17.8 | K13: 18 | L13: 15.8 | M13: 14.8 | N13: 15.6 | O13: 15.6 | P13: 12 | Q13: 11.8 | R13: 9.8 | S13: 10.6 | T13: 10.8 | U13: 10 | V13: 10.4 | W13: 7.6 | X13: 5.9 | Y13: 5 | Z13: 6.9 | AA13: 2 | AB13: 3.8
A14: Arnhem, van Wageningenstraat | B14: 4 | C14: 4 | D14: 16.8 | E14: 31 | F14: 25.8 | G14: 18 | H14: 12.9 | I14: 12 | J14: 9.5 | K14: 9.7 | L14: 10 | M14: 11 | N14: 14.6 | O14: 13.9 | P14: 9 | Q14: 10.8 | R14: 9.5 | S14: 8.9 | T14: 9.8 | U14: 9.8 | V14: 10.4 | W14: 7.3 | X14: 5.9 | Y14: 4.6 | Z14: 6.3 | AA14: 2 | AB14: 3.8
A15: Arnhem, Tormentilstraat | B15: 4 | C15: 4 | D15: 16.8 | E15: 31 | F15: 25.8 | G15: 18 | H15: 12.3 | I15: 12 | J15: 9 | K15: 9 | L15: 10 | M15: 10.8 | N15: 14.8 | O15: 13.9 | P15: 9 | Q15: 10.8 | R15: 8.7 | S15: 8.8 | T15: 9.8 | U15: 8.4 | V15: 10.4 | W15: 6.3 | X15: 5 | Y15: 4.5 | Z15: 5.6 | AA15: 2 | AB15: 2
A16: Arnhem, Gentiaanstraat | B16: 4 | C16: 4.8 | D16: 16 | E16: 31 | F16: 25.4 | G16: 18 | H16: 10.8 | I16: 10.9 | J16: 8.9 | K16: 8 | L16: 9.8 | M16: 9.6 | N16: 13.9 | O16: 13.4 | P16: 9 | Q16: 9.8 | R16: 8.7 | S16: 7.4 | T16: 7.9 | U16: 8 | V16: 8.8 | W16: 4 | X16: 4 | Y16: 3.9 | Z16: 3 | AA16: 1 | AB16: 1
A17: Arnhem, Callunastraat | B17: 4 | C17: 4 | D17: 15 | E17: 26.6 | F17: 24.6 | G17: 18 | H17: 10.4 | I17: 10.8 | J17: 8.9 | K17: 8 | L17: 10 | M17: 8.4 | N17: 13.1 | O17: 12.6 | P17: 7.4 | Q17: 8.8 | R17: 6.5 | S17: 6.9 | T17: 7.4 | U17: 8 | V17: 8.8 | W17: 4 | X17: 3.8 | Y17: 3.2 | Z17: 2.9 | AA17: 1 | AB17: 1
A18: Arnhem, Het Dorp | B18: 3.8 | C18: 4 | D18: 10.9 | E18: 20.5 | F18: 19.8 | G18: 15 | H18: 8.6 | I18: 10 | J18: 7 | K18: 7.3 | L18: 7.8 | M18: 6 | N18: 11 | O18: 12.4 | P18: 5.3 | Q18: 6.8 | R18: 5.3 | S18: 6.5 | T18: 7 | U18: 7 | V18: 7.8 | W18: 4 | X18: 3 | Y18: 3 | Z18: 0 | AA18: 0 | AB18: 0
A19: Arnhem, Schelmseweg | B19: 3.8 | C19: 4 | D19: 10 | E19: 20.5 | F19: 19.8 | G19: 15 | H19: 8.8 | I19: 8.9 | J19: 7 | K19: 6.8 | L19: 7.8 | M19: 6 | N19: 10.6 | O19: 10.6 | P19: 4.9 | Q19: 5 | R19: 4.8 | S19: 6 | T19: 5.8 | U19: 6 | V19: 6.8 | W19: 3 | X19: 3 | Y19: 3
A20: Arnhem, Klein Warnsborn | B20: 3.8 | C20: 4.8 | D20: 10 | E20: 20.5 | F20: 19.8 | G20: 15 | H20: 8.8 | I20: 9 | J20: 7 | K20: 6.8 | L20: 7.8 | M20: 6 | N20: 10.6 | O20: 10.6 | P20: 4.9 | Q20: 5 | R20: 5.1 | S20: 6 | T20: 5 | U20: 6 | V20: 6.8 | W20: 3 | X20: 3 | Y20: 2.8
A21: Arnhem, De Vijverberg | B21: 3.8 | C21: 4.8 | D21: 10 | E21: 20.5 | F21: 19.8 | G21: 14.8 | H21: 8.8 | I21: 9 | J21: 7 | K21: 6.8 | L21: 7.8 | M21: 6 | N21: 10.6 | O21: 10.6 | P21: 4.9 | Q21: 5 | R21: 5 | S21: 6 | T21: 5 | U21: 6 | V21: 6.8 | W21: 3 | X21: 3 | Y21: 2.8
A22: Arnhem, De Leeren Doedel | B22: 3.8 | C22: 4 | D22: 10 | E22: 20.5 | F22: 19.8 | G22: 14.8 | H22: 8.8 | I22: 9 | J22: 7 | K22: 6.8 | L22: 7.8 | M22: 6 | N22: 10.6 | O22: 10.6 | P22: 4.9 | Q22: 5.8 | R22: 5 | S22: 6 | T22: 4.9 | U22: 6 | V22: 6.8 | W22: 3 | X22: 3.8 | Y22: 2
A23: Arnhem, Maasbergseweg | B23: 3.8 | C23: 4 | D23: 7 | E23: 20.9 | F23: 19 | G23: 13 | H23: 7.8 | I23: 8 | J23: 6.8 | K23: 7.2 | L23: 5.8 | M23: 5.8 | N23: 10 | O23: 10.6 | P23: 4.8 | Q23: 5.8 | R23: 6.8 | S23: 7 | T23: 4.8 | U23: 6.8 | V23: 6.8 | W23: 4 | X23: 4 | Y23: 2
A24: Arnhem, v. d. Valk Hotel Arnhem | B24: 3 | C24: 4 | D24: 7 | E24: 17 | F24: 18 | G24: 10.4 | H24: 7 | I24: 7.8 | J24: 6.8 | K24: 5.9 | L24: 5.8 | M24: 5.8 | N24: 9.9 | O24: 9.6 | P24: 4.8 | Q24: 5.8 | R24: 6.8 | S24: 7 | T24: 4.2 | U24: 6 | V24: 6.8 | W24: 3.8 | X24: 4 | Y24: 2
A25: Arnhem, Sportcentrum Papendal | B25: 0 | C25: 1.8 | D25: 1 | E25: 1 | F25: 1 | G25: 2 | H25: 1.8 | I25: 1 | J25: 2 | K25: 1.8 | L25: 2.8 | M25: 2 | N25: 1.8 | O25: 1 | P25: 2 | Q25: 2 | R25: 4 | S25: 3 | T25: 1.8 | U25: 3.8 | V25: 6.6 | W25: 1.8 | X25: 3.6 | Y25: 0.8
A26: MaxBezetting | B26: =MAX(B9:B25) -> 4.8 | C26: =MAX(C9:C25) -> 4.8 | D26: =MAX(D9:D25) -> 17.8 | E26: =MAX(E9:E25) -> 41.8 | F26: =MAX(F9:F25) -> 36.6 | G26: =MAX(G9:G25) -> 26.8 | H26: =MAX(H9:H25) -> 22.6 | I26: =MAX(I9:I25) -> 19.8 | ... AB26: =MAX(AB9:AB25) -> 5
A27: uurblok | B27: =HOUR(B7) -> 6 | C27: =HOUR(C7) -> 7 | D27: =HOUR(D7) -> 7 | E27: =HOUR(E7) -> 8 | F27: =HOUR(F7) -> 8 | G27: =HOUR(G7) -> 9 | H27: =HOUR(H7) -> 9 | I27: =HOUR(I7) -> 10 | ... AB27: =HOUR(AB7) -> 21
A30: bezettingstelling lijn 10 - van ARNHEM Papendal - CS - werkdagen | bron: chipkaart gegevens november 2023 | 80 percentiel waarde
A31: ritnummer | B31: 2 | C31: 4 | D31: 8 | E31: 12 | F31: 16 | G31: 20 | H31: 22 | I31: 24 | J31: 26 | K31: 28 | L31: 30 | M31: 32 | N31: 34 | O31: 36 | P31: 38 | Q31: 40 | R31: 42 | S31: 44 | T31: 46 | U31: 48 | V31: 50 | W31: 52 | X31: 54 | Y31: 56 | Z31: 58 | AA31: 60 | AB31: 62
A32: vertrektijd beginhalte | B32: 0.29652778 | C32: 0.31736111 | D32: 0.34097222 | E32: 0.36180556 | F32: 0.38263889 | G32: 0.40069444 | H32: 0.42152778 | I32: 0.44236111 | J32: 0.46319444 | K32: 0.48402778 | L32: 0.50486111 | M32: 0.52152778 | N32: 0.54236111 | O32: 0.56319444 | P32: 0.58402778 | Q32: 0.60486111 | R32: 0.62569444 | S32: 0.64444444 | T32: 0.66527778 | U32: 0.68611111 | V32: 0.70694444 | W32: 0.72777778 | X32: 0.74861111 | Y32: 0.76944444 | Z32: 0.80625 | AA32: 0.84791667 | AB32: 0.88958333
A34: Arnhem, Sportcentrum Papendal | B34: 0 | C34: 2 | D34: 5.8 | E34: 1 | F34: 5 | G34: 3 | H34: 3 | I34: 3.8 | J34: 4 | K34: 11.8 | L34: 5.8 | M34: 5 | N34: 4 | O34: 4.8 | P34: 5.8 | Q34: 6.8 | R34: 14.8 | S34: 7 | T34: 16 | U34: 18 | V34: 11 | W34: 5 | X34: 8.8 | Y34: 3
A35: Arnhem, Van der Valk/Papendal | B35: 0 | C35: 2 | D35: 5.8 | E35: 1 | F35: 5 | G35: 3 | H35: 3.8 | I35: 4 | J35: 5 | K35: 12 | L35: 6.8 | M35: 6 | N35: 6 | O35: 6 | P35: 9 | Q35: 8 | R35: 15 | S35: 8.8 | T35: 18 | U35: 19.8 | V35: 13 | W35: 8 | X35: 8.8 | Y35: 3.8
A36: Arnhem, De Leeren Doedel | B36: 0 | C36: 1.8 | D36: 5.8 | E36: 1 | F36: 5 | G36: 3 | H36: 3.8 | I36: 4 | J36: 5 | K36: 12 | L36: 6 | M36: 6 | N36: 6 | O36: 6 | P36: 9 | Q36: 8 | R36: 15 | S36: 8.8 | T36: 18.8 | U36: 19.8 | V36: 13 | W36: 7.6 | X36: 8.8 | Y36: 3.8
A37: Arnhem, De Vijverberg | B37: 0 | C37: 1.8 | D37: 5.8 | E37: 1 | F37: 5 | G37: 3 | H37: 3.8 | I37: 4 | J37: 5 | K37: 12 | L37: 6 | M37: 6 | N37: 6 | O37: 6 | P37: 9 | Q37: 8 | R37: 15 | S37: 8.8 | T37: 18.8 | U37: 19.8 | V37: 13 | W37: 8 | X37: 8.8 | Y37: 3.8
A38: Arnhem, Klein Warnsborn | B38: 0 | C38: 1.8 | D38: 5.8 | E38: 1 | F38: 5 | G38: 3 | H38: 3.8 | I38: 4 | J38: 5 | K38: 12 | L38: 6.8 | M38: 6 | N38: 5.8 | O38: 5.8 | P38: 9 | Q38: 8 | R38: 14.8 | S38: 8.8 | T38: 18.8 | U38: 19.8 | V38: 13 | W38: 8 | X38: 8.8 | Y38: 3.8
A39: Arnhem, Schelmseweg | B39: 1.8 | C39: 2 | D39: 5.8 | E39: 1 | F39: 5.8 | G39: 4 | H39: 4 | I39: 4.8 | J39: 5.8 | K39: 12 | L39: 6.8 | M39: 6 | N39: 7 | O39: 6.8 | P39: 9.8 | Q39: 13.8 | R39: 15.8 | S39: 9 | T39: 19.8 | U39: 20.8 | V39: 13 | W39: 8 | X39: 9 | Y39: 4.8
A40: Arnhem, Het Dorp | B40: 1.8 | C40: 2 | D40: 5.8 | E40: 1.8 | F40: 6.8 | G40: 5 | H40: 5.8 | I40: 5 | J40: 6 | K40: 13.6 | L40: 9.6 | M40: 8 | N40: 8 | O40: 7 | P40: 10.8 | Q40: 23.6 | R40: 19 | S40: 10 | T40: 25.4 | U40: 21.8 | V40: 15.8 | W40: 9 | X40: 9 | Y40: 5 | Z40: 0 | AA40: 0 | AB40: 1
A41: Arnhem, Callunastraat | B41: 2 | C41: 3 | D41: 5.8 | E41: 2.8 | F41: 6.8 | G41: 5 | H41: 5.8 | I41: 5.8 | J41: 6 | K41: 13.6 | L41: 9.8 | M41: 9.8 | N41: 8 | O41: 7 | P41: 10.8 | Q41: 24.6 | R41: 20.6 | S41: 11.8 | T41: 32.4 | U41: 21.8 | V41: 16 | W41: 10 | X41: 9.8 | Y41: 5 | Z41: 0 | AA41: 0.8 | AB41: 1
A42: Arnhem, Gentiaanstraat | B42: 3 | C42: 4 | D42: 5.8 | E42: 2.8 | F42: 7 | G42: 6 | H42: 6.8 | I42: 6.8 | J42: 6.8 | K42: 14 | L42: 10 | M42: 10 | N42: 9.6 | O42: 8 | P42: 11.8 | Q42: 24.6 | R42: 20.5 | S42: 12 | T42: 32 | U42: 22.6 | V42: 16.8 | W42: 10 | X42: 10 | Y42: 5.8 | Z42: 0.8 | AA42: 1 | AB42: 1
A43: Arnhem, Tormentilstraat | B43: 3 | C43: 4 | D43: 6.8 | E43: 3 | F43: 8 | G43: 6.8 | H43: 7 | I43: 8.8 | J43: 8.8 | K43: 18 | L43: 11 | M43: 10.8 | N43: 13.8 | O43: 11 | P43: 14 | Q43: 31.2 | R43: 23.6 | S43: 13.8 | T43: 32.8 | U43: 23.6 | V43: 17 | W43: 10 | X43: 10 | Y43: 6 | Z43: 1 | AA43: 1 | AB43: 1
A44: Arnhem, van Wageningenstraat | B44: 3.8 | C44: 4 | D44: 7 | E44: 3 | F44: 8 | G44: 8 | H44: 7.8 | I44: 8.8 | J44: 9.6 | K44: 18 | L44: 12 | M44: 11.6 | N44: 15.6 | O44: 12.8 | P44: 14.8 | Q44: 31.8 | R44: 23.6 | S44: 13 | T44: 32 | U44: 22.8 | V44: 17.8 | W44: 10 | X44: 10 | Y44: 6 | Z44: 1 | AA44: 1 | AB44: 1.8
A45: Arnhem, Brouwerijweg | B45: 3.8 | C45: 4.8 | D45: 7.8 | E45: 3 | F45: 7.8 | G45: 8 | H45: 8 | I45: 9 | J45: 10.8 | K45: 17.6 | L45: 12 | M45: 12.6 | N45: 15.6 | O45: 13 | P45: 15.6 | Q45: 31.8 | R45: 23.4 | S45: 14 | T45: 31.8 | U45: 22.8 | V45: 17.8 | W45: 10.8 | X45: 10 | Y45: 6 | Z45: 2 | AA45: 1 | AB45: 1.8
A46: Arnhem, Burg. Weertsstraat | B46: 4 | C46: 5 | D46: 8.8 | E46: 3.8 | F46: 7.8 | G46: 8 | H46: 8 | I46: 9 | J46: 10.8 | K46: 17 | L46: 12 | M46: 12.8 | N46: 13.8 | O46: 14 | P46: 14.8 | Q46: 30.8 | R46: 20 | S46: 16 | T46: 32.3 | U46: 21.8 | V46: 17 | W46: 10.8 | X46: 10.8 | Y46: 7 | Z46: 2 | AA46: 2 | AB46: 2
...

Sheet A010 - in uitstap per halte
B2: Lijn A010 - ri.1 - nov 2023 | F2: Lijn A010 - ri.2 - nov 2023 | J2: Lijn A010 - ri.1 - nov 2023 | N2: Lijn A010 - ri.2 - nov 2023 | R2: Lijn A010 - ri.1 - nov 2023 | V2: Lijn A010 - ri.2 - nov 2023
B3: werkdag-gemiddelde | C3: CI | D3: CO | F3: werkdag-gemiddelde | G3: CI | H3: CO | J3: zaterdag-gemiddelde | K3: CI | L3: CO | N3: zaterdag-gemiddelde | O3: CI | P3: CO | R3: zondag-gemiddelde | S3: CI | T3: CO | V3: zondag-gemiddelde | W3: CI | X3: CO
B4: Total | C4: =SUM(C5:C21) -> 344.7 | D4: =SUM(D5:D21) -> 312 | F4: Total | G4: =SUM(G5:G21) -> 270.8 | H4: =SUM(H5:H21) -> 267.8 | J4: Total | K4: =SUM(K5:K18) -> 49.7 | L4: =SUM(L5:L18) -> 48.2 | N4: Total | O4: =SUM(O5:O18) -> 35.8 | P4: =SUM(P5:P18) -> 35.7 | R4: Total | S4: =SUM(S15:S21) -> 0 | T4: =SUM(T15:T21) -> 0 | V4: Total | W4: =SUM(W15:W21) -> 0 | X4: =SUM(X15:X21) -> 0
